BEGIN:VCALENDAR
VERSION:2.0
PRODID:-//Aristaeus Craft Brewing Co. - ECPv6.15.20//NONSGML v1.0//EN
CALSCALE:GREGORIAN
METHOD:PUBLISH
X-ORIGINAL-URL:https://aristaeusbrewing.com
X-WR-CALDESC:Events for Aristaeus Craft Brewing Co.
REFRESH-INTERVAL;VALUE=DURATION:PT1H
X-Robots-Tag:noindex
X-PUBLISHED-TTL:PT1H
BEGIN:VTIMEZONE
TZID:America/New_York
BEGIN:DAYLIGHT
TZOFFSETFROM:-0500
TZOFFSETTO:-0400
TZNAME:EDT
DTSTART:20220313T070000
END:DAYLIGHT
BEGIN:STANDARD
TZOFFSETFROM:-0400
TZOFFSETTO:-0500
TZNAME:EST
DTSTART:20221106T060000
END:STANDARD
BEGIN:DAYLIGHT
TZOFFSETFROM:-0500
TZOFFSETTO:-0400
TZNAME:EDT
DTSTART:20230312T070000
END:DAYLIGHT
BEGIN:STANDARD
TZOFFSETFROM:-0400
TZOFFSETTO:-0500
TZNAME:EST
DTSTART:20231105T060000
END:STANDARD
BEGIN:DAYLIGHT
TZOFFSETFROM:-0500
TZOFFSETTO:-0400
TZNAME:EDT
DTSTART:20240310T070000
END:DAYLIGHT
BEGIN:STANDARD
TZOFFSETFROM:-0400
TZOFFSETTO:-0500
TZNAME:EST
DTSTART:20241103T060000
END:STANDARD
END:VTIMEZONE
BEGIN:VEVENT
DTSTART;TZID=America/New_York:20230819T190000
DTEND;TZID=America/New_York:20230819T220000
DTSTAMP:20260420T004605
CREATED:20230706T201253Z
LAST-MODIFIED:20230706T201253Z
UID:10000731-1692471600-1692482400@aristaeusbrewing.com
SUMMARY:Music: Running Down the Dream
DESCRIPTION:
URL:https://aristaeusbrewing.com/event/music-running-down-the-dream/
LOCATION:Aristaeus Craft Brewing Co.\, 2475C Big Oak Road\, Langhorne\, PA\, 19047\, United States
CATEGORIES:Music
GEO:40.71839;-73.989891
X-APPLE-STRUCTURED-LOCATION;VALUE=URI;X-ADDRESS=Aristaeus Craft Brewing Co. 2475C Big Oak Road Langhorne PA 19047 United States;X-APPLE-RADIUS=500;X-TITLE=2475C Big Oak Road:geo:-73.989891,40.71839
END:VEVENT
BEGIN:VEVENT
DTSTART;TZID=America/New_York:20230820T130000
DTEND;TZID=America/New_York:20230820T180000
DTSTAMP:20260420T004605
CREATED:20230707T204913Z
LAST-MODIFIED:20230707T204913Z
UID:10000746-1692536400-1692554400@aristaeusbrewing.com
SUMMARY:Food Truck: Brooklyn's Famous Pizza
DESCRIPTION:
URL:https://aristaeusbrewing.com/event/food-truck-brooklyns-famous-pizza/
LOCATION:Aristaeus Craft Brewing Co.\, 2475C Big Oak Road\, Langhorne\, PA\, 19047\, United States
CATEGORIES:Food Truck
GEO:40.71839;-73.989891
X-APPLE-STRUCTURED-LOCATION;VALUE=URI;X-ADDRESS=Aristaeus Craft Brewing Co. 2475C Big Oak Road Langhorne PA 19047 United States;X-APPLE-RADIUS=500;X-TITLE=2475C Big Oak Road:geo:-73.989891,40.71839
END:VEVENT
BEGIN:VEVENT
DTSTART;TZID=America/New_York:20230820T150000
DTEND;TZID=America/New_York:20230820T180000
DTSTAMP:20260420T004605
CREATED:20230706T201323Z
LAST-MODIFIED:20230706T201323Z
UID:10000732-1692543600-1692554400@aristaeusbrewing.com
SUMMARY:Music: Jonathn Ashe
DESCRIPTION:
URL:https://aristaeusbrewing.com/event/music-jonathn-ashe-12/
LOCATION:Aristaeus Craft Brewing Co.\, 2475C Big Oak Road\, Langhorne\, PA\, 19047\, United States
CATEGORIES:Music
ATTACH;FMTTYPE=image/jpeg:https://aristaeusbrewing.com/wp-content/uploads/2022/03/jonathn-ashe-at-aristaeus-brewing.jpg
GEO:40.71839;-73.989891
X-APPLE-STRUCTURED-LOCATION;VALUE=URI;X-ADDRESS=Aristaeus Craft Brewing Co. 2475C Big Oak Road Langhorne PA 19047 United States;X-APPLE-RADIUS=500;X-TITLE=2475C Big Oak Road:geo:-73.989891,40.71839
END:VEVENT
BEGIN:VEVENT
DTSTART;TZID=America/New_York:20230823T160000
DTEND;TZID=America/New_York:20230823T200000
DTSTAMP:20260420T004605
CREATED:20230707T170304Z
LAST-MODIFIED:20230707T170304Z
UID:10000744-1692806400-1692820800@aristaeusbrewing.com
SUMMARY:Food Truck: Lui's Kitchen
DESCRIPTION:
URL:https://aristaeusbrewing.com/event/food-truck-luis-kitchen-5/
LOCATION:Aristaeus Craft Brewing Co.\, 2475C Big Oak Road\, Langhorne\, PA\, 19047\, United States
CATEGORIES:Food Truck
ATTACH;FMTTYPE=image/jpeg:https://aristaeusbrewing.com/wp-content/uploads/2023/04/luis-kitchen-aristaeus-craft-brewing-co.jpg
GEO:40.71839;-73.989891
X-APPLE-STRUCTURED-LOCATION;VALUE=URI;X-ADDRESS=Aristaeus Craft Brewing Co. 2475C Big Oak Road Langhorne PA 19047 United States;X-APPLE-RADIUS=500;X-TITLE=2475C Big Oak Road:geo:-73.989891,40.71839
END:VEVENT
BEGIN:VEVENT
DTSTART;TZID=America/New_York:20230824T160000
DTEND;TZID=America/New_York:20230824T210000
DTSTAMP:20260420T004605
CREATED:20230706T201441Z
LAST-MODIFIED:20230706T201441Z
UID:10000733-1692892800-1692910800@aristaeusbrewing.com
SUMMARY:Food Truck: Burrito Feliz
DESCRIPTION:
URL:https://aristaeusbrewing.com/event/food-truck-burrito-feliz-2/
LOCATION:Aristaeus Craft Brewing Co.\, 2475C Big Oak Road\, Langhorne\, PA\, 19047\, United States
CATEGORIES:Food Truck
GEO:40.71839;-73.989891
X-APPLE-STRUCTURED-LOCATION;VALUE=URI;X-ADDRESS=Aristaeus Craft Brewing Co. 2475C Big Oak Road Langhorne PA 19047 United States;X-APPLE-RADIUS=500;X-TITLE=2475C Big Oak Road:geo:-73.989891,40.71839
END:VEVENT
BEGIN:VEVENT
DTSTART;TZID=America/New_York:20230825T160000
DTEND;TZID=America/New_York:20230825T210000
DTSTAMP:20260420T004605
CREATED:20230706T201521Z
LAST-MODIFIED:20230706T201521Z
UID:10000734-1692979200-1692997200@aristaeusbrewing.com
SUMMARY:Food Truck: Daddy's Kitchen
DESCRIPTION:
URL:https://aristaeusbrewing.com/event/food-truck-daddys-kitchen-17/
LOCATION:Aristaeus Craft Brewing Co.\, 2475C Big Oak Road\, Langhorne\, PA\, 19047\, United States
CATEGORIES:Food Truck
ATTACH;FMTTYPE=image/jpeg:https://aristaeusbrewing.com/wp-content/uploads/2022/12/daddys-kitchen-aristaeus-brewing.jpg
GEO:40.71839;-73.989891
X-APPLE-STRUCTURED-LOCATION;VALUE=URI;X-ADDRESS=Aristaeus Craft Brewing Co. 2475C Big Oak Road Langhorne PA 19047 United States;X-APPLE-RADIUS=500;X-TITLE=2475C Big Oak Road:geo:-73.989891,40.71839
END:VEVENT
BEGIN:VEVENT
DTSTART;TZID=America/New_York:20230825T190000
DTEND;TZID=America/New_York:20230825T220000
DTSTAMP:20260420T004605
CREATED:20230706T201549Z
LAST-MODIFIED:20230706T201549Z
UID:10000735-1692990000-1693000800@aristaeusbrewing.com
SUMMARY:Music: Faraway Guys
DESCRIPTION:
URL:https://aristaeusbrewing.com/event/music-faraway-guys-6/
LOCATION:Aristaeus Craft Brewing Co.\, 2475C Big Oak Road\, Langhorne\, PA\, 19047\, United States
CATEGORIES:Music
ATTACH;FMTTYPE=image/jpeg:https://aristaeusbrewing.com/wp-content/uploads/2022/03/faraway-guys-at-aristaeus-brewing.jpg
GEO:40.71839;-73.989891
X-APPLE-STRUCTURED-LOCATION;VALUE=URI;X-ADDRESS=Aristaeus Craft Brewing Co. 2475C Big Oak Road Langhorne PA 19047 United States;X-APPLE-RADIUS=500;X-TITLE=2475C Big Oak Road:geo:-73.989891,40.71839
END:VEVENT
BEGIN:VEVENT
DTSTART;TZID=America/New_York:20230826T130000
DTEND;TZID=America/New_York:20230826T210000
DTSTAMP:20260420T004605
CREATED:20230706T201615Z
LAST-MODIFIED:20230706T201615Z
UID:10000736-1693054800-1693083600@aristaeusbrewing.com
SUMMARY:Food Truck: King Gyro
DESCRIPTION:
URL:https://aristaeusbrewing.com/event/food-truck-king-gyro/
LOCATION:Aristaeus Craft Brewing Co.\, 2475C Big Oak Road\, Langhorne\, PA\, 19047\, United States
CATEGORIES:Food Truck
GEO:40.71839;-73.989891
X-APPLE-STRUCTURED-LOCATION;VALUE=URI;X-ADDRESS=Aristaeus Craft Brewing Co. 2475C Big Oak Road Langhorne PA 19047 United States;X-APPLE-RADIUS=500;X-TITLE=2475C Big Oak Road:geo:-73.989891,40.71839
END:VEVENT
BEGIN:VEVENT
DTSTART;TZID=America/New_York:20230826T150000
DTEND;TZID=America/New_York:20230826T180000
DTSTAMP:20260420T004605
CREATED:20230706T201638Z
LAST-MODIFIED:20230706T201638Z
UID:10000737-1693062000-1693072800@aristaeusbrewing.com
SUMMARY:Music: Summer Grove Band
DESCRIPTION:
URL:https://aristaeusbrewing.com/event/music-summer-grove-band-2/
LOCATION:Aristaeus Craft Brewing Co.\, 2475C Big Oak Road\, Langhorne\, PA\, 19047\, United States
CATEGORIES:Music
GEO:40.71839;-73.989891
X-APPLE-STRUCTURED-LOCATION;VALUE=URI;X-ADDRESS=Aristaeus Craft Brewing Co. 2475C Big Oak Road Langhorne PA 19047 United States;X-APPLE-RADIUS=500;X-TITLE=2475C Big Oak Road:geo:-73.989891,40.71839
END:VEVENT
BEGIN:VEVENT
DTSTART;TZID=America/New_York:20230827T130000
DTEND;TZID=America/New_York:20230827T180000
DTSTAMP:20260420T004605
CREATED:20230706T201715Z
LAST-MODIFIED:20230706T201715Z
UID:10000738-1693141200-1693159200@aristaeusbrewing.com
SUMMARY:Food Truck: Bad Mother Shuckers
DESCRIPTION:
URL:https://aristaeusbrewing.com/event/food-truck-bad-mother-shuckers-13/
LOCATION:Aristaeus Craft Brewing Co.\, 2475C Big Oak Road\, Langhorne\, PA\, 19047\, United States
CATEGORIES:Food Truck
ATTACH;FMTTYPE=image/jpeg:https://aristaeusbrewing.com/wp-content/uploads/2023/03/bad-mother-shuckers-aristaeus-craft-brewing-co.jpg
GEO:40.71839;-73.989891
X-APPLE-STRUCTURED-LOCATION;VALUE=URI;X-ADDRESS=Aristaeus Craft Brewing Co. 2475C Big Oak Road Langhorne PA 19047 United States;X-APPLE-RADIUS=500;X-TITLE=2475C Big Oak Road:geo:-73.989891,40.71839
END:VEVENT
BEGIN:VEVENT
DTSTART;TZID=America/New_York:20230827T150000
DTEND;TZID=America/New_York:20230827T180000
DTSTAMP:20260420T004605
CREATED:20230706T201758Z
LAST-MODIFIED:20230706T201758Z
UID:10000739-1693148400-1693159200@aristaeusbrewing.com
SUMMARY:Music: High Tide Tom
DESCRIPTION:
URL:https://aristaeusbrewing.com/event/music-high-tide-tom/
LOCATION:Aristaeus Craft Brewing Co.\, 2475C Big Oak Road\, Langhorne\, PA\, 19047\, United States
CATEGORIES:Music
GEO:40.71839;-73.989891
X-APPLE-STRUCTURED-LOCATION;VALUE=URI;X-ADDRESS=Aristaeus Craft Brewing Co. 2475C Big Oak Road Langhorne PA 19047 United States;X-APPLE-RADIUS=500;X-TITLE=2475C Big Oak Road:geo:-73.989891,40.71839
END:VEVENT
BEGIN:VEVENT
DTSTART;TZID=America/New_York:20230830T160000
DTEND;TZID=America/New_York:20230830T200000
DTSTAMP:20260420T004605
CREATED:20230707T170238Z
LAST-MODIFIED:20230707T170238Z
UID:10000743-1693411200-1693425600@aristaeusbrewing.com
SUMMARY:Food Truck: Thai It Up
DESCRIPTION:
URL:https://aristaeusbrewing.com/event/food-truck-thai-it-up-24/
LOCATION:Aristaeus Craft Brewing Co.\, 2475C Big Oak Road\, Langhorne\, PA\, 19047\, United States
CATEGORIES:Food Truck
ATTACH;FMTTYPE=image/jpeg:https://aristaeusbrewing.com/wp-content/uploads/2022/06/thai-it-up-aristaeus-craft-brewing-co.jpg
GEO:40.71839;-73.989891
X-APPLE-STRUCTURED-LOCATION;VALUE=URI;X-ADDRESS=Aristaeus Craft Brewing Co. 2475C Big Oak Road Langhorne PA 19047 United States;X-APPLE-RADIUS=500;X-TITLE=2475C Big Oak Road:geo:-73.989891,40.71839
END:VEVENT
BEGIN:VEVENT
DTSTART;TZID=America/New_York:20230831T160000
DTEND;TZID=America/New_York:20230831T210000
DTSTAMP:20260420T004605
CREATED:20230707T170530Z
LAST-MODIFIED:20230707T170530Z
UID:10000745-1693497600-1693515600@aristaeusbrewing.com
SUMMARY:Food Truck: Taco the Town
DESCRIPTION:
URL:https://aristaeusbrewing.com/event/food-truck-taco-the-town-2/
LOCATION:Aristaeus Craft Brewing Co.\, 2475C Big Oak Road\, Langhorne\, PA\, 19047\, United States
CATEGORIES:Food Truck
GEO:40.71839;-73.989891
X-APPLE-STRUCTURED-LOCATION;VALUE=URI;X-ADDRESS=Aristaeus Craft Brewing Co. 2475C Big Oak Road Langhorne PA 19047 United States;X-APPLE-RADIUS=500;X-TITLE=2475C Big Oak Road:geo:-73.989891,40.71839
END:VEVENT
BEGIN:VEVENT
DTSTART;TZID=America/New_York:20230901T160000
DTEND;TZID=America/New_York:20230901T210000
DTSTAMP:20260420T004605
CREATED:20230817T215746Z
LAST-MODIFIED:20230817T215746Z
UID:10000750-1693584000-1693602000@aristaeusbrewing.com
SUMMARY:Food Truck: Daddy's Kitchen
DESCRIPTION:
URL:https://aristaeusbrewing.com/event/food-truck-daddys-kitchen-18/
LOCATION:Aristaeus Craft Brewing Co.\, 2475C Big Oak Road\, Langhorne\, PA\, 19047\, United States
CATEGORIES:Food Truck
ATTACH;FMTTYPE=image/jpeg:https://aristaeusbrewing.com/wp-content/uploads/2022/12/daddys-kitchen-aristaeus-brewing.jpg
GEO:40.71839;-73.989891
X-APPLE-STRUCTURED-LOCATION;VALUE=URI;X-ADDRESS=Aristaeus Craft Brewing Co. 2475C Big Oak Road Langhorne PA 19047 United States;X-APPLE-RADIUS=500;X-TITLE=2475C Big Oak Road:geo:-73.989891,40.71839
END:VEVENT
BEGIN:VEVENT
DTSTART;TZID=America/New_York:20230901T190000
DTEND;TZID=America/New_York:20230901T220000
DTSTAMP:20260420T004605
CREATED:20230817T222258Z
LAST-MODIFIED:20230817T222258Z
UID:10000757-1693594800-1693605600@aristaeusbrewing.com
SUMMARY:Music: Nick Mich
DESCRIPTION:
URL:https://aristaeusbrewing.com/event/music-nick-mich-6/
LOCATION:Aristaeus Craft Brewing Co.\, 2475C Big Oak Road\, Langhorne\, PA\, 19047\, United States
CATEGORIES:Music
ATTACH;FMTTYPE=image/jpeg:https://aristaeusbrewing.com/wp-content/uploads/2022/03/nick-mich-at-aristaeus-brewing.jpg
GEO:40.71839;-73.989891
X-APPLE-STRUCTURED-LOCATION;VALUE=URI;X-ADDRESS=Aristaeus Craft Brewing Co. 2475C Big Oak Road Langhorne PA 19047 United States;X-APPLE-RADIUS=500;X-TITLE=2475C Big Oak Road:geo:-73.989891,40.71839
END:VEVENT
BEGIN:VEVENT
DTSTART;TZID=America/New_York:20230902T120000
DTEND;TZID=America/New_York:20230902T210000
DTSTAMP:20260420T004605
CREATED:20230817T220349Z
LAST-MODIFIED:20230817T220349Z
UID:10000753-1693656000-1693688400@aristaeusbrewing.com
SUMMARY:Food Truck: Lobster Dogs
DESCRIPTION:
URL:https://aristaeusbrewing.com/event/food-truck-lobster-dogs-18/
LOCATION:Aristaeus Craft Brewing Co.\, 2475C Big Oak Road\, Langhorne\, PA\, 19047\, United States
CATEGORIES:Food Truck
ATTACH;FMTTYPE=image/jpeg:https://aristaeusbrewing.com/wp-content/uploads/2021/10/lobster-dog-at-aristaeus-brewing-ec-rev.jpg
GEO:40.71839;-73.989891
X-APPLE-STRUCTURED-LOCATION;VALUE=URI;X-ADDRESS=Aristaeus Craft Brewing Co. 2475C Big Oak Road Langhorne PA 19047 United States;X-APPLE-RADIUS=500;X-TITLE=2475C Big Oak Road:geo:-73.989891,40.71839
END:VEVENT
BEGIN:VEVENT
DTSTART;TZID=America/New_York:20230903T130000
DTEND;TZID=America/New_York:20230903T180000
DTSTAMP:20260420T004605
CREATED:20230817T222125Z
LAST-MODIFIED:20230817T222125Z
UID:10000755-1693746000-1693764000@aristaeusbrewing.com
SUMMARY:Food Truck: Southern Style Seafood
DESCRIPTION:
URL:https://aristaeusbrewing.com/event/food-truck-southern-style-seafood-6/
LOCATION:Aristaeus Craft Brewing Co.\, 2475C Big Oak Road\, Langhorne\, PA\, 19047\, United States
CATEGORIES:Food Truck
ATTACH;FMTTYPE=image/jpeg:https://aristaeusbrewing.com/wp-content/uploads/2022/06/southern-style-seafood-aristaeus-craft-brewing.jpg
GEO:40.71839;-73.989891
X-APPLE-STRUCTURED-LOCATION;VALUE=URI;X-ADDRESS=Aristaeus Craft Brewing Co. 2475C Big Oak Road Langhorne PA 19047 United States;X-APPLE-RADIUS=500;X-TITLE=2475C Big Oak Road:geo:-73.989891,40.71839
END:VEVENT
BEGIN:VEVENT
DTSTART;TZID=America/New_York:20230906T160000
DTEND;TZID=America/New_York:20230906T200000
DTSTAMP:20260420T004605
CREATED:20230817T222508Z
LAST-MODIFIED:20230817T222508Z
UID:10000758-1694016000-1694030400@aristaeusbrewing.com
SUMMARY:Food Truck: Lui's Kitchen
DESCRIPTION:
URL:https://aristaeusbrewing.com/event/food-truck-luis-kitchen-7/
LOCATION:Aristaeus Craft Brewing Co.\, 2475C Big Oak Road\, Langhorne\, PA\, 19047\, United States
CATEGORIES:Food Truck
ATTACH;FMTTYPE=image/jpeg:https://aristaeusbrewing.com/wp-content/uploads/2023/04/luis-kitchen-aristaeus-craft-brewing-co.jpg
GEO:40.71839;-73.989891
X-APPLE-STRUCTURED-LOCATION;VALUE=URI;X-ADDRESS=Aristaeus Craft Brewing Co. 2475C Big Oak Road Langhorne PA 19047 United States;X-APPLE-RADIUS=500;X-TITLE=2475C Big Oak Road:geo:-73.989891,40.71839
END:VEVENT
BEGIN:VEVENT
DTSTART;TZID=America/New_York:20230907T170000
DTEND;TZID=America/New_York:20230907T210000
DTSTAMP:20260420T004605
CREATED:20230817T223731Z
LAST-MODIFIED:20230817T223731Z
UID:10000470-1694106000-1694120400@aristaeusbrewing.com
SUMMARY:Food Truck: Kono Pizza
DESCRIPTION:
URL:https://aristaeusbrewing.com/event/food-truck-kono-pizza-19/
LOCATION:Aristaeus Craft Brewing Co.\, 2475C Big Oak Road\, Langhorne\, PA\, 19047\, United States
CATEGORIES:Food Truck
ATTACH;FMTTYPE=image/jpeg:https://aristaeusbrewing.com/wp-content/uploads/2021/09/kono-pizza-at-aristaeus-brewing.jpg
GEO:40.71839;-73.989891
X-APPLE-STRUCTURED-LOCATION;VALUE=URI;X-ADDRESS=Aristaeus Craft Brewing Co. 2475C Big Oak Road Langhorne PA 19047 United States;X-APPLE-RADIUS=500;X-TITLE=2475C Big Oak Road:geo:-73.989891,40.71839
END:VEVENT
BEGIN:VEVENT
DTSTART;TZID=America/New_York:20230908T160000
DTEND;TZID=America/New_York:20230908T210000
DTSTAMP:20260420T004605
CREATED:20230817T223820Z
LAST-MODIFIED:20230817T223820Z
UID:10000472-1694188800-1694206800@aristaeusbrewing.com
SUMMARY:Food Truck: El Sabor del Bajio
DESCRIPTION:
URL:https://aristaeusbrewing.com/event/food-truck-el-sabor-del-bajio-57/
LOCATION:Aristaeus Craft Brewing Co.\, 2475C Big Oak Road\, Langhorne\, PA\, 19047\, United States
CATEGORIES:Food Truck
ATTACH;FMTTYPE=image/jpeg:https://aristaeusbrewing.com/wp-content/uploads/2021/09/el-sabor-at-aristaeus-brewing-ec-1.jpg
GEO:40.71839;-73.989891
X-APPLE-STRUCTURED-LOCATION;VALUE=URI;X-ADDRESS=Aristaeus Craft Brewing Co. 2475C Big Oak Road Langhorne PA 19047 United States;X-APPLE-RADIUS=500;X-TITLE=2475C Big Oak Road:geo:-73.989891,40.71839
END:VEVENT
BEGIN:VEVENT
DTSTART;TZID=America/New_York:20230909T130000
DTEND;TZID=America/New_York:20230909T180000
DTSTAMP:20260420T004605
CREATED:20230803T174846Z
LAST-MODIFIED:20230906T145014Z
UID:10000749-1694264400-1694282400@aristaeusbrewing.com
SUMMARY:CANCELLED: Orchard Fest 2023
DESCRIPTION:We have made the difficult decision to cancel Orchard Fest 2023 on Saturday. We were fully prepared for a rain or shine event but the possibility of strong thunderstorms in the afternoon presents a safety issue that we cannot ignore\, especially in an orchard filled with trees. The safety of our guests\, performers\, staff\, and vendors is paramount and we take that responsibility to our community seriously. We do not want to put anyone in a potentially dangerous situation while attending or getting to/from the event.  \nRefunds for all tickets purchased have already been initiated. If you purchased a ticket\, you should have received a confirmation of the refund via email.
URL:https://aristaeusbrewing.com/event/orchard-fest-2023/
LOCATION:Styer Orchard\, 97 Styers Lane\, Langhorne\, PA\, 19047\, United States
CATEGORIES:Events
ATTACH;FMTTYPE=image/jpeg:https://aristaeusbrewing.com/wp-content/uploads/2023/08/Orchard-Fest-2023-FB-Event-Cover.jpg
END:VEVENT
BEGIN:VEVENT
DTSTART;TZID=America/New_York:20230909T130000
DTEND;TZID=America/New_York:20230909T210000
DTSTAMP:20260420T004605
CREATED:20230906T145406Z
LAST-MODIFIED:20230906T145406Z
UID:10000765-1694264400-1694293200@aristaeusbrewing.com
SUMMARY:Food Truck: Daddy's Kitchen
DESCRIPTION:
URL:https://aristaeusbrewing.com/event/food-truck-daddys-kitchen-21/
LOCATION:Aristaeus Craft Brewing Co.\, 2475C Big Oak Road\, Langhorne\, PA\, 19047\, United States
CATEGORIES:Food Truck
ATTACH;FMTTYPE=image/jpeg:https://aristaeusbrewing.com/wp-content/uploads/2022/12/daddys-kitchen-aristaeus-brewing.jpg
GEO:40.71839;-73.989891
X-APPLE-STRUCTURED-LOCATION;VALUE=URI;X-ADDRESS=Aristaeus Craft Brewing Co. 2475C Big Oak Road Langhorne PA 19047 United States;X-APPLE-RADIUS=500;X-TITLE=2475C Big Oak Road:geo:-73.989891,40.71839
END:VEVENT
BEGIN:VEVENT
DTSTART;TZID=America/New_York:20230910T130000
DTEND;TZID=America/New_York:20230910T180000
DTSTAMP:20260420T004605
CREATED:20230905T162527Z
LAST-MODIFIED:20230905T162527Z
UID:10000764-1694350800-1694368800@aristaeusbrewing.com
SUMMARY:Food Truck: King Gyro
DESCRIPTION:
URL:https://aristaeusbrewing.com/event/food-truck-king-gyro-3/
LOCATION:Aristaeus Craft Brewing Co.\, 2475C Big Oak Road\, Langhorne\, PA\, 19047\, United States
CATEGORIES:Food Truck
GEO:40.71839;-73.989891
X-APPLE-STRUCTURED-LOCATION;VALUE=URI;X-ADDRESS=Aristaeus Craft Brewing Co. 2475C Big Oak Road Langhorne PA 19047 United States;X-APPLE-RADIUS=500;X-TITLE=2475C Big Oak Road:geo:-73.989891,40.71839
END:VEVENT
BEGIN:VEVENT
DTSTART;TZID=America/New_York:20230914T160000
DTEND;TZID=America/New_York:20230914T210000
DTSTAMP:20260420T004605
CREATED:20230817T220406Z
LAST-MODIFIED:20230908T184313Z
UID:10000754-1694707200-1694725200@aristaeusbrewing.com
SUMMARY:Food Truck: Lobster Dogs
DESCRIPTION:
URL:https://aristaeusbrewing.com/event/food-truck-lobster-dogs-19/
LOCATION:Aristaeus Craft Brewing Co.\, 2475C Big Oak Road\, Langhorne\, PA\, 19047\, United States
CATEGORIES:Food Truck
ATTACH;FMTTYPE=image/jpeg:https://aristaeusbrewing.com/wp-content/uploads/2021/10/lobster-dog-at-aristaeus-brewing-ec-rev.jpg
GEO:40.71839;-73.989891
X-APPLE-STRUCTURED-LOCATION;VALUE=URI;X-ADDRESS=Aristaeus Craft Brewing Co. 2475C Big Oak Road Langhorne PA 19047 United States;X-APPLE-RADIUS=500;X-TITLE=2475C Big Oak Road:geo:-73.989891,40.71839
END:VEVENT
BEGIN:VEVENT
DTSTART;TZID=America/New_York:20230914T190000
DTEND;TZID=America/New_York:20230914T210000
DTSTAMP:20260420T004605
CREATED:20230426T130943Z
LAST-MODIFIED:20230908T184357Z
UID:10000665-1694718000-1694725200@aristaeusbrewing.com
SUMMARY:NO TRIVIA THIS WEEK
DESCRIPTION:
URL:https://aristaeusbrewing.com/event/trivia-night-9-2023-09-14/
LOCATION:Aristaeus Craft Brewing Co.\, 2475C Big Oak Road\, Langhorne\, PA\, 19047\, United States
CATEGORIES:Events
GEO:40.71839;-73.989891
X-APPLE-STRUCTURED-LOCATION;VALUE=URI;X-ADDRESS=Aristaeus Craft Brewing Co. 2475C Big Oak Road Langhorne PA 19047 United States;X-APPLE-RADIUS=500;X-TITLE=2475C Big Oak Road:geo:-73.989891,40.71839
END:VEVENT
BEGIN:VEVENT
DTSTART;TZID=America/New_York:20230915T160000
DTEND;TZID=America/New_York:20230915T210000
DTSTAMP:20260420T004605
CREATED:20230817T223859Z
LAST-MODIFIED:20230817T223859Z
UID:10000474-1694793600-1694811600@aristaeusbrewing.com
SUMMARY:Food Truck: El Sabor del Bajio
DESCRIPTION:
URL:https://aristaeusbrewing.com/event/food-truck-el-sabor-del-bajio-58/
LOCATION:Aristaeus Craft Brewing Co.\, 2475C Big Oak Road\, Langhorne\, PA\, 19047\, United States
CATEGORIES:Food Truck
ATTACH;FMTTYPE=image/jpeg:https://aristaeusbrewing.com/wp-content/uploads/2021/10/el-sabor-at-aristaeus-brewing-r.jpg
GEO:40.71839;-73.989891
X-APPLE-STRUCTURED-LOCATION;VALUE=URI;X-ADDRESS=Aristaeus Craft Brewing Co. 2475C Big Oak Road Langhorne PA 19047 United States;X-APPLE-RADIUS=500;X-TITLE=2475C Big Oak Road:geo:-73.989891,40.71839
END:VEVENT
BEGIN:VEVENT
DTSTART;TZID=America/New_York:20230916T130000
DTEND;TZID=America/New_York:20230916T210000
DTSTAMP:20260420T004605
CREATED:20230817T222146Z
LAST-MODIFIED:20230914T130041Z
UID:10000756-1694869200-1694898000@aristaeusbrewing.com
SUMMARY:Food Truck: King Gyro
DESCRIPTION:
URL:https://aristaeusbrewing.com/event/food-truck-king-gyro-9-16/
LOCATION:Aristaeus Craft Brewing Co.\, 2475C Big Oak Road\, Langhorne\, PA\, 19047\, United States
CATEGORIES:Food Truck
GEO:40.71839;-73.989891
X-APPLE-STRUCTURED-LOCATION;VALUE=URI;X-ADDRESS=Aristaeus Craft Brewing Co. 2475C Big Oak Road Langhorne PA 19047 United States;X-APPLE-RADIUS=500;X-TITLE=2475C Big Oak Road:geo:-73.989891,40.71839
END:VEVENT
BEGIN:VEVENT
DTSTART;TZID=America/New_York:20230917T130000
DTEND;TZID=America/New_York:20230917T180000
DTSTAMP:20260420T004605
CREATED:20230818T000900Z
LAST-MODIFIED:20230818T000900Z
UID:10000478-1694955600-1694973600@aristaeusbrewing.com
SUMMARY:Food Truck: Taco the Town
DESCRIPTION:
URL:https://aristaeusbrewing.com/event/food-truck-taco-the-town/
LOCATION:Aristaeus Craft Brewing Co.\, 2475C Big Oak Road\, Langhorne\, PA\, 19047\, United States
CATEGORIES:Food Truck
GEO:40.71839;-73.989891
X-APPLE-STRUCTURED-LOCATION;VALUE=URI;X-ADDRESS=Aristaeus Craft Brewing Co. 2475C Big Oak Road Langhorne PA 19047 United States;X-APPLE-RADIUS=500;X-TITLE=2475C Big Oak Road:geo:-73.989891,40.71839
END:VEVENT
BEGIN:VEVENT
DTSTART;TZID=America/New_York:20230920T160000
DTEND;TZID=America/New_York:20230920T200000
DTSTAMP:20260420T004605
CREATED:20230818T143729Z
LAST-MODIFIED:20230818T143729Z
UID:10000479-1695225600-1695240000@aristaeusbrewing.com
SUMMARY:Food Truck: Thai It Up
DESCRIPTION:
URL:https://aristaeusbrewing.com/event/food-truck-thai-it-up-25/
LOCATION:Aristaeus Craft Brewing Co.\, 2475C Big Oak Road\, Langhorne\, PA\, 19047\, United States
CATEGORIES:Food Truck
ATTACH;FMTTYPE=image/jpeg:https://aristaeusbrewing.com/wp-content/uploads/2022/06/thai-it-up-aristaeus-craft-brewing-co.jpg
GEO:40.71839;-73.989891
X-APPLE-STRUCTURED-LOCATION;VALUE=URI;X-ADDRESS=Aristaeus Craft Brewing Co. 2475C Big Oak Road Langhorne PA 19047 United States;X-APPLE-RADIUS=500;X-TITLE=2475C Big Oak Road:geo:-73.989891,40.71839
END:VEVENT
BEGIN:VEVENT
DTSTART;TZID=America/New_York:20230921T160000
DTEND;TZID=America/New_York:20230921T210000
DTSTAMP:20260420T004605
CREATED:20230817T222543Z
LAST-MODIFIED:20230817T222543Z
UID:10000469-1695312000-1695330000@aristaeusbrewing.com
SUMMARY:Food Truck: Lui's Kitchen
DESCRIPTION:
URL:https://aristaeusbrewing.com/event/food-truck-luis-kitchen-8/
LOCATION:Aristaeus Craft Brewing Co.\, 2475C Big Oak Road\, Langhorne\, PA\, 19047\, United States
CATEGORIES:Food Truck
ATTACH;FMTTYPE=image/jpeg:https://aristaeusbrewing.com/wp-content/uploads/2023/04/luis-kitchen-aristaeus-craft-brewing-co.jpg
GEO:40.71839;-73.989891
X-APPLE-STRUCTURED-LOCATION;VALUE=URI;X-ADDRESS=Aristaeus Craft Brewing Co. 2475C Big Oak Road Langhorne PA 19047 United States;X-APPLE-RADIUS=500;X-TITLE=2475C Big Oak Road:geo:-73.989891,40.71839
END:VEVENT
END:VCALENDAR