BEGIN:VCALENDAR
VERSION:2.0
PRODID:-//Aristaeus Craft Brewing Co. - ECPv6.15.20//NONSGML v1.0//EN
CALSCALE:GREGORIAN
METHOD:PUBLISH
X-WR-CALNAME:Aristaeus Craft Brewing Co.
X-ORIGINAL-URL:https://aristaeusbrewing.com
X-WR-CALDESC:Events for Aristaeus Craft Brewing Co.
REFRESH-INTERVAL;VALUE=DURATION:PT1H
X-Robots-Tag:noindex
X-PUBLISHED-TTL:PT1H
BEGIN:VTIMEZONE
TZID:America/New_York
BEGIN:DAYLIGHT
TZOFFSETFROM:-0500
TZOFFSETTO:-0400
TZNAME:EDT
DTSTART:20210314T070000
END:DAYLIGHT
BEGIN:STANDARD
TZOFFSETFROM:-0400
TZOFFSETTO:-0500
TZNAME:EST
DTSTART:20211107T060000
END:STANDARD
BEGIN:DAYLIGHT
TZOFFSETFROM:-0500
TZOFFSETTO:-0400
TZNAME:EDT
DTSTART:20220313T070000
END:DAYLIGHT
BEGIN:STANDARD
TZOFFSETFROM:-0400
TZOFFSETTO:-0500
TZNAME:EST
DTSTART:20221106T060000
END:STANDARD
BEGIN:DAYLIGHT
TZOFFSETFROM:-0500
TZOFFSETTO:-0400
TZNAME:EDT
DTSTART:20230312T070000
END:DAYLIGHT
BEGIN:STANDARD
TZOFFSETFROM:-0400
TZOFFSETTO:-0500
TZNAME:EST
DTSTART:20231105T060000
END:STANDARD
END:VTIMEZONE
BEGIN:VEVENT
DTSTART;TZID=America/New_York:20220624T160000
DTEND;TZID=America/New_York:20220624T210000
DTSTAMP:20260419T232212
CREATED:20220311T175505Z
LAST-MODIFIED:20220503T221214Z
UID:10000274-1656086400-1656104400@aristaeusbrewing.com
SUMMARY:Food Truck: Kono Pizza
DESCRIPTION:
URL:https://aristaeusbrewing.com/event/food-truck-konopizza/
LOCATION:Aristaeus Craft Brewing Co.\, 2475C Big Oak Road\, Langhorne\, PA\, 19047\, United States
CATEGORIES:Food Truck
ATTACH;FMTTYPE=image/jpeg:https://aristaeusbrewing.com/wp-content/uploads/2021/09/kono-pizza-at-aristaeus-brewing.jpg
GEO:40.71839;-73.989891
X-APPLE-STRUCTURED-LOCATION;VALUE=URI;X-ADDRESS=Aristaeus Craft Brewing Co. 2475C Big Oak Road Langhorne PA 19047 United States;X-APPLE-RADIUS=500;X-TITLE=2475C Big Oak Road:geo:-73.989891,40.71839
END:VEVENT
BEGIN:VEVENT
DTSTART;TZID=America/New_York:20220623T160000
DTEND;TZID=America/New_York:20220623T210000
DTSTAMP:20260419T232212
CREATED:20220311T175103Z
LAST-MODIFIED:20220311T175103Z
UID:10000270-1656000000-1656018000@aristaeusbrewing.com
SUMMARY:Food Truck: Lunchboxxx
DESCRIPTION:
URL:https://aristaeusbrewing.com/event/food-truck-lunchboxxx-22/
LOCATION:Aristaeus Craft Brewing Co.\, 2475C Big Oak Road\, Langhorne\, PA\, 19047\, United States
CATEGORIES:Food Truck
ATTACH;FMTTYPE=image/jpeg:https://aristaeusbrewing.com/wp-content/uploads/2021/09/lunchboxxx-at-aristaeus-brewing-ec-1.jpg
GEO:40.71839;-73.989891
X-APPLE-STRUCTURED-LOCATION;VALUE=URI;X-ADDRESS=Aristaeus Craft Brewing Co. 2475C Big Oak Road Langhorne PA 19047 United States;X-APPLE-RADIUS=500;X-TITLE=2475C Big Oak Road:geo:-73.989891,40.71839
END:VEVENT
BEGIN:VEVENT
DTSTART;TZID=America/New_York:20220622T160000
DTEND;TZID=America/New_York:20220622T210000
DTSTAMP:20260419T232212
CREATED:20220321T222929Z
LAST-MODIFIED:20220419T153600Z
UID:10000130-1655913600-1655931600@aristaeusbrewing.com
SUMMARY:Food Truck: El Sabor del Bajío
DESCRIPTION:
URL:https://aristaeusbrewing.com/event/food-truck-el-sabor-del-bajio-28/
LOCATION:Aristaeus Craft Brewing Co.\, 2475C Big Oak Road\, Langhorne\, PA\, 19047\, United States
CATEGORIES:Food Truck
ATTACH;FMTTYPE=image/jpeg:https://aristaeusbrewing.com/wp-content/uploads/2021/09/el-sabor-at-aristaeus-brewing-ec-1.jpg
GEO:40.71839;-73.989891
X-APPLE-STRUCTURED-LOCATION;VALUE=URI;X-ADDRESS=Aristaeus Craft Brewing Co. 2475C Big Oak Road Langhorne PA 19047 United States;X-APPLE-RADIUS=500;X-TITLE=2475C Big Oak Road:geo:-73.989891,40.71839
END:VEVENT
BEGIN:VEVENT
DTSTART;TZID=America/New_York:20220619T120000
DTEND;TZID=America/New_York:20220619T170000
DTSTAMP:20260419T232212
CREATED:20220311T175356Z
LAST-MODIFIED:20220311T175356Z
UID:10000273-1655640000-1655658000@aristaeusbrewing.com
SUMMARY:Food Truck: Jay's Steak and Hoagies
DESCRIPTION:
URL:https://aristaeusbrewing.com/event/food-truck-jays-steak-and-hoagies-3/
LOCATION:Aristaeus Craft Brewing Co.\, 2475C Big Oak Road\, Langhorne\, PA\, 19047\, United States
CATEGORIES:Food Truck
ATTACH;FMTTYPE=image/jpeg:https://aristaeusbrewing.com/wp-content/uploads/2022/03/jays-joint-at-aristaeus-brewing.jpg
GEO:40.71839;-73.989891
X-APPLE-STRUCTURED-LOCATION;VALUE=URI;X-ADDRESS=Aristaeus Craft Brewing Co. 2475C Big Oak Road Langhorne PA 19047 United States;X-APPLE-RADIUS=500;X-TITLE=2475C Big Oak Road:geo:-73.989891,40.71839
END:VEVENT
BEGIN:VEVENT
DTSTART;TZID=America/New_York:20220618T150000
DTEND;TZID=America/New_York:20220618T180000
DTSTAMP:20260419T232212
CREATED:20220603T160456Z
LAST-MODIFIED:20220603T170517Z
UID:10000168-1655564400-1655575200@aristaeusbrewing.com
SUMMARY:Music: The Unplugged Band
DESCRIPTION:
URL:https://aristaeusbrewing.com/event/music-the-unplugged-band/
LOCATION:Aristaeus Craft Brewing Co.\, 2475C Big Oak Road\, Langhorne\, PA\, 19047\, United States
CATEGORIES:Music
GEO:40.71839;-73.989891
X-APPLE-STRUCTURED-LOCATION;VALUE=URI;X-ADDRESS=Aristaeus Craft Brewing Co. 2475C Big Oak Road Langhorne PA 19047 United States;X-APPLE-RADIUS=500;X-TITLE=2475C Big Oak Road:geo:-73.989891,40.71839
END:VEVENT
BEGIN:VEVENT
DTSTART;TZID=America/New_York:20220618T120000
DTEND;TZID=America/New_York:20220618T200000
DTSTAMP:20260419T232212
CREATED:20220614T173223Z
LAST-MODIFIED:20220614T173223Z
UID:10000371-1655553600-1655582400@aristaeusbrewing.com
SUMMARY:Food Truck: Thai It Up
DESCRIPTION:
URL:https://aristaeusbrewing.com/event/food-truck-thai-it-up/
LOCATION:Aristaeus Craft Brewing Co.\, 2475C Big Oak Road\, Langhorne\, PA\, 19047\, United States
CATEGORIES:Food Truck
ATTACH;FMTTYPE=image/jpeg:https://aristaeusbrewing.com/wp-content/uploads/2022/06/thai-it-up-aristaeus-craft-brewing-co.jpg
GEO:40.71839;-73.989891
X-APPLE-STRUCTURED-LOCATION;VALUE=URI;X-ADDRESS=Aristaeus Craft Brewing Co. 2475C Big Oak Road Langhorne PA 19047 United States;X-APPLE-RADIUS=500;X-TITLE=2475C Big Oak Road:geo:-73.989891,40.71839
END:VEVENT
BEGIN:VEVENT
DTSTART;TZID=America/New_York:20220617T190000
DTEND;TZID=America/New_York:20220617T220000
DTSTAMP:20260419T232212
CREATED:20220328T163359Z
LAST-MODIFIED:20220328T163359Z
UID:10000140-1655492400-1655503200@aristaeusbrewing.com
SUMMARY:Music: John Thomas
DESCRIPTION:
URL:https://aristaeusbrewing.com/event/music-john-thomas-4/
LOCATION:Aristaeus Craft Brewing Co.\, 2475C Big Oak Road\, Langhorne\, PA\, 19047\, United States
CATEGORIES:Music
ATTACH;FMTTYPE=image/jpeg:https://aristaeusbrewing.com/wp-content/uploads/2022/03/john-thomas-at-aristaeus-brewing.jpg
GEO:40.71839;-73.989891
X-APPLE-STRUCTURED-LOCATION;VALUE=URI;X-ADDRESS=Aristaeus Craft Brewing Co. 2475C Big Oak Road Langhorne PA 19047 United States;X-APPLE-RADIUS=500;X-TITLE=2475C Big Oak Road:geo:-73.989891,40.71839
END:VEVENT
BEGIN:VEVENT
DTSTART;TZID=America/New_York:20220617T160000
DTEND;TZID=America/New_York:20220617T210000
DTSTAMP:20260419T232212
CREATED:20220311T175250Z
LAST-MODIFIED:20220311T175250Z
UID:10000272-1655481600-1655499600@aristaeusbrewing.com
SUMMARY:Food Truck: Surf and Turf
DESCRIPTION:
URL:https://aristaeusbrewing.com/event/food-truck-surf-and-turf-4/
LOCATION:Aristaeus Craft Brewing Co.\, 2475C Big Oak Road\, Langhorne\, PA\, 19047\, United States
CATEGORIES:Food Truck
ATTACH;FMTTYPE=image/jpeg:https://aristaeusbrewing.com/wp-content/uploads/2021/09/surf-and-turf-at-aristaeus-brewing.jpg
GEO:40.71839;-73.989891
X-APPLE-STRUCTURED-LOCATION;VALUE=URI;X-ADDRESS=Aristaeus Craft Brewing Co. 2475C Big Oak Road Langhorne PA 19047 United States;X-APPLE-RADIUS=500;X-TITLE=2475C Big Oak Road:geo:-73.989891,40.71839
END:VEVENT
BEGIN:VEVENT
DTSTART;TZID=America/New_York:20220616T160000
DTEND;TZID=America/New_York:20220616T200000
DTSTAMP:20260419T232212
CREATED:20220311T175152Z
LAST-MODIFIED:20220311T175152Z
UID:10000271-1655395200-1655409600@aristaeusbrewing.com
SUMMARY:Food Truck: Kono Pizza
DESCRIPTION:
URL:https://aristaeusbrewing.com/event/food-truck-kono-pizza-5/
LOCATION:Aristaeus Craft Brewing Co.\, 2475C Big Oak Road\, Langhorne\, PA\, 19047\, United States
CATEGORIES:Food Truck
ATTACH;FMTTYPE=image/jpeg:https://aristaeusbrewing.com/wp-content/uploads/2021/09/kono-pizza-at-aristaeus-brewing.jpg
GEO:40.71839;-73.989891
X-APPLE-STRUCTURED-LOCATION;VALUE=URI;X-ADDRESS=Aristaeus Craft Brewing Co. 2475C Big Oak Road Langhorne PA 19047 United States;X-APPLE-RADIUS=500;X-TITLE=2475C Big Oak Road:geo:-73.989891,40.71839
END:VEVENT
BEGIN:VEVENT
DTSTART;TZID=America/New_York:20220612T140000
DTEND;TZID=America/New_York:20220612T170000
DTSTAMP:20260419T232212
CREATED:20220301T195357Z
LAST-MODIFIED:20220301T195357Z
UID:10000232-1655042400-1655053200@aristaeusbrewing.com
SUMMARY:Music: Faye Meyer
DESCRIPTION:
URL:https://aristaeusbrewing.com/event/music-faye-meyer-5/
LOCATION:Aristaeus Craft Brewing Co.\, 2475C Big Oak Road\, Langhorne\, PA\, 19047\, United States
CATEGORIES:Music
ATTACH;FMTTYPE=image/jpeg:https://aristaeusbrewing.com/wp-content/uploads/2022/02/faye-meyer-at-aristaeus-brewing.jpg
GEO:40.71839;-73.989891
X-APPLE-STRUCTURED-LOCATION;VALUE=URI;X-ADDRESS=Aristaeus Craft Brewing Co. 2475C Big Oak Road Langhorne PA 19047 United States;X-APPLE-RADIUS=500;X-TITLE=2475C Big Oak Road:geo:-73.989891,40.71839
END:VEVENT
BEGIN:VEVENT
DTSTART;TZID=America/New_York:20220612T120000
DTEND;TZID=America/New_York:20220612T170000
DTSTAMP:20260419T232212
CREATED:20220311T175056Z
LAST-MODIFIED:20220311T175056Z
UID:10000269-1655035200-1655053200@aristaeusbrewing.com
SUMMARY:Food Truck: Lunchboxxx
DESCRIPTION:
URL:https://aristaeusbrewing.com/event/food-truck-lunchboxxx-21/
LOCATION:Aristaeus Craft Brewing Co.\, 2475C Big Oak Road\, Langhorne\, PA\, 19047\, United States
CATEGORIES:Food Truck
ATTACH;FMTTYPE=image/jpeg:https://aristaeusbrewing.com/wp-content/uploads/2021/09/lunchboxxx-at-aristaeus-brewing-ec-2.jpg
GEO:40.71839;-73.989891
X-APPLE-STRUCTURED-LOCATION;VALUE=URI;X-ADDRESS=Aristaeus Craft Brewing Co. 2475C Big Oak Road Langhorne PA 19047 United States;X-APPLE-RADIUS=500;X-TITLE=2475C Big Oak Road:geo:-73.989891,40.71839
END:VEVENT
BEGIN:VEVENT
DTSTART;TZID=America/New_York:20220611T150000
DTEND;TZID=America/New_York:20220611T180000
DTSTAMP:20260419T232212
CREATED:20220328T164419Z
LAST-MODIFIED:20220603T170523Z
UID:10000288-1654959600-1654970400@aristaeusbrewing.com
SUMMARY:Music: Jonathn Ashe
DESCRIPTION:
URL:https://aristaeusbrewing.com/event/music-jonathn-ashe-4/
LOCATION:Aristaeus Craft Brewing Co.\, 2475C Big Oak Road\, Langhorne\, PA\, 19047\, United States
CATEGORIES:Music
ATTACH;FMTTYPE=image/jpeg:https://aristaeusbrewing.com/wp-content/uploads/2022/03/jonathn-ashe-at-aristaeus-brewing.jpg
GEO:40.71839;-73.989891
X-APPLE-STRUCTURED-LOCATION;VALUE=URI;X-ADDRESS=Aristaeus Craft Brewing Co. 2475C Big Oak Road Langhorne PA 19047 United States;X-APPLE-RADIUS=500;X-TITLE=2475C Big Oak Road:geo:-73.989891,40.71839
END:VEVENT
BEGIN:VEVENT
DTSTART;TZID=America/New_York:20220611T120000
DTEND;TZID=America/New_York:20220611T200000
DTSTAMP:20260419T232212
CREATED:20220603T160323Z
LAST-MODIFIED:20220603T160323Z
UID:10000166-1654948800-1654977600@aristaeusbrewing.com
SUMMARY:Food Truck: The Vegan Table
DESCRIPTION:
URL:https://aristaeusbrewing.com/event/food-truck-the-vegan-table-2/
LOCATION:Aristaeus Craft Brewing Co.\, 2475C Big Oak Road\, Langhorne\, PA\, 19047\, United States
CATEGORIES:Food Truck
ATTACH;FMTTYPE=image/jpeg:https://aristaeusbrewing.com/wp-content/uploads/2022/04/the-vegan-table-at-aristaeus-brewing.jpg
GEO:40.71839;-73.989891
X-APPLE-STRUCTURED-LOCATION;VALUE=URI;X-ADDRESS=Aristaeus Craft Brewing Co. 2475C Big Oak Road Langhorne PA 19047 United States;X-APPLE-RADIUS=500;X-TITLE=2475C Big Oak Road:geo:-73.989891,40.71839
END:VEVENT
BEGIN:VEVENT
DTSTART;TZID=America/New_York:20220610T190000
DTEND;TZID=America/New_York:20220610T220000
DTSTAMP:20260419T232212
CREATED:20220603T160216Z
LAST-MODIFIED:20220603T160216Z
UID:10000164-1654887600-1654898400@aristaeusbrewing.com
SUMMARY:Music: Beth Arnold Gilbert
DESCRIPTION:
URL:https://aristaeusbrewing.com/event/music-beth-arnold-gilbert-3/
LOCATION:Aristaeus Craft Brewing Co.\, 2475C Big Oak Road\, Langhorne\, PA\, 19047\, United States
CATEGORIES:Music
ATTACH;FMTTYPE=image/jpeg:https://aristaeusbrewing.com/wp-content/uploads/2022/02/beth-arnold-gilbert-at-aristaeus-brewing.jpg
GEO:40.71839;-73.989891
X-APPLE-STRUCTURED-LOCATION;VALUE=URI;X-ADDRESS=Aristaeus Craft Brewing Co. 2475C Big Oak Road Langhorne PA 19047 United States;X-APPLE-RADIUS=500;X-TITLE=2475C Big Oak Road:geo:-73.989891,40.71839
END:VEVENT
BEGIN:VEVENT
DTSTART;TZID=America/New_York:20220610T120000
DTEND;TZID=America/New_York:20220610T170000
DTSTAMP:20260419T232212
CREATED:20220406T172318Z
LAST-MODIFIED:20220406T172318Z
UID:10000290-1654862400-1654880400@aristaeusbrewing.com
SUMMARY:Food Truck: Smokin Rev and Lady Q’s Gourmet BBQ
DESCRIPTION:
URL:https://aristaeusbrewing.com/event/food-truck-smokin-rev-and-lady-qs-gourmet-bbq-5/
LOCATION:Aristaeus Craft Brewing Co.\, 2475C Big Oak Road\, Langhorne\, PA\, 19047\, United States
CATEGORIES:Food Truck
ATTACH;FMTTYPE=image/jpeg:https://aristaeusbrewing.com/wp-content/uploads/2021/10/smokin-revs-and-lady-q-at-aristaeus-brewing.jpg
GEO:40.71839;-73.989891
X-APPLE-STRUCTURED-LOCATION;VALUE=URI;X-ADDRESS=Aristaeus Craft Brewing Co. 2475C Big Oak Road Langhorne PA 19047 United States;X-APPLE-RADIUS=500;X-TITLE=2475C Big Oak Road:geo:-73.989891,40.71839
END:VEVENT
BEGIN:VEVENT
DTSTART;TZID=America/New_York:20220609T160000
DTEND;TZID=America/New_York:20220609T210000
DTSTAMP:20260419T232212
CREATED:20220311T174837Z
LAST-MODIFIED:20220321T222740Z
UID:10000266-1654790400-1654808400@aristaeusbrewing.com
SUMMARY:Food Truck: El Sabor del Bajío
DESCRIPTION:
URL:https://aristaeusbrewing.com/event/food-truck-el-sabor-del-bajio-26/
LOCATION:Aristaeus Craft Brewing Co.\, 2475C Big Oak Road\, Langhorne\, PA\, 19047\, United States
CATEGORIES:Food Truck
ATTACH;FMTTYPE=image/jpeg:https://aristaeusbrewing.com/wp-content/uploads/2021/10/el-sabor-at-aristaeus-brewing-r.jpg
GEO:40.71839;-73.989891
X-APPLE-STRUCTURED-LOCATION;VALUE=URI;X-ADDRESS=Aristaeus Craft Brewing Co. 2475C Big Oak Road Langhorne PA 19047 United States;X-APPLE-RADIUS=500;X-TITLE=2475C Big Oak Road:geo:-73.989891,40.71839
END:VEVENT
BEGIN:VEVENT
DTSTART;TZID=America/New_York:20220605T140000
DTEND;TZID=America/New_York:20220605T170000
DTSTAMP:20260419T232212
CREATED:20220301T194150Z
LAST-MODIFIED:20220301T194150Z
UID:10000104-1654437600-1654448400@aristaeusbrewing.com
SUMMARY:Music: Bill Thomas
DESCRIPTION:
URL:https://aristaeusbrewing.com/event/music-bill-thomas-4/
LOCATION:Aristaeus Craft Brewing Co.\, 2475C Big Oak Road\, Langhorne\, PA\, 19047\, United States
CATEGORIES:Music
GEO:40.71839;-73.989891
X-APPLE-STRUCTURED-LOCATION;VALUE=URI;X-ADDRESS=Aristaeus Craft Brewing Co. 2475C Big Oak Road Langhorne PA 19047 United States;X-APPLE-RADIUS=500;X-TITLE=2475C Big Oak Road:geo:-73.989891,40.71839
END:VEVENT
BEGIN:VEVENT
DTSTART;TZID=America/New_York:20220605T120000
DTEND;TZID=America/New_York:20220605T170000
DTSTAMP:20260419T232212
CREATED:20220527T135559Z
LAST-MODIFIED:20220602T203737Z
UID:10000162-1654430400-1654448400@aristaeusbrewing.com
SUMMARY:Food Truck: United Crepes of America
DESCRIPTION:
URL:https://aristaeusbrewing.com/event/food-truck-united-crepes-america/
LOCATION:Aristaeus Craft Brewing Co.\, 2475C Big Oak Road\, Langhorne\, PA\, 19047\, United States
CATEGORIES:Food Truck
ATTACH;FMTTYPE=image/jpeg:https://aristaeusbrewing.com/wp-content/uploads/2022/05/united-crepes-america-at-aristaeus-craft-brewing-co.jpg
GEO:40.71839;-73.989891
X-APPLE-STRUCTURED-LOCATION;VALUE=URI;X-ADDRESS=Aristaeus Craft Brewing Co. 2475C Big Oak Road Langhorne PA 19047 United States;X-APPLE-RADIUS=500;X-TITLE=2475C Big Oak Road:geo:-73.989891,40.71839
END:VEVENT
BEGIN:VEVENT
DTSTART;TZID=America/New_York:20220604T150000
DTEND;TZID=America/New_York:20220604T180000
DTSTAMP:20260419T232212
CREATED:20220301T194106Z
LAST-MODIFIED:20220301T194106Z
UID:10000102-1654354800-1654365600@aristaeusbrewing.com
SUMMARY:Music: Dana Collins Project
DESCRIPTION:
URL:https://aristaeusbrewing.com/event/music-dana-collins-project-2/
LOCATION:Aristaeus Craft Brewing Co.\, 2475C Big Oak Road\, Langhorne\, PA\, 19047\, United States
CATEGORIES:Music
ATTACH;FMTTYPE=image/jpeg:https://aristaeusbrewing.com/wp-content/uploads/2022/02/dana-collins-at-aristaeus-brewing.jpg
GEO:40.71839;-73.989891
X-APPLE-STRUCTURED-LOCATION;VALUE=URI;X-ADDRESS=Aristaeus Craft Brewing Co. 2475C Big Oak Road Langhorne PA 19047 United States;X-APPLE-RADIUS=500;X-TITLE=2475C Big Oak Road:geo:-73.989891,40.71839
END:VEVENT
BEGIN:VEVENT
DTSTART;TZID=America/New_York:20220604T130000
DTEND;TZID=America/New_York:20220604T200000
DTSTAMP:20260419T232212
CREATED:20220603T171245Z
LAST-MODIFIED:20220603T171245Z
UID:10000367-1654347600-1654372800@aristaeusbrewing.com
SUMMARY:Mr. Big Stuff Cookie Co.
DESCRIPTION:
URL:https://aristaeusbrewing.com/event/mr-big-stuff-cookie-co/
LOCATION:Aristaeus Craft Brewing Co.\, 2475C Big Oak Road\, Langhorne\, PA\, 19047\, United States
CATEGORIES:Food Truck
ATTACH;FMTTYPE=image/jpeg:https://aristaeusbrewing.com/wp-content/uploads/2022/01/mr-big-stuff-cookie-co-at-aristaeus-brewing.jpg
GEO:40.71839;-73.989891
X-APPLE-STRUCTURED-LOCATION;VALUE=URI;X-ADDRESS=Aristaeus Craft Brewing Co. 2475C Big Oak Road Langhorne PA 19047 United States;X-APPLE-RADIUS=500;X-TITLE=2475C Big Oak Road:geo:-73.989891,40.71839
END:VEVENT
BEGIN:VEVENT
DTSTART;TZID=America/New_York:20220604T120000
DTEND;TZID=America/New_York:20220604T200000
DTSTAMP:20260419T232212
CREATED:20220311T174908Z
LAST-MODIFIED:20220311T174908Z
UID:10000267-1654344000-1654372800@aristaeusbrewing.com
SUMMARY:Food Truck: Thai Cha Chak
DESCRIPTION:
URL:https://aristaeusbrewing.com/event/food-truck-thai-cha-chak-9/
LOCATION:Aristaeus Craft Brewing Co.\, 2475C Big Oak Road\, Langhorne\, PA\, 19047\, United States
CATEGORIES:Food Truck
ATTACH;FMTTYPE=image/jpeg:https://aristaeusbrewing.com/wp-content/uploads/2021/11/thai-cha-chak-at-aristaeus-brewing.jpg
GEO:40.71839;-73.989891
X-APPLE-STRUCTURED-LOCATION;VALUE=URI;X-ADDRESS=Aristaeus Craft Brewing Co. 2475C Big Oak Road Langhorne PA 19047 United States;X-APPLE-RADIUS=500;X-TITLE=2475C Big Oak Road:geo:-73.989891,40.71839
END:VEVENT
BEGIN:VEVENT
DTSTART;TZID=America/New_York:20220603T190000
DTEND;TZID=America/New_York:20220603T220000
DTSTAMP:20260419T232212
CREATED:20220301T194016Z
LAST-MODIFIED:20220301T194016Z
UID:10000100-1654282800-1654293600@aristaeusbrewing.com
SUMMARY:Music: Skylar Love
DESCRIPTION:
URL:https://aristaeusbrewing.com/event/music-skylar-love-2/
LOCATION:Aristaeus Craft Brewing Co.\, 2475C Big Oak Road\, Langhorne\, PA\, 19047\, United States
CATEGORIES:Music
ATTACH;FMTTYPE=image/jpeg:https://aristaeusbrewing.com/wp-content/uploads/2022/02/skylar-love-at-aristaeus-brewing.jpg
GEO:40.71839;-73.989891
X-APPLE-STRUCTURED-LOCATION;VALUE=URI;X-ADDRESS=Aristaeus Craft Brewing Co. 2475C Big Oak Road Langhorne PA 19047 United States;X-APPLE-RADIUS=500;X-TITLE=2475C Big Oak Road:geo:-73.989891,40.71839
END:VEVENT
BEGIN:VEVENT
DTSTART;TZID=America/New_York:20220603T160000
DTEND;TZID=America/New_York:20220603T210000
DTSTAMP:20260419T232212
CREATED:20220311T171028Z
LAST-MODIFIED:20220311T171028Z
UID:10000265-1654272000-1654290000@aristaeusbrewing.com
SUMMARY:Food Truck: Lobster Dogs
DESCRIPTION:
URL:https://aristaeusbrewing.com/event/food-truck-lobster-dogs-3/
LOCATION:Aristaeus Craft Brewing Co.\, 2475C Big Oak Road\, Langhorne\, PA\, 19047\, United States
CATEGORIES:Food Truck
ATTACH;FMTTYPE=image/jpeg:https://aristaeusbrewing.com/wp-content/uploads/2021/10/lobster-dog-at-aristaeus-brewing-ec-rev.jpg
GEO:40.71839;-73.989891
X-APPLE-STRUCTURED-LOCATION;VALUE=URI;X-ADDRESS=Aristaeus Craft Brewing Co. 2475C Big Oak Road Langhorne PA 19047 United States;X-APPLE-RADIUS=500;X-TITLE=2475C Big Oak Road:geo:-73.989891,40.71839
END:VEVENT
BEGIN:VEVENT
DTSTART;TZID=America/New_York:20220602T160000
DTEND;TZID=America/New_York:20220602T210000
DTSTAMP:20260419T232212
CREATED:20220311T170927Z
LAST-MODIFIED:20220531T172156Z
UID:10000264-1654185600-1654203600@aristaeusbrewing.com
SUMMARY:Food Truck: The Vegan Table
DESCRIPTION:
URL:https://aristaeusbrewing.com/event/food-truck-the-vegan-table1/
LOCATION:Aristaeus Craft Brewing Co.\, 2475C Big Oak Road\, Langhorne\, PA\, 19047\, United States
CATEGORIES:Food Truck
ATTACH;FMTTYPE=image/jpeg:https://aristaeusbrewing.com/wp-content/uploads/2022/04/the-vegan-table-at-aristaeus-brewing.jpg
GEO:40.71839;-73.989891
X-APPLE-STRUCTURED-LOCATION;VALUE=URI;X-ADDRESS=Aristaeus Craft Brewing Co. 2475C Big Oak Road Langhorne PA 19047 United States;X-APPLE-RADIUS=500;X-TITLE=2475C Big Oak Road:geo:-73.989891,40.71839
END:VEVENT
BEGIN:VEVENT
DTSTART;TZID=America/New_York:20220529T140000
DTEND;TZID=America/New_York:20220529T170000
DTSTAMP:20260419T232212
CREATED:20220301T195333Z
LAST-MODIFIED:20220518T003919Z
UID:10000231-1653832800-1653843600@aristaeusbrewing.com
SUMMARY:Music: Faye Meyer
DESCRIPTION:
URL:https://aristaeusbrewing.com/event/music-faye-meyer-4/
LOCATION:Aristaeus Craft Brewing Co.\, 2475C Big Oak Road\, Langhorne\, PA\, 19047\, United States
CATEGORIES:Music
ATTACH;FMTTYPE=image/jpeg:https://aristaeusbrewing.com/wp-content/uploads/2022/02/faye-meyer-at-aristaeus-brewing.jpg
GEO:40.71839;-73.989891
X-APPLE-STRUCTURED-LOCATION;VALUE=URI;X-ADDRESS=Aristaeus Craft Brewing Co. 2475C Big Oak Road Langhorne PA 19047 United States;X-APPLE-RADIUS=500;X-TITLE=2475C Big Oak Road:geo:-73.989891,40.71839
END:VEVENT
BEGIN:VEVENT
DTSTART;TZID=America/New_York:20220529T120000
DTEND;TZID=America/New_York:20220529T170000
DTSTAMP:20260419T232212
CREATED:20220311T170242Z
LAST-MODIFIED:20220311T170242Z
UID:10000251-1653825600-1653843600@aristaeusbrewing.com
SUMMARY:Food Truck: Maui Lu Hawaiian BBQ
DESCRIPTION:
URL:https://aristaeusbrewing.com/event/food-truck-maui-lu-hawaiian-bbq-7/
LOCATION:Aristaeus Craft Brewing Co.\, 2475C Big Oak Road\, Langhorne\, PA\, 19047\, United States
CATEGORIES:Food Truck
ATTACH;FMTTYPE=image/jpeg:https://aristaeusbrewing.com/wp-content/uploads/2021/09/maui-lu-at-aristaeus-brewing.jpg
GEO:40.71839;-73.989891
X-APPLE-STRUCTURED-LOCATION;VALUE=URI;X-ADDRESS=Aristaeus Craft Brewing Co. 2475C Big Oak Road Langhorne PA 19047 United States;X-APPLE-RADIUS=500;X-TITLE=2475C Big Oak Road:geo:-73.989891,40.71839
END:VEVENT
BEGIN:VEVENT
DTSTART;TZID=America/New_York:20220528T150000
DTEND;TZID=America/New_York:20220528T180000
DTSTAMP:20260419T232212
CREATED:20220301T193821Z
LAST-MODIFIED:20220301T193821Z
UID:10000096-1653750000-1653760800@aristaeusbrewing.com
SUMMARY:Music: Bill Thomas
DESCRIPTION:
URL:https://aristaeusbrewing.com/event/music-bill-thomas-3/
LOCATION:Aristaeus Craft Brewing Co.\, 2475C Big Oak Road\, Langhorne\, PA\, 19047\, United States
CATEGORIES:Music
GEO:40.71839;-73.989891
X-APPLE-STRUCTURED-LOCATION;VALUE=URI;X-ADDRESS=Aristaeus Craft Brewing Co. 2475C Big Oak Road Langhorne PA 19047 United States;X-APPLE-RADIUS=500;X-TITLE=2475C Big Oak Road:geo:-73.989891,40.71839
END:VEVENT
BEGIN:VEVENT
DTSTART;TZID=America/New_York:20220528T140000
DTEND;TZID=America/New_York:20220528T200000
DTSTAMP:20260419T232212
CREATED:20220311T170605Z
LAST-MODIFIED:20220527T135409Z
UID:10000259-1653746400-1653768000@aristaeusbrewing.com
SUMMARY:Food Truck: Smoke Break BBQ
DESCRIPTION:
URL:https://aristaeusbrewing.com/event/food-truck-smoke-break-bbq/
LOCATION:Aristaeus Craft Brewing Co.\, 2475C Big Oak Road\, Langhorne\, PA\, 19047\, United States
CATEGORIES:Food Truck
ATTACH;FMTTYPE=image/jpeg:https://aristaeusbrewing.com/wp-content/uploads/2022/03/smoke-break-bbq-at-aristaeus-brewing.jpg
GEO:40.71839;-73.989891
X-APPLE-STRUCTURED-LOCATION;VALUE=URI;X-ADDRESS=Aristaeus Craft Brewing Co. 2475C Big Oak Road Langhorne PA 19047 United States;X-APPLE-RADIUS=500;X-TITLE=2475C Big Oak Road:geo:-73.989891,40.71839
END:VEVENT
BEGIN:VEVENT
DTSTART;TZID=America/New_York:20220527T190000
DTEND;TZID=America/New_York:20220527T220000
DTSTAMP:20260419T232212
CREATED:20220328T163336Z
LAST-MODIFIED:20220328T163336Z
UID:10000138-1653678000-1653688800@aristaeusbrewing.com
SUMMARY:Music: John Thomas
DESCRIPTION:
URL:https://aristaeusbrewing.com/event/music-john-thomas-3/
LOCATION:Aristaeus Craft Brewing Co.\, 2475C Big Oak Road\, Langhorne\, PA\, 19047\, United States
CATEGORIES:Music
ATTACH;FMTTYPE=image/jpeg:https://aristaeusbrewing.com/wp-content/uploads/2022/03/john-thomas-at-aristaeus-brewing.jpg
GEO:40.71839;-73.989891
X-APPLE-STRUCTURED-LOCATION;VALUE=URI;X-ADDRESS=Aristaeus Craft Brewing Co. 2475C Big Oak Road Langhorne PA 19047 United States;X-APPLE-RADIUS=500;X-TITLE=2475C Big Oak Road:geo:-73.989891,40.71839
END:VEVENT
BEGIN:VEVENT
DTSTART;TZID=America/New_York:20220527T160000
DTEND;TZID=America/New_York:20220527T210000
DTSTAMP:20260419T232212
CREATED:20220311T165719Z
LAST-MODIFIED:20220311T165751Z
UID:10000243-1653667200-1653685200@aristaeusbrewing.com
SUMMARY:Food Truck: Lunchboxxx
DESCRIPTION:
URL:https://aristaeusbrewing.com/event/food-truck-lunchboxxx-20/
LOCATION:Aristaeus Craft Brewing Co.\, 2475C Big Oak Road\, Langhorne\, PA\, 19047\, United States
CATEGORIES:Food Truck
ATTACH;FMTTYPE=image/jpeg:https://aristaeusbrewing.com/wp-content/uploads/2021/09/lunchboxxx-at-aristaeus-brewing-ec-2.jpg
GEO:40.71839;-73.989891
X-APPLE-STRUCTURED-LOCATION;VALUE=URI;X-ADDRESS=Aristaeus Craft Brewing Co. 2475C Big Oak Road Langhorne PA 19047 United States;X-APPLE-RADIUS=500;X-TITLE=2475C Big Oak Road:geo:-73.989891,40.71839
END:VEVENT
END:VCALENDAR