BEGIN:VCALENDAR
VERSION:2.0
PRODID:-//Aristaeus Craft Brewing Co. - ECPv6.15.20//NONSGML v1.0//EN
CALSCALE:GREGORIAN
METHOD:PUBLISH
X-ORIGINAL-URL:https://aristaeusbrewing.com
X-WR-CALDESC:Events for Aristaeus Craft Brewing Co.
REFRESH-INTERVAL;VALUE=DURATION:PT1H
X-Robots-Tag:noindex
X-PUBLISHED-TTL:PT1H
BEGIN:VTIMEZONE
TZID:America/New_York
BEGIN:DAYLIGHT
TZOFFSETFROM:-0500
TZOFFSETTO:-0400
TZNAME:EDT
DTSTART:20220313T070000
END:DAYLIGHT
BEGIN:STANDARD
TZOFFSETFROM:-0400
TZOFFSETTO:-0500
TZNAME:EST
DTSTART:20221106T060000
END:STANDARD
BEGIN:DAYLIGHT
TZOFFSETFROM:-0500
TZOFFSETTO:-0400
TZNAME:EDT
DTSTART:20230312T070000
END:DAYLIGHT
BEGIN:STANDARD
TZOFFSETFROM:-0400
TZOFFSETTO:-0500
TZNAME:EST
DTSTART:20231105T060000
END:STANDARD
BEGIN:DAYLIGHT
TZOFFSETFROM:-0500
TZOFFSETTO:-0400
TZNAME:EDT
DTSTART:20240310T070000
END:DAYLIGHT
BEGIN:STANDARD
TZOFFSETFROM:-0400
TZOFFSETTO:-0500
TZNAME:EST
DTSTART:20241103T060000
END:STANDARD
END:VTIMEZONE
BEGIN:VEVENT
DTSTART;TZID=America/New_York:20231104T130000
DTEND;TZID=America/New_York:20231104T210000
DTSTAMP:20260420T073957
CREATED:20231019T170955Z
LAST-MODIFIED:20231019T170955Z
UID:10000792-1699102800-1699131600@aristaeusbrewing.com
SUMMARY:Food Truck: Bad Mother Shuckers
DESCRIPTION:
URL:https://aristaeusbrewing.com/event/food-truck-bad-mother-shuckers-14/
LOCATION:Aristaeus Craft Brewing Co.\, 2475C Big Oak Road\, Langhorne\, PA\, 19047\, United States
CATEGORIES:Food Truck
ATTACH;FMTTYPE=image/jpeg:https://aristaeusbrewing.com/wp-content/uploads/2023/03/bad-mother-shuckers-aristaeus-craft-brewing-co.jpg
GEO:40.71839;-73.989891
X-APPLE-STRUCTURED-LOCATION;VALUE=URI;X-ADDRESS=Aristaeus Craft Brewing Co. 2475C Big Oak Road Langhorne PA 19047 United States;X-APPLE-RADIUS=500;X-TITLE=2475C Big Oak Road:geo:-73.989891,40.71839
END:VEVENT
BEGIN:VEVENT
DTSTART;TZID=America/New_York:20231104T150000
DTEND;TZID=America/New_York:20231104T180000
DTSTAMP:20260420T073957
CREATED:20231030T173305Z
LAST-MODIFIED:20231030T173305Z
UID:10000808-1699110000-1699120800@aristaeusbrewing.com
SUMMARY:Music: Jonathn Ashe
DESCRIPTION:
URL:https://aristaeusbrewing.com/event/music-jonathn-ashe-13/
LOCATION:Aristaeus Craft Brewing Co.\, 2475C Big Oak Road\, Langhorne\, PA\, 19047\, United States
CATEGORIES:Music
ATTACH;FMTTYPE=image/jpeg:https://aristaeusbrewing.com/wp-content/uploads/2022/03/jonathn-ashe-at-aristaeus-brewing.jpg
GEO:40.71839;-73.989891
X-APPLE-STRUCTURED-LOCATION;VALUE=URI;X-ADDRESS=Aristaeus Craft Brewing Co. 2475C Big Oak Road Langhorne PA 19047 United States;X-APPLE-RADIUS=500;X-TITLE=2475C Big Oak Road:geo:-73.989891,40.71839
END:VEVENT
BEGIN:VEVENT
DTSTART;TZID=America/New_York:20231105T120000
DTEND;TZID=America/New_York:20231105T170000
DTSTAMP:20260420T073957
CREATED:20231103T200456Z
LAST-MODIFIED:20231103T200456Z
UID:10000806-1699185600-1699203600@aristaeusbrewing.com
SUMMARY:Food Truck: Taco the Town Kitchen
DESCRIPTION:
URL:https://aristaeusbrewing.com/event/food-truck-taco-the-town-kitchen-2/
LOCATION:Aristaeus Craft Brewing Co.\, 2475C Big Oak Road\, Langhorne\, PA\, 19047\, United States
CATEGORIES:Food Truck
GEO:40.71839;-73.989891
X-APPLE-STRUCTURED-LOCATION;VALUE=URI;X-ADDRESS=Aristaeus Craft Brewing Co. 2475C Big Oak Road Langhorne PA 19047 United States;X-APPLE-RADIUS=500;X-TITLE=2475C Big Oak Road:geo:-73.989891,40.71839
END:VEVENT
BEGIN:VEVENT
DTSTART;TZID=America/New_York:20231108T160000
DTEND;TZID=America/New_York:20231108T200000
DTSTAMP:20260420T073957
CREATED:20231019T170452Z
LAST-MODIFIED:20231019T170452Z
UID:10000512-1699459200-1699473600@aristaeusbrewing.com
SUMMARY:Food Truck: Thai It Up
DESCRIPTION:
URL:https://aristaeusbrewing.com/event/food-truck-thai-it-up-32/
LOCATION:Aristaeus Craft Brewing Co.\, 2475C Big Oak Road\, Langhorne\, PA\, 19047\, United States
CATEGORIES:Food Truck
ATTACH;FMTTYPE=image/jpeg:https://aristaeusbrewing.com/wp-content/uploads/2022/06/thai-it-up-aristaeus-craft-brewing-co.jpg
GEO:40.71839;-73.989891
X-APPLE-STRUCTURED-LOCATION;VALUE=URI;X-ADDRESS=Aristaeus Craft Brewing Co. 2475C Big Oak Road Langhorne PA 19047 United States;X-APPLE-RADIUS=500;X-TITLE=2475C Big Oak Road:geo:-73.989891,40.71839
END:VEVENT
BEGIN:VEVENT
DTSTART;TZID=America/New_York:20231109T170000
DTEND;TZID=America/New_York:20231109T210000
DTSTAMP:20260420T073957
CREATED:20231019T171035Z
LAST-MODIFIED:20231019T171035Z
UID:10000793-1699549200-1699563600@aristaeusbrewing.com
SUMMARY:Food Truck: Kono Pizza
DESCRIPTION:
URL:https://aristaeusbrewing.com/event/food-truck-kono-pizza-20/
LOCATION:Aristaeus Craft Brewing Co.\, 2475C Big Oak Road\, Langhorne\, PA\, 19047\, United States
CATEGORIES:Food Truck
ATTACH;FMTTYPE=image/jpeg:https://aristaeusbrewing.com/wp-content/uploads/2021/09/kono-pizza-at-aristaeus-brewing.jpg
GEO:40.71839;-73.989891
X-APPLE-STRUCTURED-LOCATION;VALUE=URI;X-ADDRESS=Aristaeus Craft Brewing Co. 2475C Big Oak Road Langhorne PA 19047 United States;X-APPLE-RADIUS=500;X-TITLE=2475C Big Oak Road:geo:-73.989891,40.71839
END:VEVENT
BEGIN:VEVENT
DTSTART;TZID=America/New_York:20231110T160000
DTEND;TZID=America/New_York:20231110T210000
DTSTAMP:20260420T073957
CREATED:20231019T171151Z
LAST-MODIFIED:20231019T171151Z
UID:10000794-1699632000-1699650000@aristaeusbrewing.com
SUMMARY:Food Truck: Haley Quinn's
DESCRIPTION:
URL:https://aristaeusbrewing.com/event/food-truck-haley-quinns-12/
LOCATION:Aristaeus Craft Brewing Co.\, 2475C Big Oak Road\, Langhorne\, PA\, 19047\, United States
CATEGORIES:Food Truck
ATTACH;FMTTYPE=image/jpeg:https://aristaeusbrewing.com/wp-content/uploads/2021/09/haley-quinns-at-aristaeus-brewing.jpg
GEO:40.71839;-73.989891
X-APPLE-STRUCTURED-LOCATION;VALUE=URI;X-ADDRESS=Aristaeus Craft Brewing Co. 2475C Big Oak Road Langhorne PA 19047 United States;X-APPLE-RADIUS=500;X-TITLE=2475C Big Oak Road:geo:-73.989891,40.71839
END:VEVENT
BEGIN:VEVENT
DTSTART;TZID=America/New_York:20231111T150000
DTEND;TZID=America/New_York:20231111T210000
DTSTAMP:20260420T073957
CREATED:20231103T200637Z
LAST-MODIFIED:20231103T200637Z
UID:10000811-1699714800-1699736400@aristaeusbrewing.com
SUMMARY:Food Truck: El Toro Serrano
DESCRIPTION:
URL:https://aristaeusbrewing.com/event/food-truck-el-toro-serrano-4/
LOCATION:Aristaeus Craft Brewing Co.\, 2475C Big Oak Road\, Langhorne\, PA\, 19047\, United States
CATEGORIES:Food Truck
GEO:40.71839;-73.989891
X-APPLE-STRUCTURED-LOCATION;VALUE=URI;X-ADDRESS=Aristaeus Craft Brewing Co. 2475C Big Oak Road Langhorne PA 19047 United States;X-APPLE-RADIUS=500;X-TITLE=2475C Big Oak Road:geo:-73.989891,40.71839
END:VEVENT
BEGIN:VEVENT
DTSTART;TZID=America/New_York:20231112T120000
DTEND;TZID=America/New_York:20231112T170000
DTSTAMP:20260420T073957
CREATED:20231019T171303Z
LAST-MODIFIED:20231019T171303Z
UID:10000796-1699790400-1699808400@aristaeusbrewing.com
SUMMARY:Food Truck: Daddy's Kitchen
DESCRIPTION:
URL:https://aristaeusbrewing.com/event/food-truck-daddys-kitchen-24/
LOCATION:Aristaeus Craft Brewing Co.\, 2475C Big Oak Road\, Langhorne\, PA\, 19047\, United States
CATEGORIES:Food Truck
ATTACH;FMTTYPE=image/jpeg:https://aristaeusbrewing.com/wp-content/uploads/2022/12/daddys-kitchen-aristaeus-brewing.jpg
GEO:40.71839;-73.989891
X-APPLE-STRUCTURED-LOCATION;VALUE=URI;X-ADDRESS=Aristaeus Craft Brewing Co. 2475C Big Oak Road Langhorne PA 19047 United States;X-APPLE-RADIUS=500;X-TITLE=2475C Big Oak Road:geo:-73.989891,40.71839
END:VEVENT
BEGIN:VEVENT
DTSTART;TZID=America/New_York:20231115T160000
DTEND;TZID=America/New_York:20231115T200000
DTSTAMP:20260420T073957
CREATED:20231019T170518Z
LAST-MODIFIED:20231019T170518Z
UID:10000514-1700064000-1700078400@aristaeusbrewing.com
SUMMARY:Food Truck: Thai It Up
DESCRIPTION:
URL:https://aristaeusbrewing.com/event/food-truck-thai-it-up-33/
LOCATION:Aristaeus Craft Brewing Co.\, 2475C Big Oak Road\, Langhorne\, PA\, 19047\, United States
CATEGORIES:Food Truck
ATTACH;FMTTYPE=image/jpeg:https://aristaeusbrewing.com/wp-content/uploads/2022/06/thai-it-up-aristaeus-craft-brewing-co.jpg
GEO:40.71839;-73.989891
X-APPLE-STRUCTURED-LOCATION;VALUE=URI;X-ADDRESS=Aristaeus Craft Brewing Co. 2475C Big Oak Road Langhorne PA 19047 United States;X-APPLE-RADIUS=500;X-TITLE=2475C Big Oak Road:geo:-73.989891,40.71839
END:VEVENT
BEGIN:VEVENT
DTSTART;TZID=America/New_York:20231116T160000
DTEND;TZID=America/New_York:20231116T210000
DTSTAMP:20260420T073957
CREATED:20231019T171337Z
LAST-MODIFIED:20231019T171337Z
UID:10000797-1700150400-1700168400@aristaeusbrewing.com
SUMMARY:Food Truck: Daddy's Kitchen
DESCRIPTION:
URL:https://aristaeusbrewing.com/event/food-truck-daddys-kitchen-25/
LOCATION:Aristaeus Craft Brewing Co.\, 2475C Big Oak Road\, Langhorne\, PA\, 19047\, United States
CATEGORIES:Food Truck
ATTACH;FMTTYPE=image/jpeg:https://aristaeusbrewing.com/wp-content/uploads/2022/12/daddys-kitchen-aristaeus-brewing.jpg
GEO:40.71839;-73.989891
X-APPLE-STRUCTURED-LOCATION;VALUE=URI;X-ADDRESS=Aristaeus Craft Brewing Co. 2475C Big Oak Road Langhorne PA 19047 United States;X-APPLE-RADIUS=500;X-TITLE=2475C Big Oak Road:geo:-73.989891,40.71839
END:VEVENT
BEGIN:VEVENT
DTSTART;TZID=America/New_York:20231117T160000
DTEND;TZID=America/New_York:20231117T210000
DTSTAMP:20260420T073957
CREATED:20231019T171419Z
LAST-MODIFIED:20231019T171419Z
UID:10000798-1700236800-1700254800@aristaeusbrewing.com
SUMMARY:Food Truck: Lobster Dogs
DESCRIPTION:
URL:https://aristaeusbrewing.com/event/food-truck-lobster-dogs-22/
LOCATION:Aristaeus Craft Brewing Co.\, 2475C Big Oak Road\, Langhorne\, PA\, 19047\, United States
CATEGORIES:Food Truck
ATTACH;FMTTYPE=image/jpeg:https://aristaeusbrewing.com/wp-content/uploads/2021/10/lobster-dog-at-aristaeus-brewing-ec-rev.jpg
GEO:40.71839;-73.989891
X-APPLE-STRUCTURED-LOCATION;VALUE=URI;X-ADDRESS=Aristaeus Craft Brewing Co. 2475C Big Oak Road Langhorne PA 19047 United States;X-APPLE-RADIUS=500;X-TITLE=2475C Big Oak Road:geo:-73.989891,40.71839
END:VEVENT
BEGIN:VEVENT
DTSTART;TZID=America/New_York:20231118T130000
DTEND;TZID=America/New_York:20231118T210000
DTSTAMP:20260420T073957
CREATED:20231019T171543Z
LAST-MODIFIED:20231019T171543Z
UID:10000800-1700312400-1700341200@aristaeusbrewing.com
SUMMARY:Food Truck: Daddy's Kitchen
DESCRIPTION:
URL:https://aristaeusbrewing.com/event/food-truck-daddys-kitchen-26/
LOCATION:Aristaeus Craft Brewing Co.\, 2475C Big Oak Road\, Langhorne\, PA\, 19047\, United States
CATEGORIES:Food Truck
ATTACH;FMTTYPE=image/jpeg:https://aristaeusbrewing.com/wp-content/uploads/2022/12/daddys-kitchen-aristaeus-brewing.jpg
GEO:40.71839;-73.989891
X-APPLE-STRUCTURED-LOCATION;VALUE=URI;X-ADDRESS=Aristaeus Craft Brewing Co. 2475C Big Oak Road Langhorne PA 19047 United States;X-APPLE-RADIUS=500;X-TITLE=2475C Big Oak Road:geo:-73.989891,40.71839
END:VEVENT
BEGIN:VEVENT
DTSTART;TZID=America/New_York:20231118T150000
DTEND;TZID=America/New_York:20231118T180000
DTSTAMP:20260420T073957
CREATED:20231019T171609Z
LAST-MODIFIED:20231113T220745Z
UID:10000801-1700319600-1700330400@aristaeusbrewing.com
SUMMARY:Music: Bill Thomas
DESCRIPTION:
URL:https://aristaeusbrewing.com/event/music-bill-thomas-15/
LOCATION:Aristaeus Craft Brewing Co.\, 2475C Big Oak Road\, Langhorne\, PA\, 19047\, United States
CATEGORIES:Music
GEO:40.71839;-73.989891
X-APPLE-STRUCTURED-LOCATION;VALUE=URI;X-ADDRESS=Aristaeus Craft Brewing Co. 2475C Big Oak Road Langhorne PA 19047 United States;X-APPLE-RADIUS=500;X-TITLE=2475C Big Oak Road:geo:-73.989891,40.71839
END:VEVENT
BEGIN:VEVENT
DTSTART;TZID=America/New_York:20231119T120000
DTEND;TZID=America/New_York:20231119T170000
DTSTAMP:20260420T073957
CREATED:20231103T200531Z
LAST-MODIFIED:20231103T200531Z
UID:10000809-1700395200-1700413200@aristaeusbrewing.com
SUMMARY:Food Truck: El Sabor del Bajio
DESCRIPTION:
URL:https://aristaeusbrewing.com/event/food-truck-el-sabor-del-bajio-63/
LOCATION:Aristaeus Craft Brewing Co.\, 2475C Big Oak Road\, Langhorne\, PA\, 19047\, United States
CATEGORIES:Food Truck
ATTACH;FMTTYPE=image/jpeg:https://aristaeusbrewing.com/wp-content/uploads/2021/09/el-sabor-at-aristaeus-brewing-ec-1.jpg
GEO:40.71839;-73.989891
X-APPLE-STRUCTURED-LOCATION;VALUE=URI;X-ADDRESS=Aristaeus Craft Brewing Co. 2475C Big Oak Road Langhorne PA 19047 United States;X-APPLE-RADIUS=500;X-TITLE=2475C Big Oak Road:geo:-73.989891,40.71839
END:VEVENT
BEGIN:VEVENT
DTSTART;TZID=America/New_York:20231122T150000
DTEND;TZID=America/New_York:20231122T210000
DTSTAMP:20260420T073957
CREATED:20231019T170549Z
LAST-MODIFIED:20231121T172451Z
UID:10000786-1700665200-1700686800@aristaeusbrewing.com
SUMMARY:Food Truck: Thai It Up
DESCRIPTION:
URL:https://aristaeusbrewing.com/event/food-truck-thai-it-up-34/
LOCATION:Aristaeus Craft Brewing Co.\, 2475C Big Oak Road\, Langhorne\, PA\, 19047\, United States
CATEGORIES:Food Truck
ATTACH;FMTTYPE=image/jpeg:https://aristaeusbrewing.com/wp-content/uploads/2022/06/thai-it-up-aristaeus-craft-brewing-co.jpg
GEO:40.71839;-73.989891
X-APPLE-STRUCTURED-LOCATION;VALUE=URI;X-ADDRESS=Aristaeus Craft Brewing Co. 2475C Big Oak Road Langhorne PA 19047 United States;X-APPLE-RADIUS=500;X-TITLE=2475C Big Oak Road:geo:-73.989891,40.71839
END:VEVENT
BEGIN:VEVENT
DTSTART;TZID=America/New_York:20231124T130000
DTEND;TZID=America/New_York:20231124T210000
DTSTAMP:20260420T073957
CREATED:20231019T171706Z
LAST-MODIFIED:20231019T171706Z
UID:10000802-1700830800-1700859600@aristaeusbrewing.com
SUMMARY:Food Truck: Brooklyn's Famous Pizza
DESCRIPTION:
URL:https://aristaeusbrewing.com/event/food-truck-brooklyns-famous-pizza-4/
LOCATION:Aristaeus Craft Brewing Co.\, 2475C Big Oak Road\, Langhorne\, PA\, 19047\, United States
CATEGORIES:Food Truck
GEO:40.71839;-73.989891
X-APPLE-STRUCTURED-LOCATION;VALUE=URI;X-ADDRESS=Aristaeus Craft Brewing Co. 2475C Big Oak Road Langhorne PA 19047 United States;X-APPLE-RADIUS=500;X-TITLE=2475C Big Oak Road:geo:-73.989891,40.71839
END:VEVENT
BEGIN:VEVENT
DTSTART;TZID=America/New_York:20231125T150000
DTEND;TZID=America/New_York:20231125T200000
DTSTAMP:20260420T073957
CREATED:20231019T171743Z
LAST-MODIFIED:20231019T171743Z
UID:10000803-1700924400-1700942400@aristaeusbrewing.com
SUMMARY:Food Truck: The Flying Deutschman
DESCRIPTION:
URL:https://aristaeusbrewing.com/event/food-truck-the-flying-deutschman-6/
LOCATION:Aristaeus Craft Brewing Co.\, 2475C Big Oak Road\, Langhorne\, PA\, 19047\, United States
CATEGORIES:Food Truck
ATTACH;FMTTYPE=image/jpeg:https://aristaeusbrewing.com/wp-content/uploads/2022/04/the-flying-deutschman-at-aristaeus-craft-brewing-co.jpg
GEO:40.71839;-73.989891
X-APPLE-STRUCTURED-LOCATION;VALUE=URI;X-ADDRESS=Aristaeus Craft Brewing Co. 2475C Big Oak Road Langhorne PA 19047 United States;X-APPLE-RADIUS=500;X-TITLE=2475C Big Oak Road:geo:-73.989891,40.71839
END:VEVENT
BEGIN:VEVENT
DTSTART;TZID=America/New_York:20231126T120000
DTEND;TZID=America/New_York:20231126T170000
DTSTAMP:20260420T073957
CREATED:20231103T200551Z
LAST-MODIFIED:20231103T200551Z
UID:10000810-1701000000-1701018000@aristaeusbrewing.com
SUMMARY:Food Truck: Taco the Town Kitchen
DESCRIPTION:
URL:https://aristaeusbrewing.com/event/food-truck-taco-the-town-kitchen-3/
LOCATION:Aristaeus Craft Brewing Co.\, 2475C Big Oak Road\, Langhorne\, PA\, 19047\, United States
CATEGORIES:Food Truck
GEO:40.71839;-73.989891
X-APPLE-STRUCTURED-LOCATION;VALUE=URI;X-ADDRESS=Aristaeus Craft Brewing Co. 2475C Big Oak Road Langhorne PA 19047 United States;X-APPLE-RADIUS=500;X-TITLE=2475C Big Oak Road:geo:-73.989891,40.71839
END:VEVENT
BEGIN:VEVENT
DTSTART;TZID=America/New_York:20231129T160000
DTEND;TZID=America/New_York:20231129T200000
DTSTAMP:20260420T073957
CREATED:20231019T170619Z
LAST-MODIFIED:20231019T170619Z
UID:10000787-1701273600-1701288000@aristaeusbrewing.com
SUMMARY:Food Truck: Thai It Up
DESCRIPTION:
URL:https://aristaeusbrewing.com/event/food-truck-thai-it-up-35/
LOCATION:Aristaeus Craft Brewing Co.\, 2475C Big Oak Road\, Langhorne\, PA\, 19047\, United States
CATEGORIES:Food Truck
ATTACH;FMTTYPE=image/jpeg:https://aristaeusbrewing.com/wp-content/uploads/2022/06/thai-it-up-aristaeus-craft-brewing-co.jpg
GEO:40.71839;-73.989891
X-APPLE-STRUCTURED-LOCATION;VALUE=URI;X-ADDRESS=Aristaeus Craft Brewing Co. 2475C Big Oak Road Langhorne PA 19047 United States;X-APPLE-RADIUS=500;X-TITLE=2475C Big Oak Road:geo:-73.989891,40.71839
END:VEVENT
BEGIN:VEVENT
DTSTART;TZID=America/New_York:20231130T160000
DTEND;TZID=America/New_York:20231130T210000
DTSTAMP:20260420T073957
CREATED:20231019T171830Z
LAST-MODIFIED:20231019T171830Z
UID:10000804-1701360000-1701378000@aristaeusbrewing.com
SUMMARY:Food Truck: Lui's Kitchen
DESCRIPTION:
URL:https://aristaeusbrewing.com/event/food-truck-luis-kitchen-11/
LOCATION:Aristaeus Craft Brewing Co.\, 2475C Big Oak Road\, Langhorne\, PA\, 19047\, United States
CATEGORIES:Food Truck
ATTACH;FMTTYPE=image/jpeg:https://aristaeusbrewing.com/wp-content/uploads/2023/04/luis-kitchen-aristaeus-craft-brewing-co.jpg
GEO:40.71839;-73.989891
X-APPLE-STRUCTURED-LOCATION;VALUE=URI;X-ADDRESS=Aristaeus Craft Brewing Co. 2475C Big Oak Road Langhorne PA 19047 United States;X-APPLE-RADIUS=500;X-TITLE=2475C Big Oak Road:geo:-73.989891,40.71839
END:VEVENT
BEGIN:VEVENT
DTSTART;TZID=America/New_York:20231201T160000
DTEND;TZID=America/New_York:20231201T210000
DTSTAMP:20260420T073957
CREATED:20231103T201418Z
LAST-MODIFIED:20231103T201418Z
UID:10000812-1701446400-1701464400@aristaeusbrewing.com
SUMMARY:Food Truck: Daddy's Kitchen
DESCRIPTION:
URL:https://aristaeusbrewing.com/event/food-truck-daddys-kitchen-27/
LOCATION:Aristaeus Craft Brewing Co.\, 2475C Big Oak Road\, Langhorne\, PA\, 19047\, United States
CATEGORIES:Food Truck
ATTACH;FMTTYPE=image/jpeg:https://aristaeusbrewing.com/wp-content/uploads/2022/12/daddys-kitchen-aristaeus-brewing.jpg
GEO:40.71839;-73.989891
X-APPLE-STRUCTURED-LOCATION;VALUE=URI;X-ADDRESS=Aristaeus Craft Brewing Co. 2475C Big Oak Road Langhorne PA 19047 United States;X-APPLE-RADIUS=500;X-TITLE=2475C Big Oak Road:geo:-73.989891,40.71839
END:VEVENT
BEGIN:VEVENT
DTSTART;TZID=America/New_York:20231202T130000
DTEND;TZID=America/New_York:20231202T210000
DTSTAMP:20260420T073957
CREATED:20231103T202727Z
LAST-MODIFIED:20231103T202727Z
UID:10000538-1701522000-1701550800@aristaeusbrewing.com
SUMMARY:Food Truck: Bad Mother Shuckers
DESCRIPTION:
URL:https://aristaeusbrewing.com/event/food-truck-bad-mother-shuckers-16/
LOCATION:Aristaeus Craft Brewing Co.\, 2475C Big Oak Road\, Langhorne\, PA\, 19047\, United States
CATEGORIES:Food Truck
ATTACH;FMTTYPE=image/jpeg:https://aristaeusbrewing.com/wp-content/uploads/2023/03/bad-mother-shuckers-aristaeus-craft-brewing-co.jpg
GEO:40.71839;-73.989891
X-APPLE-STRUCTURED-LOCATION;VALUE=URI;X-ADDRESS=Aristaeus Craft Brewing Co. 2475C Big Oak Road Langhorne PA 19047 United States;X-APPLE-RADIUS=500;X-TITLE=2475C Big Oak Road:geo:-73.989891,40.71839
END:VEVENT
BEGIN:VEVENT
DTSTART;TZID=America/New_York:20231203T120000
DTEND;TZID=America/New_York:20231203T170000
DTSTAMP:20260420T073957
CREATED:20231103T203012Z
LAST-MODIFIED:20231103T203012Z
UID:10000546-1701604800-1701622800@aristaeusbrewing.com
SUMMARY:Food Truck: Taco the Town Kitchen
DESCRIPTION:
URL:https://aristaeusbrewing.com/event/food-truck-taco-the-town-kitchen-5/
LOCATION:Aristaeus Craft Brewing Co.\, 2475C Big Oak Road\, Langhorne\, PA\, 19047\, United States
CATEGORIES:Food Truck
GEO:40.71839;-73.989891
X-APPLE-STRUCTURED-LOCATION;VALUE=URI;X-ADDRESS=Aristaeus Craft Brewing Co. 2475C Big Oak Road Langhorne PA 19047 United States;X-APPLE-RADIUS=500;X-TITLE=2475C Big Oak Road:geo:-73.989891,40.71839
END:VEVENT
BEGIN:VEVENT
DTSTART;TZID=America/New_York:20231206T160000
DTEND;TZID=America/New_York:20231206T200000
DTSTAMP:20260420T073957
CREATED:20231103T201656Z
LAST-MODIFIED:20231103T201656Z
UID:10000817-1701878400-1701892800@aristaeusbrewing.com
SUMMARY:Food Truck: Lui's Kitchen
DESCRIPTION:
URL:https://aristaeusbrewing.com/event/food-truck-luis-kitchen-12/
LOCATION:Aristaeus Craft Brewing Co.\, 2475C Big Oak Road\, Langhorne\, PA\, 19047\, United States
CATEGORIES:Food Truck
ATTACH;FMTTYPE=image/jpeg:https://aristaeusbrewing.com/wp-content/uploads/2023/04/luis-kitchen-aristaeus-craft-brewing-co.jpg
GEO:40.71839;-73.989891
X-APPLE-STRUCTURED-LOCATION;VALUE=URI;X-ADDRESS=Aristaeus Craft Brewing Co. 2475C Big Oak Road Langhorne PA 19047 United States;X-APPLE-RADIUS=500;X-TITLE=2475C Big Oak Road:geo:-73.989891,40.71839
END:VEVENT
BEGIN:VEVENT
DTSTART;TZID=America/New_York:20231207T160000
DTEND;TZID=America/New_York:20231207T210000
DTSTAMP:20260420T073957
CREATED:20231103T201719Z
LAST-MODIFIED:20231103T201719Z
UID:10000818-1701964800-1701982800@aristaeusbrewing.com
SUMMARY:Food Truck: Lui's Kitchen
DESCRIPTION:
URL:https://aristaeusbrewing.com/event/food-truck-luis-kitchen-13/
LOCATION:Aristaeus Craft Brewing Co.\, 2475C Big Oak Road\, Langhorne\, PA\, 19047\, United States
CATEGORIES:Food Truck
ATTACH;FMTTYPE=image/jpeg:https://aristaeusbrewing.com/wp-content/uploads/2023/04/luis-kitchen-aristaeus-craft-brewing-co.jpg
GEO:40.71839;-73.989891
X-APPLE-STRUCTURED-LOCATION;VALUE=URI;X-ADDRESS=Aristaeus Craft Brewing Co. 2475C Big Oak Road Langhorne PA 19047 United States;X-APPLE-RADIUS=500;X-TITLE=2475C Big Oak Road:geo:-73.989891,40.71839
END:VEVENT
BEGIN:VEVENT
DTSTART;TZID=America/New_York:20231207T173000
DTEND;TZID=America/New_York:20231207T203000
DTSTAMP:20260420T073957
CREATED:20231103T202058Z
LAST-MODIFIED:20231103T202058Z
UID:10000821-1701970200-1701981000@aristaeusbrewing.com
SUMMARY:Aristaeus at Middletown Township Holiday Open House
DESCRIPTION:
URL:https://aristaeusbrewing.com/event/aristaeus-at-middletown-township-holiday-open-house/
LOCATION:Middletown Township Municipal Building\, 5 Municipal Way\, Langhorne\, PA\, 19047\, United States
CATEGORIES:Events
END:VEVENT
BEGIN:VEVENT
DTSTART;TZID=America/New_York:20231208T160000
DTEND;TZID=America/New_York:20231208T210000
DTSTAMP:20260420T073957
CREATED:20231103T201448Z
LAST-MODIFIED:20231103T201448Z
UID:10000813-1702051200-1702069200@aristaeusbrewing.com
SUMMARY:Food Truck: Nia's Pizza
DESCRIPTION:
URL:https://aristaeusbrewing.com/event/food-truck-nias-pizza/
LOCATION:Aristaeus Craft Brewing Co.\, 2475C Big Oak Road\, Langhorne\, PA\, 19047\, United States
CATEGORIES:Food Truck
GEO:40.71839;-73.989891
X-APPLE-STRUCTURED-LOCATION;VALUE=URI;X-ADDRESS=Aristaeus Craft Brewing Co. 2475C Big Oak Road Langhorne PA 19047 United States;X-APPLE-RADIUS=500;X-TITLE=2475C Big Oak Road:geo:-73.989891,40.71839
END:VEVENT
BEGIN:VEVENT
DTSTART;TZID=America/New_York:20231208T170000
DTEND;TZID=America/New_York:20231208T220000
DTSTAMP:20260420T073957
CREATED:20231204T232833Z
LAST-MODIFIED:20231204T232833Z
UID:10000828-1702054800-1702072800@aristaeusbrewing.com
SUMMARY:Aristaeus Pop-Up at The Tubby Olive (Newtown Sip and Shop)
DESCRIPTION:
URL:https://aristaeusbrewing.com/event/aristaeus-pop-up-at-the-tubby-olive-newtown-sip-and-shop/
LOCATION:The Tubby Olive\, 17 S State St\, Newtown\, PA\, United States
CATEGORIES:Events
END:VEVENT
BEGIN:VEVENT
DTSTART;TZID=America/New_York:20231208T190000
DTEND;TZID=America/New_York:20231208T220000
DTSTAMP:20260420T073957
CREATED:20231103T201807Z
LAST-MODIFIED:20231103T201807Z
UID:10000819-1702062000-1702072800@aristaeusbrewing.com
SUMMARY:Music: Nick Mich
DESCRIPTION:
URL:https://aristaeusbrewing.com/event/music-nick-mich-8/
LOCATION:Aristaeus Craft Brewing Co.\, 2475C Big Oak Road\, Langhorne\, PA\, 19047\, United States
CATEGORIES:Music
ATTACH;FMTTYPE=image/jpeg:https://aristaeusbrewing.com/wp-content/uploads/2022/03/nick-mich-at-aristaeus-brewing.jpg
GEO:40.71839;-73.989891
X-APPLE-STRUCTURED-LOCATION;VALUE=URI;X-ADDRESS=Aristaeus Craft Brewing Co. 2475C Big Oak Road Langhorne PA 19047 United States;X-APPLE-RADIUS=500;X-TITLE=2475C Big Oak Road:geo:-73.989891,40.71839
END:VEVENT
BEGIN:VEVENT
DTSTART;TZID=America/New_York:20231209T120000
DTEND;TZID=America/New_York:20231209T180000
DTSTAMP:20260420T073957
CREATED:20231204T232953Z
LAST-MODIFIED:20231204T232953Z
UID:10000827-1702123200-1702144800@aristaeusbrewing.com
SUMMARY:Aristaeus at Styer Orchard Christmas Event
DESCRIPTION:
URL:https://aristaeusbrewing.com/event/aristaeus-at-styer-orchard-christmas-event/
LOCATION:Styer Orchard\, 97 Styers Lane\, Langhorne\, PA\, 19047\, United States
CATEGORIES:Events
END:VEVENT
END:VCALENDAR