BEGIN:VCALENDAR
VERSION:2.0
PRODID:-//Aristaeus Craft Brewing Co. - ECPv6.15.20//NONSGML v1.0//EN
CALSCALE:GREGORIAN
METHOD:PUBLISH
X-WR-CALNAME:Aristaeus Craft Brewing Co.
X-ORIGINAL-URL:https://aristaeusbrewing.com
X-WR-CALDESC:Events for Aristaeus Craft Brewing Co.
REFRESH-INTERVAL;VALUE=DURATION:PT1H
X-Robots-Tag:noindex
X-PUBLISHED-TTL:PT1H
BEGIN:VTIMEZONE
TZID:America/New_York
BEGIN:DAYLIGHT
TZOFFSETFROM:-0500
TZOFFSETTO:-0400
TZNAME:EDT
DTSTART:20220313T070000
END:DAYLIGHT
BEGIN:STANDARD
TZOFFSETFROM:-0400
TZOFFSETTO:-0500
TZNAME:EST
DTSTART:20221106T060000
END:STANDARD
BEGIN:DAYLIGHT
TZOFFSETFROM:-0500
TZOFFSETTO:-0400
TZNAME:EDT
DTSTART:20230312T070000
END:DAYLIGHT
BEGIN:STANDARD
TZOFFSETFROM:-0400
TZOFFSETTO:-0500
TZNAME:EST
DTSTART:20231105T060000
END:STANDARD
BEGIN:DAYLIGHT
TZOFFSETFROM:-0500
TZOFFSETTO:-0400
TZNAME:EDT
DTSTART:20240310T070000
END:DAYLIGHT
BEGIN:STANDARD
TZOFFSETFROM:-0400
TZOFFSETTO:-0500
TZNAME:EST
DTSTART:20241103T060000
END:STANDARD
END:VTIMEZONE
BEGIN:VEVENT
DTSTART;TZID=America/New_York:20230723T150000
DTEND;TZID=America/New_York:20230723T180000
DTSTAMP:20260419T230456
CREATED:20230620T225640Z
LAST-MODIFIED:20230620T225640Z
UID:10000712-1690124400-1690135200@aristaeusbrewing.com
SUMMARY:Music: Matt Kresge
DESCRIPTION:
URL:https://aristaeusbrewing.com/event/music-matt-kresge-9/
LOCATION:Aristaeus Craft Brewing Co.\, 2475C Big Oak Road\, Langhorne\, PA\, 19047\, United States
CATEGORIES:Music
ATTACH;FMTTYPE=image/jpeg:https://aristaeusbrewing.com/wp-content/uploads/2022/06/matt-kresge-at-aristaeus-craft-brewing.jpg
GEO:40.71839;-73.989891
X-APPLE-STRUCTURED-LOCATION;VALUE=URI;X-ADDRESS=Aristaeus Craft Brewing Co. 2475C Big Oak Road Langhorne PA 19047 United States;X-APPLE-RADIUS=500;X-TITLE=2475C Big Oak Road:geo:-73.989891,40.71839
END:VEVENT
BEGIN:VEVENT
DTSTART;TZID=America/New_York:20230726T160000
DTEND;TZID=America/New_York:20230726T200000
DTSTAMP:20260419T230456
CREATED:20230620T225747Z
LAST-MODIFIED:20230620T225747Z
UID:10000713-1690387200-1690401600@aristaeusbrewing.com
SUMMARY:Food Truck: Victor's Pizza
DESCRIPTION:
URL:https://aristaeusbrewing.com/event/food-truck-victors-pizza-2/
LOCATION:Aristaeus Craft Brewing Co.\, 2475C Big Oak Road\, Langhorne\, PA\, 19047\, United States
CATEGORIES:Food Truck
ATTACH;FMTTYPE=image/jpeg:https://aristaeusbrewing.com/wp-content/uploads/2023/05/victors-pizza-aristaeus-brewing.jpg
GEO:40.71839;-73.989891
X-APPLE-STRUCTURED-LOCATION;VALUE=URI;X-ADDRESS=Aristaeus Craft Brewing Co. 2475C Big Oak Road Langhorne PA 19047 United States;X-APPLE-RADIUS=500;X-TITLE=2475C Big Oak Road:geo:-73.989891,40.71839
END:VEVENT
BEGIN:VEVENT
DTSTART;TZID=America/New_York:20230727T170000
DTEND;TZID=America/New_York:20230727T210000
DTSTAMP:20260419T230456
CREATED:20230620T225858Z
LAST-MODIFIED:20230620T225858Z
UID:10000714-1690477200-1690491600@aristaeusbrewing.com
SUMMARY:Food Truck: Kono Pizza
DESCRIPTION:
URL:https://aristaeusbrewing.com/event/food-truck-kono-pizza-17/
LOCATION:Aristaeus Craft Brewing Co.\, 2475C Big Oak Road\, Langhorne\, PA\, 19047\, United States
CATEGORIES:Food Truck
ATTACH;FMTTYPE=image/jpeg:https://aristaeusbrewing.com/wp-content/uploads/2021/09/kono-pizza-at-aristaeus-brewing.jpg
GEO:40.71839;-73.989891
X-APPLE-STRUCTURED-LOCATION;VALUE=URI;X-ADDRESS=Aristaeus Craft Brewing Co. 2475C Big Oak Road Langhorne PA 19047 United States;X-APPLE-RADIUS=500;X-TITLE=2475C Big Oak Road:geo:-73.989891,40.71839
END:VEVENT
BEGIN:VEVENT
DTSTART;TZID=America/New_York:20230728T160000
DTEND;TZID=America/New_York:20230728T210000
DTSTAMP:20260419T230456
CREATED:20230620T230014Z
LAST-MODIFIED:20230620T230014Z
UID:10000715-1690560000-1690578000@aristaeusbrewing.com
SUMMARY:Food Truck: Bad Mother Shuckers
DESCRIPTION:
URL:https://aristaeusbrewing.com/event/food-truck-bad-mother-shuckers-12/
LOCATION:Aristaeus Craft Brewing Co.\, 2475C Big Oak Road\, Langhorne\, PA\, 19047\, United States
CATEGORIES:Food Truck
ATTACH;FMTTYPE=image/jpeg:https://aristaeusbrewing.com/wp-content/uploads/2023/03/bad-mother-shuckers-aristaeus-craft-brewing-co.jpg
GEO:40.71839;-73.989891
X-APPLE-STRUCTURED-LOCATION;VALUE=URI;X-ADDRESS=Aristaeus Craft Brewing Co. 2475C Big Oak Road Langhorne PA 19047 United States;X-APPLE-RADIUS=500;X-TITLE=2475C Big Oak Road:geo:-73.989891,40.71839
END:VEVENT
BEGIN:VEVENT
DTSTART;TZID=America/New_York:20230728T190000
DTEND;TZID=America/New_York:20230728T220000
DTSTAMP:20260419T230456
CREATED:20230620T230111Z
LAST-MODIFIED:20230620T230111Z
UID:10000716-1690570800-1690581600@aristaeusbrewing.com
SUMMARY:Music: Tom Wang
DESCRIPTION:
URL:https://aristaeusbrewing.com/event/music-tom-wang/
LOCATION:Aristaeus Craft Brewing Co.\, 2475C Big Oak Road\, Langhorne\, PA\, 19047\, United States
CATEGORIES:Music
GEO:40.71839;-73.989891
X-APPLE-STRUCTURED-LOCATION;VALUE=URI;X-ADDRESS=Aristaeus Craft Brewing Co. 2475C Big Oak Road Langhorne PA 19047 United States;X-APPLE-RADIUS=500;X-TITLE=2475C Big Oak Road:geo:-73.989891,40.71839
END:VEVENT
BEGIN:VEVENT
DTSTART;TZID=America/New_York:20230729T130000
DTEND;TZID=America/New_York:20230729T210000
DTSTAMP:20260419T230456
CREATED:20230620T230409Z
LAST-MODIFIED:20230727T212043Z
UID:10000718-1690635600-1690664400@aristaeusbrewing.com
SUMMARY:Food Truck: King Gyro
DESCRIPTION:
URL:https://aristaeusbrewing.com/event/food-truck-king-gyro-729/
LOCATION:Aristaeus Craft Brewing Co.\, 2475C Big Oak Road\, Langhorne\, PA\, 19047\, United States
CATEGORIES:Food Truck
ATTACH;FMTTYPE=image/jpeg:https://aristaeusbrewing.com/wp-content/uploads/2022/06/southern-style-seafood-aristaeus-craft-brewing.jpg
GEO:40.71839;-73.989891
X-APPLE-STRUCTURED-LOCATION;VALUE=URI;X-ADDRESS=Aristaeus Craft Brewing Co. 2475C Big Oak Road Langhorne PA 19047 United States;X-APPLE-RADIUS=500;X-TITLE=2475C Big Oak Road:geo:-73.989891,40.71839
END:VEVENT
BEGIN:VEVENT
DTSTART;TZID=America/New_York:20230729T190000
DTEND;TZID=America/New_York:20230729T220000
DTSTAMP:20260419T230456
CREATED:20230620T230524Z
LAST-MODIFIED:20230724T155855Z
UID:10000719-1690657200-1690668000@aristaeusbrewing.com
SUMMARY:Music: Low Totem
DESCRIPTION:
URL:https://aristaeusbrewing.com/event/music-low-totem-6/
LOCATION:Aristaeus Craft Brewing Co.\, 2475C Big Oak Road\, Langhorne\, PA\, 19047\, United States
CATEGORIES:Music
ATTACH;FMTTYPE=image/jpeg:https://aristaeusbrewing.com/wp-content/uploads/2022/06/low-totem-at-aristaeus-brewing.jpg
GEO:40.71839;-73.989891
X-APPLE-STRUCTURED-LOCATION;VALUE=URI;X-ADDRESS=Aristaeus Craft Brewing Co. 2475C Big Oak Road Langhorne PA 19047 United States;X-APPLE-RADIUS=500;X-TITLE=2475C Big Oak Road:geo:-73.989891,40.71839
END:VEVENT
BEGIN:VEVENT
DTSTART;TZID=America/New_York:20230730T130000
DTEND;TZID=America/New_York:20230730T180000
DTSTAMP:20260419T230456
CREATED:20230620T230714Z
LAST-MODIFIED:20230626T152541Z
UID:10000720-1690722000-1690740000@aristaeusbrewing.com
SUMMARY:Food Truck: El Sabor del Bajio
DESCRIPTION:
URL:https://aristaeusbrewing.com/event/food-truck-el-sabor-del-bajio-54/
LOCATION:Aristaeus Craft Brewing Co.\, 2475C Big Oak Road\, Langhorne\, PA\, 19047\, United States
CATEGORIES:Food Truck
ATTACH;FMTTYPE=image/jpeg:https://aristaeusbrewing.com/wp-content/uploads/2021/09/el-sabor-at-aristaeus-brewing-ec-1.jpg
GEO:40.71839;-73.989891
X-APPLE-STRUCTURED-LOCATION;VALUE=URI;X-ADDRESS=Aristaeus Craft Brewing Co. 2475C Big Oak Road Langhorne PA 19047 United States;X-APPLE-RADIUS=500;X-TITLE=2475C Big Oak Road:geo:-73.989891,40.71839
END:VEVENT
BEGIN:VEVENT
DTSTART;TZID=America/New_York:20230730T150000
DTEND;TZID=America/New_York:20230730T180000
DTSTAMP:20260419T230456
CREATED:20230620T230848Z
LAST-MODIFIED:20230620T230848Z
UID:10000721-1690729200-1690740000@aristaeusbrewing.com
SUMMARY:Music: Jonathn Ashe
DESCRIPTION:
URL:https://aristaeusbrewing.com/event/music-jonathn-ashe-8/
LOCATION:Aristaeus Craft Brewing Co.\, 2475C Big Oak Road\, Langhorne\, PA\, 19047\, United States
CATEGORIES:Music
ATTACH;FMTTYPE=image/jpeg:https://aristaeusbrewing.com/wp-content/uploads/2022/03/jonathn-ashe-at-aristaeus-brewing.jpg
GEO:40.71839;-73.989891
X-APPLE-STRUCTURED-LOCATION;VALUE=URI;X-ADDRESS=Aristaeus Craft Brewing Co. 2475C Big Oak Road Langhorne PA 19047 United States;X-APPLE-RADIUS=500;X-TITLE=2475C Big Oak Road:geo:-73.989891,40.71839
END:VEVENT
BEGIN:VEVENT
DTSTART;TZID=America/New_York:20230801T173000
DTEND;TZID=America/New_York:20230801T203000
DTSTAMP:20260419T230456
CREATED:20230706T195807Z
LAST-MODIFIED:20230731T182845Z
UID:10000726-1690911000-1690921800@aristaeusbrewing.com
SUMMARY:CANCELLED - Middletown Township National Night Out
DESCRIPTION:Unfortunately\, we will not be attending the Middletown Township National Night Out as planned.
URL:https://aristaeusbrewing.com/event/middletown-township-national-night-out/
LOCATION:Middletown Township Municipal Building\, 5 Municipal Way\, Langhorne\, PA\, 19047\, United States
CATEGORIES:Events
END:VEVENT
BEGIN:VEVENT
DTSTART;TZID=America/New_York:20230802T160000
DTEND;TZID=America/New_York:20230802T200000
DTSTAMP:20260419T230456
CREATED:20230707T170158Z
LAST-MODIFIED:20230707T170158Z
UID:10000741-1690992000-1691006400@aristaeusbrewing.com
SUMMARY:Food Truck: Thai It Up
DESCRIPTION:
URL:https://aristaeusbrewing.com/event/food-truck-thai-it-up-18/
LOCATION:Aristaeus Craft Brewing Co.\, 2475C Big Oak Road\, Langhorne\, PA\, 19047\, United States
CATEGORIES:Food Truck
ATTACH;FMTTYPE=image/jpeg:https://aristaeusbrewing.com/wp-content/uploads/2022/06/thai-it-up-aristaeus-craft-brewing-co.jpg
GEO:40.71839;-73.989891
X-APPLE-STRUCTURED-LOCATION;VALUE=URI;X-ADDRESS=Aristaeus Craft Brewing Co. 2475C Big Oak Road Langhorne PA 19047 United States;X-APPLE-RADIUS=500;X-TITLE=2475C Big Oak Road:geo:-73.989891,40.71839
END:VEVENT
BEGIN:VEVENT
DTSTART;TZID=America/New_York:20230803T160000
DTEND;TZID=America/New_York:20230803T210000
DTSTAMP:20260419T230456
CREATED:20230724T160103Z
LAST-MODIFIED:20230724T160103Z
UID:10000747-1691078400-1691096400@aristaeusbrewing.com
SUMMARY:Food Truck: King Gyro
DESCRIPTION:
URL:https://aristaeusbrewing.com/event/food-truck-king-gyro-2/
LOCATION:Aristaeus Craft Brewing Co.\, 2475C Big Oak Road\, Langhorne\, PA\, 19047\, United States
CATEGORIES:Food Truck
GEO:40.71839;-73.989891
X-APPLE-STRUCTURED-LOCATION;VALUE=URI;X-ADDRESS=Aristaeus Craft Brewing Co. 2475C Big Oak Road Langhorne PA 19047 United States;X-APPLE-RADIUS=500;X-TITLE=2475C Big Oak Road:geo:-73.989891,40.71839
END:VEVENT
BEGIN:VEVENT
DTSTART;TZID=America/New_York:20230804T160000
DTEND;TZID=America/New_York:20230804T210000
DTSTAMP:20260419T230456
CREATED:20230706T195020Z
LAST-MODIFIED:20230706T195020Z
UID:10000722-1691164800-1691182800@aristaeusbrewing.com
SUMMARY:Food Truck: EL Sabor del Bajio
DESCRIPTION:
URL:https://aristaeusbrewing.com/event/food-truck-el-sabor-del-bajio-55/
LOCATION:Aristaeus Craft Brewing Co.\, 2475C Big Oak Road\, Langhorne\, PA\, 19047\, United States
CATEGORIES:Food Truck
ATTACH;FMTTYPE=image/jpeg:https://aristaeusbrewing.com/wp-content/uploads/2021/10/el-sabor-at-aristaeus-brewing-r.jpg
GEO:40.71839;-73.989891
X-APPLE-STRUCTURED-LOCATION;VALUE=URI;X-ADDRESS=Aristaeus Craft Brewing Co. 2475C Big Oak Road Langhorne PA 19047 United States;X-APPLE-RADIUS=500;X-TITLE=2475C Big Oak Road:geo:-73.989891,40.71839
END:VEVENT
BEGIN:VEVENT
DTSTART;TZID=America/New_York:20230804T190000
DTEND;TZID=America/New_York:20230804T220000
DTSTAMP:20260419T230456
CREATED:20230706T195057Z
LAST-MODIFIED:20230706T195057Z
UID:10000725-1691175600-1691186400@aristaeusbrewing.com
SUMMARY:Music: Vik Raolji
DESCRIPTION:
URL:https://aristaeusbrewing.com/event/music-vik-raolji-2/
LOCATION:Aristaeus Craft Brewing Co.\, 2475C Big Oak Road\, Langhorne\, PA\, 19047\, United States
CATEGORIES:Music
ATTACH;FMTTYPE=image/jpeg:https://aristaeusbrewing.com/wp-content/uploads/2023/03/Vik-Raolji-at-aristaeus-brewing.jpg
GEO:40.71839;-73.989891
X-APPLE-STRUCTURED-LOCATION;VALUE=URI;X-ADDRESS=Aristaeus Craft Brewing Co. 2475C Big Oak Road Langhorne PA 19047 United States;X-APPLE-RADIUS=500;X-TITLE=2475C Big Oak Road:geo:-73.989891,40.71839
END:VEVENT
BEGIN:VEVENT
DTSTART;TZID=America/New_York:20230805T130000
DTEND;TZID=America/New_York:20230805T210000
DTSTAMP:20260419T230456
CREATED:20230724T160141Z
LAST-MODIFIED:20230724T160141Z
UID:10000748-1691240400-1691269200@aristaeusbrewing.com
SUMMARY:Food Truck: Twisted Kitchen
DESCRIPTION:
URL:https://aristaeusbrewing.com/event/food-truck-twisted-kitchen/
LOCATION:Aristaeus Craft Brewing Co.\, 2475C Big Oak Road\, Langhorne\, PA\, 19047\, United States
CATEGORIES:Food Truck
GEO:40.71839;-73.989891
X-APPLE-STRUCTURED-LOCATION;VALUE=URI;X-ADDRESS=Aristaeus Craft Brewing Co. 2475C Big Oak Road Langhorne PA 19047 United States;X-APPLE-RADIUS=500;X-TITLE=2475C Big Oak Road:geo:-73.989891,40.71839
END:VEVENT
BEGIN:VEVENT
DTSTART;TZID=America/New_York:20230806T130000
DTEND;TZID=America/New_York:20230806T180000
DTSTAMP:20260419T230456
CREATED:20230706T195638Z
LAST-MODIFIED:20230706T195638Z
UID:10000723-1691326800-1691344800@aristaeusbrewing.com
SUMMARY:Food Truck: Surf and Turf
DESCRIPTION:
URL:https://aristaeusbrewing.com/event/food-truck-surf-and-turf-12/
LOCATION:Aristaeus Craft Brewing Co.\, 2475C Big Oak Road\, Langhorne\, PA\, 19047\, United States
CATEGORIES:Food Truck
ATTACH;FMTTYPE=image/jpeg:https://aristaeusbrewing.com/wp-content/uploads/2021/09/surf-and-turf-at-aristaeus-brewing.jpg
GEO:40.71839;-73.989891
X-APPLE-STRUCTURED-LOCATION;VALUE=URI;X-ADDRESS=Aristaeus Craft Brewing Co. 2475C Big Oak Road Langhorne PA 19047 United States;X-APPLE-RADIUS=500;X-TITLE=2475C Big Oak Road:geo:-73.989891,40.71839
END:VEVENT
BEGIN:VEVENT
DTSTART;TZID=America/New_York:20230806T150000
DTEND;TZID=America/New_York:20230806T180000
DTSTAMP:20260419T230456
CREATED:20230706T195906Z
LAST-MODIFIED:20230706T195906Z
UID:10000419-1691334000-1691344800@aristaeusbrewing.com
SUMMARY:Music: Ryan Shubert
DESCRIPTION:
URL:https://aristaeusbrewing.com/event/music-ryan-shubert/
LOCATION:Aristaeus Craft Brewing Co.\, 2475C Big Oak Road\, Langhorne\, PA\, 19047\, United States
CATEGORIES:Music
GEO:40.71839;-73.989891
X-APPLE-STRUCTURED-LOCATION;VALUE=URI;X-ADDRESS=Aristaeus Craft Brewing Co. 2475C Big Oak Road Langhorne PA 19047 United States;X-APPLE-RADIUS=500;X-TITLE=2475C Big Oak Road:geo:-73.989891,40.71839
END:VEVENT
BEGIN:VEVENT
DTSTART;TZID=America/New_York:20230809T160000
DTEND;TZID=America/New_York:20230809T210000
DTSTAMP:20260419T230456
CREATED:20230707T170159Z
LAST-MODIFIED:20230707T170159Z
UID:10000742-1691596800-1691614800@aristaeusbrewing.com
SUMMARY:Food Truck: Thai It Up
DESCRIPTION:
URL:https://aristaeusbrewing.com/event/food-truck-thai-it-up-22/
LOCATION:Aristaeus Craft Brewing Co.\, 2475C Big Oak Road\, Langhorne\, PA\, 19047\, United States
CATEGORIES:Food Truck
ATTACH;FMTTYPE=image/jpeg:https://aristaeusbrewing.com/wp-content/uploads/2022/06/thai-it-up-aristaeus-craft-brewing-co.jpg
GEO:40.71839;-73.989891
X-APPLE-STRUCTURED-LOCATION;VALUE=URI;X-ADDRESS=Aristaeus Craft Brewing Co. 2475C Big Oak Road Langhorne PA 19047 United States;X-APPLE-RADIUS=500;X-TITLE=2475C Big Oak Road:geo:-73.989891,40.71839
END:VEVENT
BEGIN:VEVENT
DTSTART;TZID=America/New_York:20230810T160000
DTEND;TZID=America/New_York:20230810T210000
DTSTAMP:20260419T230456
CREATED:20230706T195939Z
LAST-MODIFIED:20230706T195939Z
UID:10000421-1691683200-1691701200@aristaeusbrewing.com
SUMMARY:Food Truck: Lobster Dogs
DESCRIPTION:
URL:https://aristaeusbrewing.com/event/food-truck-lobster-dogs-17/
LOCATION:Aristaeus Craft Brewing Co.\, 2475C Big Oak Road\, Langhorne\, PA\, 19047\, United States
CATEGORIES:Food Truck
ATTACH;FMTTYPE=image/jpeg:https://aristaeusbrewing.com/wp-content/uploads/2021/10/lobster-dog-at-aristaeus-brewing-ec-rev.jpg
GEO:40.71839;-73.989891
X-APPLE-STRUCTURED-LOCATION;VALUE=URI;X-ADDRESS=Aristaeus Craft Brewing Co. 2475C Big Oak Road Langhorne PA 19047 United States;X-APPLE-RADIUS=500;X-TITLE=2475C Big Oak Road:geo:-73.989891,40.71839
END:VEVENT
BEGIN:VEVENT
DTSTART;TZID=America/New_York:20230811T160000
DTEND;TZID=America/New_York:20230811T210000
DTSTAMP:20260419T230456
CREATED:20230706T200026Z
LAST-MODIFIED:20230706T200026Z
UID:10000423-1691769600-1691787600@aristaeusbrewing.com
SUMMARY:Food Truck: The Wrap ‘N Roll Truck
DESCRIPTION:
URL:https://aristaeusbrewing.com/event/food-truck-the-wrap-n-roll-truck/
LOCATION:Aristaeus Craft Brewing Co.\, 2475C Big Oak Road\, Langhorne\, PA\, 19047\, United States
CATEGORIES:Food Truck
GEO:40.71839;-73.989891
X-APPLE-STRUCTURED-LOCATION;VALUE=URI;X-ADDRESS=Aristaeus Craft Brewing Co. 2475C Big Oak Road Langhorne PA 19047 United States;X-APPLE-RADIUS=500;X-TITLE=2475C Big Oak Road:geo:-73.989891,40.71839
END:VEVENT
BEGIN:VEVENT
DTSTART;TZID=America/New_York:20230811T190000
DTEND;TZID=America/New_York:20230811T220000
DTSTAMP:20260419T230456
CREATED:20230706T200049Z
LAST-MODIFIED:20230706T200049Z
UID:10000425-1691780400-1691791200@aristaeusbrewing.com
SUMMARY:Music: Chris Nickey
DESCRIPTION:
URL:https://aristaeusbrewing.com/event/music-chris-nickey-4/
LOCATION:Aristaeus Craft Brewing Co.\, 2475C Big Oak Road\, Langhorne\, PA\, 19047\, United States
CATEGORIES:Music
GEO:40.71839;-73.989891
X-APPLE-STRUCTURED-LOCATION;VALUE=URI;X-ADDRESS=Aristaeus Craft Brewing Co. 2475C Big Oak Road Langhorne PA 19047 United States;X-APPLE-RADIUS=500;X-TITLE=2475C Big Oak Road:geo:-73.989891,40.71839
END:VEVENT
BEGIN:VEVENT
DTSTART;TZID=America/New_York:20230812T130000
DTEND;TZID=America/New_York:20230812T180000
DTSTAMP:20260419T230456
CREATED:20230706T200511Z
LAST-MODIFIED:20230706T200511Z
UID:10000433-1691845200-1691863200@aristaeusbrewing.com
SUMMARY:Event: Vault Brew Fest 2023
DESCRIPTION:Facebook Event Link
URL:https://aristaeusbrewing.com/event/event-vault-brew-fest-2023/
LOCATION:Vault Smokehouse\, 19 W College Ave\, Yardley\, 19067\, United States
CATEGORIES:Events
END:VEVENT
BEGIN:VEVENT
DTSTART;TZID=America/New_York:20230812T130000
DTEND;TZID=America/New_York:20230812T210000
DTSTAMP:20260419T230456
CREATED:20230706T200158Z
LAST-MODIFIED:20230706T200158Z
UID:10000429-1691845200-1691874000@aristaeusbrewing.com
SUMMARY:Food Truck: El Toro Serrano
DESCRIPTION:
URL:https://aristaeusbrewing.com/event/food-truck-el-toro-serrano-3/
LOCATION:Aristaeus Craft Brewing Co.\, 2475C Big Oak Road\, Langhorne\, PA\, 19047\, United States
CATEGORIES:Food Truck
GEO:40.71839;-73.989891
X-APPLE-STRUCTURED-LOCATION;VALUE=URI;X-ADDRESS=Aristaeus Craft Brewing Co. 2475C Big Oak Road Langhorne PA 19047 United States;X-APPLE-RADIUS=500;X-TITLE=2475C Big Oak Road:geo:-73.989891,40.71839
END:VEVENT
BEGIN:VEVENT
DTSTART;TZID=America/New_York:20230812T190000
DTEND;TZID=America/New_York:20230812T220000
DTSTAMP:20260419T230456
CREATED:20230706T200303Z
LAST-MODIFIED:20230706T200303Z
UID:10000431-1691866800-1691877600@aristaeusbrewing.com
SUMMARY:Music: Train in Chains & Fave Grohl
DESCRIPTION:
URL:https://aristaeusbrewing.com/event/music-train-in-chains-fave-grohl/
LOCATION:Aristaeus Craft Brewing Co.\, 2475C Big Oak Road\, Langhorne\, PA\, 19047\, United States
CATEGORIES:Music
GEO:40.71839;-73.989891
X-APPLE-STRUCTURED-LOCATION;VALUE=URI;X-ADDRESS=Aristaeus Craft Brewing Co. 2475C Big Oak Road Langhorne PA 19047 United States;X-APPLE-RADIUS=500;X-TITLE=2475C Big Oak Road:geo:-73.989891,40.71839
END:VEVENT
BEGIN:VEVENT
DTSTART;TZID=America/New_York:20230813T130000
DTEND;TZID=America/New_York:20230813T180000
DTSTAMP:20260419T230456
CREATED:20230706T200919Z
LAST-MODIFIED:20230706T200919Z
UID:10000435-1691931600-1691949600@aristaeusbrewing.com
SUMMARY:Food Truck: Daddy's Kitchen
DESCRIPTION:
URL:https://aristaeusbrewing.com/event/food-truck-daddys-kitchen-16/
LOCATION:Aristaeus Craft Brewing Co.\, 2475C Big Oak Road\, Langhorne\, PA\, 19047\, United States
CATEGORIES:Food Truck
ATTACH;FMTTYPE=image/jpeg:https://aristaeusbrewing.com/wp-content/uploads/2022/12/daddys-kitchen-aristaeus-brewing.jpg
GEO:40.71839;-73.989891
X-APPLE-STRUCTURED-LOCATION;VALUE=URI;X-ADDRESS=Aristaeus Craft Brewing Co. 2475C Big Oak Road Langhorne PA 19047 United States;X-APPLE-RADIUS=500;X-TITLE=2475C Big Oak Road:geo:-73.989891,40.71839
END:VEVENT
BEGIN:VEVENT
DTSTART;TZID=America/New_York:20230813T150000
DTEND;TZID=America/New_York:20230813T180000
DTSTAMP:20260419T230456
CREATED:20230706T200948Z
LAST-MODIFIED:20230706T200948Z
UID:10000437-1691938800-1691949600@aristaeusbrewing.com
SUMMARY:Music: Dana Collins Project
DESCRIPTION:
URL:https://aristaeusbrewing.com/event/music-dana-collins-project-4/
LOCATION:Aristaeus Craft Brewing Co.\, 2475C Big Oak Road\, Langhorne\, PA\, 19047\, United States
CATEGORIES:Music
ATTACH;FMTTYPE=image/jpeg:https://aristaeusbrewing.com/wp-content/uploads/2022/02/dana-collins-at-aristaeus-brewing.jpg
GEO:40.71839;-73.989891
X-APPLE-STRUCTURED-LOCATION;VALUE=URI;X-ADDRESS=Aristaeus Craft Brewing Co. 2475C Big Oak Road Langhorne PA 19047 United States;X-APPLE-RADIUS=500;X-TITLE=2475C Big Oak Road:geo:-73.989891,40.71839
END:VEVENT
BEGIN:VEVENT
DTSTART;TZID=America/New_York:20230817T170000
DTEND;TZID=America/New_York:20230817T170000
DTSTAMP:20260419T230456
CREATED:20230706T201023Z
LAST-MODIFIED:20230706T201023Z
UID:10000727-1692291600-1692291600@aristaeusbrewing.com
SUMMARY:Food Truck: Kono Pizza
DESCRIPTION:
URL:https://aristaeusbrewing.com/event/food-truck-kono-pizza-18/
LOCATION:Aristaeus Craft Brewing Co.\, 2475C Big Oak Road\, Langhorne\, PA\, 19047\, United States
CATEGORIES:Food Truck
ATTACH;FMTTYPE=image/jpeg:https://aristaeusbrewing.com/wp-content/uploads/2021/09/kono-pizza-at-aristaeus-brewing.jpg
GEO:40.71839;-73.989891
X-APPLE-STRUCTURED-LOCATION;VALUE=URI;X-ADDRESS=Aristaeus Craft Brewing Co. 2475C Big Oak Road Langhorne PA 19047 United States;X-APPLE-RADIUS=500;X-TITLE=2475C Big Oak Road:geo:-73.989891,40.71839
END:VEVENT
BEGIN:VEVENT
DTSTART;TZID=America/New_York:20230818T160000
DTEND;TZID=America/New_York:20230818T210000
DTSTAMP:20260419T230456
CREATED:20230706T195024Z
LAST-MODIFIED:20230706T195024Z
UID:10000724-1692374400-1692392400@aristaeusbrewing.com
SUMMARY:Food Truck: EL Sabor del Bajio
DESCRIPTION:
URL:https://aristaeusbrewing.com/event/food-truck-el-sabor-del-bajio-56/
LOCATION:Aristaeus Craft Brewing Co.\, 2475C Big Oak Road\, Langhorne\, PA\, 19047\, United States
CATEGORIES:Food Truck
ATTACH;FMTTYPE=image/jpeg:https://aristaeusbrewing.com/wp-content/uploads/2021/09/el-sabor-at-aristaeus-brewing-ec-1.jpg
GEO:40.71839;-73.989891
X-APPLE-STRUCTURED-LOCATION;VALUE=URI;X-ADDRESS=Aristaeus Craft Brewing Co. 2475C Big Oak Road Langhorne PA 19047 United States;X-APPLE-RADIUS=500;X-TITLE=2475C Big Oak Road:geo:-73.989891,40.71839
END:VEVENT
BEGIN:VEVENT
DTSTART;TZID=America/New_York:20230818T190000
DTEND;TZID=America/New_York:20230818T220000
DTSTAMP:20260419T230456
CREATED:20230706T201120Z
LAST-MODIFIED:20230706T201120Z
UID:10000728-1692385200-1692396000@aristaeusbrewing.com
SUMMARY:Music: Peter Beck
DESCRIPTION:
URL:https://aristaeusbrewing.com/event/music-peter-beck/
LOCATION:Aristaeus Craft Brewing Co.\, 2475C Big Oak Road\, Langhorne\, PA\, 19047\, United States
CATEGORIES:Music
GEO:40.71839;-73.989891
X-APPLE-STRUCTURED-LOCATION;VALUE=URI;X-ADDRESS=Aristaeus Craft Brewing Co. 2475C Big Oak Road Langhorne PA 19047 United States;X-APPLE-RADIUS=500;X-TITLE=2475C Big Oak Road:geo:-73.989891,40.71839
END:VEVENT
BEGIN:VEVENT
DTSTART;TZID=America/New_York:20230819T130000
DTEND;TZID=America/New_York:20230819T210000
DTSTAMP:20260419T230456
CREATED:20230706T201215Z
LAST-MODIFIED:20230706T201356Z
UID:10000730-1692450000-1692478800@aristaeusbrewing.com
SUMMARY:Food Truck: Bad Mother Shuckers Seafood Boil
DESCRIPTION:
URL:https://aristaeusbrewing.com/event/food-truck-bad-mother-shuckers-seafood-boil/
LOCATION:Aristaeus Craft Brewing Co.\, 2475C Big Oak Road\, Langhorne\, PA\, 19047\, United States
CATEGORIES:Food Truck
ATTACH;FMTTYPE=image/jpeg:https://aristaeusbrewing.com/wp-content/uploads/2023/03/bad-mother-shuckers-aristaeus-craft-brewing-co.jpg
GEO:40.71839;-73.989891
X-APPLE-STRUCTURED-LOCATION;VALUE=URI;X-ADDRESS=Aristaeus Craft Brewing Co. 2475C Big Oak Road Langhorne PA 19047 United States;X-APPLE-RADIUS=500;X-TITLE=2475C Big Oak Road:geo:-73.989891,40.71839
END:VEVENT
END:VCALENDAR