BEGIN:VCALENDAR
VERSION:2.0
PRODID:-//Aristaeus Craft Brewing Co. - ECPv6.15.20//NONSGML v1.0//EN
CALSCALE:GREGORIAN
METHOD:PUBLISH
X-WR-CALNAME:Aristaeus Craft Brewing Co.
X-ORIGINAL-URL:https://aristaeusbrewing.com
X-WR-CALDESC:Events for Aristaeus Craft Brewing Co.
REFRESH-INTERVAL;VALUE=DURATION:PT1H
X-Robots-Tag:noindex
X-PUBLISHED-TTL:PT1H
BEGIN:VTIMEZONE
TZID:America/New_York
BEGIN:DAYLIGHT
TZOFFSETFROM:-0500
TZOFFSETTO:-0400
TZNAME:EDT
DTSTART:20210314T070000
END:DAYLIGHT
BEGIN:STANDARD
TZOFFSETFROM:-0400
TZOFFSETTO:-0500
TZNAME:EST
DTSTART:20211107T060000
END:STANDARD
BEGIN:DAYLIGHT
TZOFFSETFROM:-0500
TZOFFSETTO:-0400
TZNAME:EDT
DTSTART:20220313T070000
END:DAYLIGHT
BEGIN:STANDARD
TZOFFSETFROM:-0400
TZOFFSETTO:-0500
TZNAME:EST
DTSTART:20221106T060000
END:STANDARD
BEGIN:DAYLIGHT
TZOFFSETFROM:-0500
TZOFFSETTO:-0400
TZNAME:EDT
DTSTART:20230312T070000
END:DAYLIGHT
BEGIN:STANDARD
TZOFFSETFROM:-0400
TZOFFSETTO:-0500
TZNAME:EST
DTSTART:20231105T060000
END:STANDARD
END:VTIMEZONE
BEGIN:VEVENT
DTSTART;TZID=America/New_York:20221019T160000
DTEND;TZID=America/New_York:20221019T210000
DTSTAMP:20260420T025521
CREATED:20220810T191427Z
LAST-MODIFIED:20220810T191427Z
UID:10000424-1666195200-1666213200@aristaeusbrewing.com
SUMMARY:Food Truck: Smoke Break BBQ
DESCRIPTION:
URL:https://aristaeusbrewing.com/event/food-truck-smoke-break-bbq-2/
LOCATION:Aristaeus Craft Brewing Co.\, 2475C Big Oak Road\, Langhorne\, PA\, 19047\, United States
CATEGORIES:Food Truck
GEO:40.71839;-73.989891
X-APPLE-STRUCTURED-LOCATION;VALUE=URI;X-ADDRESS=Aristaeus Craft Brewing Co. 2475C Big Oak Road Langhorne PA 19047 United States;X-APPLE-RADIUS=500;X-TITLE=2475C Big Oak Road:geo:-73.989891,40.71839
END:VEVENT
BEGIN:VEVENT
DTSTART;TZID=America/New_York:20221016T140000
DTEND;TZID=America/New_York:20221016T170000
DTSTAMP:20260420T025521
CREATED:20220810T194451Z
LAST-MODIFIED:20220810T194451Z
UID:10000447-1665928800-1665939600@aristaeusbrewing.com
SUMMARY:Music: Brieann Wall
DESCRIPTION:
URL:https://aristaeusbrewing.com/event/music-brieann-wall-2/
LOCATION:Aristaeus Craft Brewing Co.\, 2475C Big Oak Road\, Langhorne\, PA\, 19047\, United States
CATEGORIES:Music
ATTACH;FMTTYPE=image/jpeg:https://aristaeusbrewing.com/wp-content/uploads/2022/06/brieann-wall-at-aristaeus-craft-brewing-co.jpg
GEO:40.71839;-73.989891
X-APPLE-STRUCTURED-LOCATION;VALUE=URI;X-ADDRESS=Aristaeus Craft Brewing Co. 2475C Big Oak Road Langhorne PA 19047 United States;X-APPLE-RADIUS=500;X-TITLE=2475C Big Oak Road:geo:-73.989891,40.71839
END:VEVENT
BEGIN:VEVENT
DTSTART;TZID=America/New_York:20221016T130000
DTEND;TZID=America/New_York:20221016T180000
DTSTAMP:20260420T025521
CREATED:20220810T191320Z
LAST-MODIFIED:20220926T152747Z
UID:10000422-1665925200-1665943200@aristaeusbrewing.com
SUMMARY:Food Truck: Surf and Turf
DESCRIPTION:
URL:https://aristaeusbrewing.com/event/food-truck-surf-and-turf-8/
LOCATION:Aristaeus Craft Brewing Co.\, 2475C Big Oak Road\, Langhorne\, PA\, 19047\, United States
CATEGORIES:Food Truck
ATTACH;FMTTYPE=image/jpeg:https://aristaeusbrewing.com/wp-content/uploads/2021/09/surf-and-turf-at-aristaeus-brewing-r.jpg
GEO:40.71839;-73.989891
X-APPLE-STRUCTURED-LOCATION;VALUE=URI;X-ADDRESS=Aristaeus Craft Brewing Co. 2475C Big Oak Road Langhorne PA 19047 United States;X-APPLE-RADIUS=500;X-TITLE=2475C Big Oak Road:geo:-73.989891,40.71839
END:VEVENT
BEGIN:VEVENT
DTSTART;TZID=America/New_York:20221015T150000
DTEND;TZID=America/New_York:20221015T180000
DTSTAMP:20260420T025521
CREATED:20220810T194333Z
LAST-MODIFIED:20220810T194333Z
UID:10000446-1665846000-1665856800@aristaeusbrewing.com
SUMMARY:Music: Matt Kresge
DESCRIPTION:
URL:https://aristaeusbrewing.com/event/music-matt-kresge-4/
LOCATION:Aristaeus Craft Brewing Co.\, 2475C Big Oak Road\, Langhorne\, PA\, 19047\, United States
CATEGORIES:Music
ATTACH;FMTTYPE=image/jpeg:https://aristaeusbrewing.com/wp-content/uploads/2022/06/matt-kresge-at-aristaeus-craft-brewing.jpg
GEO:40.71839;-73.989891
X-APPLE-STRUCTURED-LOCATION;VALUE=URI;X-ADDRESS=Aristaeus Craft Brewing Co. 2475C Big Oak Road Langhorne PA 19047 United States;X-APPLE-RADIUS=500;X-TITLE=2475C Big Oak Road:geo:-73.989891,40.71839
END:VEVENT
BEGIN:VEVENT
DTSTART;TZID=America/New_York:20221015T130000
DTEND;TZID=America/New_York:20221015T200000
DTSTAMP:20260420T025521
CREATED:20220810T191140Z
LAST-MODIFIED:20220810T191140Z
UID:10000420-1665838800-1665864000@aristaeusbrewing.com
SUMMARY:Food Truck: Babalouie
DESCRIPTION:
URL:https://aristaeusbrewing.com/event/food-truck-babalouie-5/
LOCATION:Aristaeus Craft Brewing Co.\, 2475C Big Oak Road\, Langhorne\, PA\, 19047\, United States
CATEGORIES:Food Truck
ATTACH;FMTTYPE=image/jpeg:https://aristaeusbrewing.com/wp-content/uploads/2021/12/Babalouie-at-aristaeus-craft-brewing-co.jpg
GEO:40.71839;-73.989891
X-APPLE-STRUCTURED-LOCATION;VALUE=URI;X-ADDRESS=Aristaeus Craft Brewing Co. 2475C Big Oak Road Langhorne PA 19047 United States;X-APPLE-RADIUS=500;X-TITLE=2475C Big Oak Road:geo:-73.989891,40.71839
END:VEVENT
BEGIN:VEVENT
DTSTART;TZID=America/New_York:20221014T190000
DTEND;TZID=America/New_York:20221014T220000
DTSTAMP:20260420T025521
CREATED:20220810T194215Z
LAST-MODIFIED:20220810T194215Z
UID:10000445-1665774000-1665784800@aristaeusbrewing.com
SUMMARY:Music: The Unplugged Band
DESCRIPTION:
URL:https://aristaeusbrewing.com/event/music-the-unplugged-band-2/
LOCATION:Aristaeus Craft Brewing Co.\, 2475C Big Oak Road\, Langhorne\, PA\, 19047\, United States
CATEGORIES:Music
GEO:40.71839;-73.989891
X-APPLE-STRUCTURED-LOCATION;VALUE=URI;X-ADDRESS=Aristaeus Craft Brewing Co. 2475C Big Oak Road Langhorne PA 19047 United States;X-APPLE-RADIUS=500;X-TITLE=2475C Big Oak Road:geo:-73.989891,40.71839
END:VEVENT
BEGIN:VEVENT
DTSTART;TZID=America/New_York:20221014T160000
DTEND;TZID=America/New_York:20221014T210000
DTSTAMP:20260420T025521
CREATED:20220810T190944Z
LAST-MODIFIED:20220810T190944Z
UID:10000418-1665763200-1665781200@aristaeusbrewing.com
SUMMARY:Food Truck: Lunchboxxx
DESCRIPTION:
URL:https://aristaeusbrewing.com/event/food-truck-lunchboxxx-33/
LOCATION:Aristaeus Craft Brewing Co.\, 2475C Big Oak Road\, Langhorne\, PA\, 19047\, United States
CATEGORIES:Food Truck
ATTACH;FMTTYPE=image/jpeg:https://aristaeusbrewing.com/wp-content/uploads/2021/09/lunchboxxx-at-aristaeus-brewing-ec-1.jpg
GEO:40.71839;-73.989891
X-APPLE-STRUCTURED-LOCATION;VALUE=URI;X-ADDRESS=Aristaeus Craft Brewing Co. 2475C Big Oak Road Langhorne PA 19047 United States;X-APPLE-RADIUS=500;X-TITLE=2475C Big Oak Road:geo:-73.989891,40.71839
END:VEVENT
BEGIN:VEVENT
DTSTART;TZID=America/New_York:20221013T190000
DTEND;TZID=America/New_York:20221013T210000
DTSTAMP:20260420T025521
CREATED:20220810T200525Z
LAST-MODIFIED:20220810T200525Z
UID:10000459-1665687600-1665694800@aristaeusbrewing.com
SUMMARY:Trivia Night
DESCRIPTION:
URL:https://aristaeusbrewing.com/event/trivia-night/2022-10-13/
LOCATION:Aristaeus Craft Brewing Co.\, 2475C Big Oak Road\, Langhorne\, PA\, 19047\, United States
CATEGORIES:Events
GEO:40.71839;-73.989891
X-APPLE-STRUCTURED-LOCATION;VALUE=URI;X-ADDRESS=Aristaeus Craft Brewing Co. 2475C Big Oak Road Langhorne PA 19047 United States;X-APPLE-RADIUS=500;X-TITLE=2475C Big Oak Road:geo:-73.989891,40.71839
END:VEVENT
BEGIN:VEVENT
DTSTART;TZID=America/New_York:20221013T160000
DTEND;TZID=America/New_York:20221013T210000
DTSTAMP:20260420T025521
CREATED:20220810T190811Z
LAST-MODIFIED:20220926T183336Z
UID:10000417-1665676800-1665694800@aristaeusbrewing.com
SUMMARY:Food Truck: Lobster Dogs
DESCRIPTION:
URL:https://aristaeusbrewing.com/event/food-truck-lobster-dogs-10-13/
LOCATION:Aristaeus Craft Brewing Co.\, 2475C Big Oak Road\, Langhorne\, PA\, 19047\, United States
CATEGORIES:Food Truck
ATTACH;FMTTYPE=image/jpeg:https://aristaeusbrewing.com/wp-content/uploads/2021/10/lobster-dog-at-aristaeus-brewing-ec-rev.jpg
GEO:40.71839;-73.989891
X-APPLE-STRUCTURED-LOCATION;VALUE=URI;X-ADDRESS=Aristaeus Craft Brewing Co. 2475C Big Oak Road Langhorne PA 19047 United States;X-APPLE-RADIUS=500;X-TITLE=2475C Big Oak Road:geo:-73.989891,40.71839
END:VEVENT
BEGIN:VEVENT
DTSTART;TZID=America/New_York:20221012T160000
DTEND;TZID=America/New_York:20221012T200000
DTSTAMP:20260420T025521
CREATED:20220810T190628Z
LAST-MODIFIED:20220810T190628Z
UID:10000416-1665590400-1665604800@aristaeusbrewing.com
SUMMARY:Food Truck: Art the Cart
DESCRIPTION:
URL:https://aristaeusbrewing.com/event/food-truck-art-the-cart-5/
LOCATION:Aristaeus Craft Brewing Co.\, 2475C Big Oak Road\, Langhorne\, PA\, 19047\, United States
CATEGORIES:Food Truck
GEO:40.71839;-73.989891
X-APPLE-STRUCTURED-LOCATION;VALUE=URI;X-ADDRESS=Aristaeus Craft Brewing Co. 2475C Big Oak Road Langhorne PA 19047 United States;X-APPLE-RADIUS=500;X-TITLE=2475C Big Oak Road:geo:-73.989891,40.71839
END:VEVENT
BEGIN:VEVENT
DTSTART;TZID=America/New_York:20221009T140000
DTEND;TZID=America/New_York:20221009T170000
DTSTAMP:20260420T025521
CREATED:20220810T194029Z
LAST-MODIFIED:20220810T194029Z
UID:10000444-1665324000-1665334800@aristaeusbrewing.com
SUMMARY:Music: Bill Thomas
DESCRIPTION:
URL:https://aristaeusbrewing.com/event/music-bill-thomas-8/
LOCATION:Aristaeus Craft Brewing Co.\, 2475C Big Oak Road\, Langhorne\, PA\, 19047\, United States
CATEGORIES:Music
GEO:40.71839;-73.989891
X-APPLE-STRUCTURED-LOCATION;VALUE=URI;X-ADDRESS=Aristaeus Craft Brewing Co. 2475C Big Oak Road Langhorne PA 19047 United States;X-APPLE-RADIUS=500;X-TITLE=2475C Big Oak Road:geo:-73.989891,40.71839
END:VEVENT
BEGIN:VEVENT
DTSTART;TZID=America/New_York:20221009T130000
DTEND;TZID=America/New_York:20221009T180000
DTSTAMP:20260420T025521
CREATED:20220810T190012Z
LAST-MODIFIED:20220926T152754Z
UID:10000225-1665320400-1665338400@aristaeusbrewing.com
SUMMARY:Food Truck: United Crepes of America
DESCRIPTION:
URL:https://aristaeusbrewing.com/event/food-truck-united-crepes-of-america/
LOCATION:Aristaeus Craft Brewing Co.\, 2475C Big Oak Road\, Langhorne\, PA\, 19047\, United States
CATEGORIES:Food Truck
ATTACH;FMTTYPE=image/jpeg:https://aristaeusbrewing.com/wp-content/uploads/2022/05/united-crepes-america-at-aristaeus-craft-brewing-co.jpg
GEO:40.71839;-73.989891
X-APPLE-STRUCTURED-LOCATION;VALUE=URI;X-ADDRESS=Aristaeus Craft Brewing Co. 2475C Big Oak Road Langhorne PA 19047 United States;X-APPLE-RADIUS=500;X-TITLE=2475C Big Oak Road:geo:-73.989891,40.71839
END:VEVENT
BEGIN:VEVENT
DTSTART;TZID=America/New_York:20221008T150000
DTEND;TZID=America/New_York:20221008T180000
DTSTAMP:20260420T025521
CREATED:20220810T193852Z
LAST-MODIFIED:20220810T193852Z
UID:10000443-1665241200-1665252000@aristaeusbrewing.com
SUMMARY:Music: Frank Cervantes
DESCRIPTION:
URL:https://aristaeusbrewing.com/event/music-frank-cervantes/
LOCATION:Aristaeus Craft Brewing Co.\, 2475C Big Oak Road\, Langhorne\, PA\, 19047\, United States
CATEGORIES:Music
GEO:40.71839;-73.989891
X-APPLE-STRUCTURED-LOCATION;VALUE=URI;X-ADDRESS=Aristaeus Craft Brewing Co. 2475C Big Oak Road Langhorne PA 19047 United States;X-APPLE-RADIUS=500;X-TITLE=2475C Big Oak Road:geo:-73.989891,40.71839
END:VEVENT
BEGIN:VEVENT
DTSTART;TZID=America/New_York:20221008T120000
DTEND;TZID=America/New_York:20221008T200000
DTSTAMP:20260420T025521
CREATED:20220810T185809Z
LAST-MODIFIED:20220926T152724Z
UID:10000224-1665230400-1665259200@aristaeusbrewing.com
SUMMARY:Food Truck: Southern Style Seafood
DESCRIPTION:
URL:https://aristaeusbrewing.com/event/food-truck-southern-style-seafood-2/
LOCATION:Aristaeus Craft Brewing Co.\, 2475C Big Oak Road\, Langhorne\, PA\, 19047\, United States
CATEGORIES:Food Truck
ATTACH;FMTTYPE=image/jpeg:https://aristaeusbrewing.com/wp-content/uploads/2022/06/southern-style-seafood-aristaeus-craft-brewing.jpg
GEO:40.71839;-73.989891
X-APPLE-STRUCTURED-LOCATION;VALUE=URI;X-ADDRESS=Aristaeus Craft Brewing Co. 2475C Big Oak Road Langhorne PA 19047 United States;X-APPLE-RADIUS=500;X-TITLE=2475C Big Oak Road:geo:-73.989891,40.71839
END:VEVENT
BEGIN:VEVENT
DTSTART;TZID=America/New_York:20221008T120000
DTEND;TZID=America/New_York:20221008T160000
DTSTAMP:20260420T025521
CREATED:20220906T152719Z
LAST-MODIFIED:20220906T152719Z
UID:10000248-1665230400-1665244800@aristaeusbrewing.com
SUMMARY:ParklandFest Community Day
DESCRIPTION:ParklandFest Community Day benefiting the Middletown Community Foundation.
URL:https://aristaeusbrewing.com/event/parklandfest-community-day/
LOCATION:PA
CATEGORIES:Events
END:VEVENT
BEGIN:VEVENT
DTSTART;TZID=America/New_York:20221007T190000
DTEND;TZID=America/New_York:20221007T220000
DTSTAMP:20260420T025521
CREATED:20220810T193638Z
LAST-MODIFIED:20220810T193638Z
UID:10000442-1665169200-1665180000@aristaeusbrewing.com
SUMMARY:Music: John Thomas
DESCRIPTION:
URL:https://aristaeusbrewing.com/event/music-john-thomas-5/
LOCATION:Aristaeus Craft Brewing Co.\, 2475C Big Oak Road\, Langhorne\, PA\, 19047\, United States
CATEGORIES:Music
ATTACH;FMTTYPE=image/jpeg:https://aristaeusbrewing.com/wp-content/uploads/2022/03/john-thomas-at-aristaeus-brewing.jpg
GEO:40.71839;-73.989891
X-APPLE-STRUCTURED-LOCATION;VALUE=URI;X-ADDRESS=Aristaeus Craft Brewing Co. 2475C Big Oak Road Langhorne PA 19047 United States;X-APPLE-RADIUS=500;X-TITLE=2475C Big Oak Road:geo:-73.989891,40.71839
END:VEVENT
BEGIN:VEVENT
DTSTART;TZID=America/New_York:20221007T160000
DTEND;TZID=America/New_York:20221007T210000
DTSTAMP:20260420T025521
CREATED:20220810T185626Z
LAST-MODIFIED:20220810T185626Z
UID:10000223-1665158400-1665176400@aristaeusbrewing.com
SUMMARY:Food Truck: Maui Lu
DESCRIPTION:
URL:https://aristaeusbrewing.com/event/food-truck-maui-lu-2/
LOCATION:Aristaeus Craft Brewing Co.\, 2475C Big Oak Road\, Langhorne\, PA\, 19047\, United States
CATEGORIES:Food Truck
ATTACH;FMTTYPE=image/jpeg:https://aristaeusbrewing.com/wp-content/uploads/2021/09/maui-lu-at-aristaeus-brewing-rev.jpg
GEO:40.71839;-73.989891
X-APPLE-STRUCTURED-LOCATION;VALUE=URI;X-ADDRESS=Aristaeus Craft Brewing Co. 2475C Big Oak Road Langhorne PA 19047 United States;X-APPLE-RADIUS=500;X-TITLE=2475C Big Oak Road:geo:-73.989891,40.71839
END:VEVENT
BEGIN:VEVENT
DTSTART;TZID=America/New_York:20221006T190000
DTEND;TZID=America/New_York:20221006T210000
DTSTAMP:20260420T025521
CREATED:20220810T200525Z
LAST-MODIFIED:20220810T200525Z
UID:10000458-1665082800-1665090000@aristaeusbrewing.com
SUMMARY:Trivia Night
DESCRIPTION:
URL:https://aristaeusbrewing.com/event/trivia-night/2022-10-06/
LOCATION:Aristaeus Craft Brewing Co.\, 2475C Big Oak Road\, Langhorne\, PA\, 19047\, United States
CATEGORIES:Events
GEO:40.71839;-73.989891
X-APPLE-STRUCTURED-LOCATION;VALUE=URI;X-ADDRESS=Aristaeus Craft Brewing Co. 2475C Big Oak Road Langhorne PA 19047 United States;X-APPLE-RADIUS=500;X-TITLE=2475C Big Oak Road:geo:-73.989891,40.71839
END:VEVENT
BEGIN:VEVENT
DTSTART;TZID=America/New_York:20221006T160000
DTEND;TZID=America/New_York:20221006T210000
DTSTAMP:20260420T025521
CREATED:20220810T185444Z
LAST-MODIFIED:20220810T185444Z
UID:10000222-1665072000-1665090000@aristaeusbrewing.com
SUMMARY:Food Truck: Lunchboxxx
DESCRIPTION:
URL:https://aristaeusbrewing.com/event/food-truck-lunchboxxx-32/
LOCATION:Aristaeus Craft Brewing Co.\, 2475C Big Oak Road\, Langhorne\, PA\, 19047\, United States
CATEGORIES:Food Truck
ATTACH;FMTTYPE=image/jpeg:https://aristaeusbrewing.com/wp-content/uploads/2021/09/lunchboxxx-at-aristaeus-brewing-ec-2.jpg
GEO:40.71839;-73.989891
X-APPLE-STRUCTURED-LOCATION;VALUE=URI;X-ADDRESS=Aristaeus Craft Brewing Co. 2475C Big Oak Road Langhorne PA 19047 United States;X-APPLE-RADIUS=500;X-TITLE=2475C Big Oak Road:geo:-73.989891,40.71839
END:VEVENT
BEGIN:VEVENT
DTSTART;TZID=America/New_York:20221005T160000
DTEND;TZID=America/New_York:20221005T200000
DTSTAMP:20260420T025521
CREATED:20220810T185225Z
LAST-MODIFIED:20220810T185225Z
UID:10000221-1664985600-1665000000@aristaeusbrewing.com
SUMMARY:Food Truck: Angie's Vietnamese Cuisine
DESCRIPTION:
URL:https://aristaeusbrewing.com/event/food-truck-angies-vietnamese-cuisine/
LOCATION:Aristaeus Craft Brewing Co.\, 2475C Big Oak Road\, Langhorne\, PA\, 19047\, United States
CATEGORIES:Food Truck
GEO:40.71839;-73.989891
X-APPLE-STRUCTURED-LOCATION;VALUE=URI;X-ADDRESS=Aristaeus Craft Brewing Co. 2475C Big Oak Road Langhorne PA 19047 United States;X-APPLE-RADIUS=500;X-TITLE=2475C Big Oak Road:geo:-73.989891,40.71839
END:VEVENT
BEGIN:VEVENT
DTSTART;TZID=America/New_York:20221002T140000
DTEND;TZID=America/New_York:20221002T170000
DTSTAMP:20260420T025521
CREATED:20220810T193419Z
LAST-MODIFIED:20220810T193419Z
UID:10000441-1664719200-1664730000@aristaeusbrewing.com
SUMMARY:Music: Faye Meyer
DESCRIPTION:
URL:https://aristaeusbrewing.com/event/music-faye-meyer-8/
LOCATION:Aristaeus Craft Brewing Co.\, 2475C Big Oak Road\, Langhorne\, PA\, 19047\, United States
CATEGORIES:Music
ATTACH;FMTTYPE=image/jpeg:https://aristaeusbrewing.com/wp-content/uploads/2022/02/faye-meyer-at-aristaeus-brewing.jpg
GEO:40.71839;-73.989891
X-APPLE-STRUCTURED-LOCATION;VALUE=URI;X-ADDRESS=Aristaeus Craft Brewing Co. 2475C Big Oak Road Langhorne PA 19047 United States;X-APPLE-RADIUS=500;X-TITLE=2475C Big Oak Road:geo:-73.989891,40.71839
END:VEVENT
BEGIN:VEVENT
DTSTART;TZID=America/New_York:20221002T130000
DTEND;TZID=America/New_York:20221002T180000
DTSTAMP:20260420T025521
CREATED:20220810T185055Z
LAST-MODIFIED:20220926T152802Z
UID:10000220-1664715600-1664733600@aristaeusbrewing.com
SUMMARY:Food Truck: Thai Jai Dee
DESCRIPTION:
URL:https://aristaeusbrewing.com/event/food-truck-thai-jai-dee-8/
LOCATION:Aristaeus Craft Brewing Co.\, 2475C Big Oak Road\, Langhorne\, PA\, 19047\, United States
CATEGORIES:Food Truck
ATTACH;FMTTYPE=image/jpeg:https://aristaeusbrewing.com/wp-content/uploads/2021/12/thai-jaid-dee-at-aristaeus-craft-brewing-co.jpg
GEO:40.71839;-73.989891
X-APPLE-STRUCTURED-LOCATION;VALUE=URI;X-ADDRESS=Aristaeus Craft Brewing Co. 2475C Big Oak Road Langhorne PA 19047 United States;X-APPLE-RADIUS=500;X-TITLE=2475C Big Oak Road:geo:-73.989891,40.71839
END:VEVENT
BEGIN:VEVENT
DTSTART;TZID=America/New_York:20221001T150000
DTEND;TZID=America/New_York:20221001T220000
DTSTAMP:20260420T025521
CREATED:20220810T193239Z
LAST-MODIFIED:20220921T214323Z
UID:10000440-1664636400-1664661600@aristaeusbrewing.com
SUMMARY:Music: Supertrain and Jupiter & The Jets
DESCRIPTION:Supertrain (3-6pm) and Jupiter & The Jets (7-10pm)
URL:https://aristaeusbrewing.com/event/music-10-1/
LOCATION:Aristaeus Craft Brewing Co.\, 2475C Big Oak Road\, Langhorne\, PA\, 19047\, United States
CATEGORIES:Music
GEO:40.71839;-73.989891
X-APPLE-STRUCTURED-LOCATION;VALUE=URI;X-ADDRESS=Aristaeus Craft Brewing Co. 2475C Big Oak Road Langhorne PA 19047 United States;X-APPLE-RADIUS=500;X-TITLE=2475C Big Oak Road:geo:-73.989891,40.71839
END:VEVENT
BEGIN:VEVENT
DTSTART;TZID=America/New_York:20221001T120000
DTEND;TZID=America/New_York:20221001T160000
DTSTAMP:20260420T025521
CREATED:20220906T152648Z
LAST-MODIFIED:20220906T152648Z
UID:10000246-1664625600-1664640000@aristaeusbrewing.com
SUMMARY:Hulmeville Biergarten
DESCRIPTION:Hulmeville Biergarten celebrating Hulmeville Borough’s 150th Anniversary.
URL:https://aristaeusbrewing.com/event/hulmeville-biergarten/
LOCATION:PA
CATEGORIES:Events
END:VEVENT
BEGIN:VEVENT
DTSTART;TZID=America/New_York:20220930T190000
DTEND;TZID=America/New_York:20220930T220000
DTSTAMP:20260420T025521
CREATED:20220725T224144Z
LAST-MODIFIED:20220725T224144Z
UID:10000219-1664564400-1664575200@aristaeusbrewing.com
SUMMARY:Music: Ryan Sab
DESCRIPTION:
URL:https://aristaeusbrewing.com/event/music-ryan-sab-5/
LOCATION:Aristaeus Craft Brewing Co.\, 2475C Big Oak Road\, Langhorne\, PA\, 19047\, United States
CATEGORIES:Music
ATTACH;FMTTYPE=image/jpeg:https://aristaeusbrewing.com/wp-content/uploads/2022/03/ryan-sab-at-aristaeus-brewing.jpg
GEO:40.71839;-73.989891
X-APPLE-STRUCTURED-LOCATION;VALUE=URI;X-ADDRESS=Aristaeus Craft Brewing Co. 2475C Big Oak Road Langhorne PA 19047 United States;X-APPLE-RADIUS=500;X-TITLE=2475C Big Oak Road:geo:-73.989891,40.71839
END:VEVENT
BEGIN:VEVENT
DTSTART;TZID=America/New_York:20220930T160000
DTEND;TZID=America/New_York:20220930T230000
DTSTAMP:20260420T025521
CREATED:20220906T152319Z
LAST-MODIFIED:20220906T152437Z
UID:10000473-1664553600-1664578800@aristaeusbrewing.com
SUMMARY:Oktoberfest '22
DESCRIPTION:Mark your calendar for Aristaeus Oktoberfest ’22 on Friday\, September 30 with The Flying Deutschman German food truck. \nWe’ll be kicking off the festivities on Wednesday\, September 28 with the release of Aristaeus Festbier (a pale German lager)\, Grosses Zelt Brau (a Munich Dunkel)\, and our official dimpled Oktoberfest stein. Steins will be available for purchase in the taproom (limited quantity\, first-come/first-served) and can be used when you order (September 28 – October 2\, 2022 only). \nRyan Sab will be performing live in the taproom between 7-10pm. \nProst!
URL:https://aristaeusbrewing.com/event/oktoberfest-22/
LOCATION:Aristaeus Craft Brewing Co.\, 2475C Big Oak Road\, Langhorne\, PA\, 19047\, United States
CATEGORIES:Events
ATTACH;FMTTYPE=image/jpeg:https://aristaeusbrewing.com/wp-content/uploads/2022/09/2022-09-oktoberfest-ws.jpg
GEO:40.71839;-73.989891
X-APPLE-STRUCTURED-LOCATION;VALUE=URI;X-ADDRESS=Aristaeus Craft Brewing Co. 2475C Big Oak Road Langhorne PA 19047 United States;X-APPLE-RADIUS=500;X-TITLE=2475C Big Oak Road:geo:-73.989891,40.71839
END:VEVENT
BEGIN:VEVENT
DTSTART;TZID=America/New_York:20220930T160000
DTEND;TZID=America/New_York:20220930T210000
DTSTAMP:20260420T025521
CREATED:20220725T212052Z
LAST-MODIFIED:20220725T212052Z
UID:10000408-1664553600-1664571600@aristaeusbrewing.com
SUMMARY:Food Truck: The Flying Deutschman
DESCRIPTION:
URL:https://aristaeusbrewing.com/event/food-truck-the-flying-deutschman-2/
LOCATION:Aristaeus Craft Brewing Co.\, 2475C Big Oak Road\, Langhorne\, PA\, 19047\, United States
CATEGORIES:Food Truck
ATTACH;FMTTYPE=image/jpeg:https://aristaeusbrewing.com/wp-content/uploads/2022/04/the-flying-deutschman-at-aristaeus-craft-brewing-co.jpg
GEO:40.71839;-73.989891
X-APPLE-STRUCTURED-LOCATION;VALUE=URI;X-ADDRESS=Aristaeus Craft Brewing Co. 2475C Big Oak Road Langhorne PA 19047 United States;X-APPLE-RADIUS=500;X-TITLE=2475C Big Oak Road:geo:-73.989891,40.71839
END:VEVENT
BEGIN:VEVENT
DTSTART;TZID=America/New_York:20220929T190000
DTEND;TZID=America/New_York:20220929T210000
DTSTAMP:20260420T025521
CREATED:20220810T200525Z
LAST-MODIFIED:20220810T200525Z
UID:10000457-1664478000-1664485200@aristaeusbrewing.com
SUMMARY:Trivia Night
DESCRIPTION:
URL:https://aristaeusbrewing.com/event/trivia-night/2022-09-29/
LOCATION:Aristaeus Craft Brewing Co.\, 2475C Big Oak Road\, Langhorne\, PA\, 19047\, United States
CATEGORIES:Events
GEO:40.71839;-73.989891
X-APPLE-STRUCTURED-LOCATION;VALUE=URI;X-ADDRESS=Aristaeus Craft Brewing Co. 2475C Big Oak Road Langhorne PA 19047 United States;X-APPLE-RADIUS=500;X-TITLE=2475C Big Oak Road:geo:-73.989891,40.71839
END:VEVENT
BEGIN:VEVENT
DTSTART;TZID=America/New_York:20220929T160000
DTEND;TZID=America/New_York:20220929T210000
DTSTAMP:20260420T025521
CREATED:20220725T211734Z
LAST-MODIFIED:20220725T211734Z
UID:10000407-1664467200-1664485200@aristaeusbrewing.com
SUMMARY:Food Truck: Kono Pizza
DESCRIPTION:
URL:https://aristaeusbrewing.com/event/food-truck-kono-pizza-8/
LOCATION:Aristaeus Craft Brewing Co.\, 2475C Big Oak Road\, Langhorne\, PA\, 19047\, United States
CATEGORIES:Food Truck
ATTACH;FMTTYPE=image/jpeg:https://aristaeusbrewing.com/wp-content/uploads/2021/09/kono-pizza-at-aristaeus-brewing.jpg
GEO:40.71839;-73.989891
X-APPLE-STRUCTURED-LOCATION;VALUE=URI;X-ADDRESS=Aristaeus Craft Brewing Co. 2475C Big Oak Road Langhorne PA 19047 United States;X-APPLE-RADIUS=500;X-TITLE=2475C Big Oak Road:geo:-73.989891,40.71839
END:VEVENT
BEGIN:VEVENT
DTSTART;TZID=America/New_York:20220928T160000
DTEND;TZID=America/New_York:20220928T200000
DTSTAMP:20260420T025521
CREATED:20220926T151257Z
LAST-MODIFIED:20220926T152433Z
UID:10000250-1664380800-1664395200@aristaeusbrewing.com
SUMMARY:United Crepes of America
DESCRIPTION:
URL:https://aristaeusbrewing.com/event/united-crepes-of-america/
LOCATION:Aristaeus Craft Brewing Co.\, 2475C Big Oak Road\, Langhorne\, PA\, 19047\, United States
CATEGORIES:Food Truck
ATTACH;FMTTYPE=image/jpeg:https://aristaeusbrewing.com/wp-content/uploads/2022/05/united-crepes-america-at-aristaeus-craft-brewing-co.jpg
GEO:40.71839;-73.989891
X-APPLE-STRUCTURED-LOCATION;VALUE=URI;X-ADDRESS=Aristaeus Craft Brewing Co. 2475C Big Oak Road Langhorne PA 19047 United States;X-APPLE-RADIUS=500;X-TITLE=2475C Big Oak Road:geo:-73.989891,40.71839
END:VEVENT
END:VCALENDAR