BEGIN:VCALENDAR
VERSION:2.0
PRODID:-//Aristaeus Craft Brewing Co. - ECPv6.15.20//NONSGML v1.0//EN
CALSCALE:GREGORIAN
METHOD:PUBLISH
X-WR-CALNAME:Aristaeus Craft Brewing Co.
X-ORIGINAL-URL:https://aristaeusbrewing.com
X-WR-CALDESC:Events for Aristaeus Craft Brewing Co.
REFRESH-INTERVAL;VALUE=DURATION:PT1H
X-Robots-Tag:noindex
X-PUBLISHED-TTL:PT1H
BEGIN:VTIMEZONE
TZID:America/New_York
BEGIN:DAYLIGHT
TZOFFSETFROM:-0500
TZOFFSETTO:-0400
TZNAME:EDT
DTSTART:20210314T070000
END:DAYLIGHT
BEGIN:STANDARD
TZOFFSETFROM:-0400
TZOFFSETTO:-0500
TZNAME:EST
DTSTART:20211107T060000
END:STANDARD
BEGIN:DAYLIGHT
TZOFFSETFROM:-0500
TZOFFSETTO:-0400
TZNAME:EDT
DTSTART:20220313T070000
END:DAYLIGHT
BEGIN:STANDARD
TZOFFSETFROM:-0400
TZOFFSETTO:-0500
TZNAME:EST
DTSTART:20221106T060000
END:STANDARD
BEGIN:DAYLIGHT
TZOFFSETFROM:-0500
TZOFFSETTO:-0400
TZNAME:EDT
DTSTART:20230312T070000
END:DAYLIGHT
BEGIN:STANDARD
TZOFFSETFROM:-0400
TZOFFSETTO:-0500
TZNAME:EST
DTSTART:20231105T060000
END:STANDARD
END:VTIMEZONE
BEGIN:VEVENT
DTSTART;TZID=America/New_York:20220921T160000
DTEND;TZID=America/New_York:20220921T200000
DTSTAMP:20260419T230852
CREATED:20220725T210711Z
LAST-MODIFIED:20220725T210711Z
UID:10000396-1663776000-1663790400@aristaeusbrewing.com
SUMMARY:Food Truck: El Sabor del Bajio
DESCRIPTION:
URL:https://aristaeusbrewing.com/event/food-truck-el-sabor-del-bajio-34/
LOCATION:Aristaeus Craft Brewing Co.\, 2475C Big Oak Road\, Langhorne\, PA\, 19047\, United States
CATEGORIES:Food Truck
ATTACH;FMTTYPE=image/jpeg:https://aristaeusbrewing.com/wp-content/uploads/2021/09/el-sabor-at-aristaeus-brewing-ec.jpg
GEO:40.71839;-73.989891
X-APPLE-STRUCTURED-LOCATION;VALUE=URI;X-ADDRESS=Aristaeus Craft Brewing Co. 2475C Big Oak Road Langhorne PA 19047 United States;X-APPLE-RADIUS=500;X-TITLE=2475C Big Oak Road:geo:-73.989891,40.71839
END:VEVENT
BEGIN:VEVENT
DTSTART;TZID=America/New_York:20220918T140000
DTEND;TZID=America/New_York:20220918T170000
DTSTAMP:20260419T230852
CREATED:20220725T223340Z
LAST-MODIFIED:20220725T223340Z
UID:10000216-1663509600-1663520400@aristaeusbrewing.com
SUMMARY:Music: Brian Elliot
DESCRIPTION:
URL:https://aristaeusbrewing.com/event/music-brian-elliot-3/
LOCATION:Aristaeus Craft Brewing Co.\, 2475C Big Oak Road\, Langhorne\, PA\, 19047\, United States
CATEGORIES:Music
ATTACH;FMTTYPE=image/jpeg:https://aristaeusbrewing.com/wp-content/uploads/2022/03/brian-elliot-at-aristaeus-brewing.jpg
GEO:40.71839;-73.989891
X-APPLE-STRUCTURED-LOCATION;VALUE=URI;X-ADDRESS=Aristaeus Craft Brewing Co. 2475C Big Oak Road Langhorne PA 19047 United States;X-APPLE-RADIUS=500;X-TITLE=2475C Big Oak Road:geo:-73.989891,40.71839
END:VEVENT
BEGIN:VEVENT
DTSTART;TZID=America/New_York:20220918T130000
DTEND;TZID=America/New_York:20220918T180000
DTSTAMP:20260419T230852
CREATED:20220725T210404Z
LAST-MODIFIED:20220725T210404Z
UID:10000394-1663506000-1663524000@aristaeusbrewing.com
SUMMARY:Food Truck: Lunchboxxx
DESCRIPTION:
URL:https://aristaeusbrewing.com/event/food-truck-lunchboxxx-30/
LOCATION:Aristaeus Craft Brewing Co.\, 2475C Big Oak Road\, Langhorne\, PA\, 19047\, United States
CATEGORIES:Food Truck
ATTACH;FMTTYPE=image/jpeg:https://aristaeusbrewing.com/wp-content/uploads/2021/09/lunchboxxx-at-aristaeus-brewing-ec-1.jpg
GEO:40.71839;-73.989891
X-APPLE-STRUCTURED-LOCATION;VALUE=URI;X-ADDRESS=Aristaeus Craft Brewing Co. 2475C Big Oak Road Langhorne PA 19047 United States;X-APPLE-RADIUS=500;X-TITLE=2475C Big Oak Road:geo:-73.989891,40.71839
END:VEVENT
BEGIN:VEVENT
DTSTART;TZID=America/New_York:20220917T150000
DTEND;TZID=America/New_York:20220917T180000
DTSTAMP:20260419T230852
CREATED:20220725T222711Z
LAST-MODIFIED:20220725T223003Z
UID:10000415-1663426800-1663437600@aristaeusbrewing.com
SUMMARY:Music: Jonathn Ashe
DESCRIPTION:
URL:https://aristaeusbrewing.com/event/music-jonathn-ashe-7/
LOCATION:Aristaeus Craft Brewing Co.\, 2475C Big Oak Road\, Langhorne\, PA\, 19047\, United States
CATEGORIES:Music
ATTACH;FMTTYPE=image/jpeg:https://aristaeusbrewing.com/wp-content/uploads/2022/03/jonathn-ashe-at-aristaeus-brewing.jpg
GEO:40.71839;-73.989891
X-APPLE-STRUCTURED-LOCATION;VALUE=URI;X-ADDRESS=Aristaeus Craft Brewing Co. 2475C Big Oak Road Langhorne PA 19047 United States;X-APPLE-RADIUS=500;X-TITLE=2475C Big Oak Road:geo:-73.989891,40.71839
END:VEVENT
BEGIN:VEVENT
DTSTART;TZID=America/New_York:20220917T123000
DTEND;TZID=America/New_York:20220917T173000
DTSTAMP:20260419T230852
CREATED:20220906T152430Z
LAST-MODIFIED:20220906T152430Z
UID:10000481-1663417800-1663435800@aristaeusbrewing.com
SUMMARY:Newtown Beerfest 2022
DESCRIPTION:We’ll be pouring at Newtown Beerfest this year! Check out details and get your tickets here.
URL:https://aristaeusbrewing.com/event/newtown-beerfest-2022/
LOCATION:PA
CATEGORIES:Events
END:VEVENT
BEGIN:VEVENT
DTSTART;TZID=America/New_York:20220917T120000
DTEND;TZID=America/New_York:20220917T210000
DTSTAMP:20260419T230852
CREATED:20220725T205929Z
LAST-MODIFIED:20220725T205929Z
UID:10000392-1663416000-1663448400@aristaeusbrewing.com
SUMMARY:Food Truck: Lunchboxxx
DESCRIPTION:
URL:https://aristaeusbrewing.com/event/food-truck-lunchboxxx-29/
LOCATION:Aristaeus Craft Brewing Co.\, 2475C Big Oak Road\, Langhorne\, PA\, 19047\, United States
CATEGORIES:Food Truck
ATTACH;FMTTYPE=image/jpeg:https://aristaeusbrewing.com/wp-content/uploads/2021/09/lunchboxxx-at-aristaeus-brewing-ec-2.jpg
GEO:40.71839;-73.989891
X-APPLE-STRUCTURED-LOCATION;VALUE=URI;X-ADDRESS=Aristaeus Craft Brewing Co. 2475C Big Oak Road Langhorne PA 19047 United States;X-APPLE-RADIUS=500;X-TITLE=2475C Big Oak Road:geo:-73.989891,40.71839
END:VEVENT
BEGIN:VEVENT
DTSTART;TZID=America/New_York:20220916T190000
DTEND;TZID=America/New_York:20220916T220000
DTSTAMP:20260419T230852
CREATED:20220725T222525Z
LAST-MODIFIED:20220725T222525Z
UID:10000414-1663354800-1663365600@aristaeusbrewing.com
SUMMARY:Music: Close Drive
DESCRIPTION:
URL:https://aristaeusbrewing.com/event/music-close-drive/
LOCATION:Aristaeus Craft Brewing Co.\, 2475C Big Oak Road\, Langhorne\, PA\, 19047\, United States
CATEGORIES:Music
GEO:40.71839;-73.989891
X-APPLE-STRUCTURED-LOCATION;VALUE=URI;X-ADDRESS=Aristaeus Craft Brewing Co. 2475C Big Oak Road Langhorne PA 19047 United States;X-APPLE-RADIUS=500;X-TITLE=2475C Big Oak Road:geo:-73.989891,40.71839
END:VEVENT
BEGIN:VEVENT
DTSTART;TZID=America/New_York:20220916T160000
DTEND;TZID=America/New_York:20220916T210000
DTSTAMP:20260419T230852
CREATED:20220725T205714Z
LAST-MODIFIED:20220725T205714Z
UID:10000390-1663344000-1663362000@aristaeusbrewing.com
SUMMARY:Food Truck: Thai Jai Dee
DESCRIPTION:
URL:https://aristaeusbrewing.com/event/food-truck-thai-jai-dee-7/
LOCATION:Aristaeus Craft Brewing Co.\, 2475C Big Oak Road\, Langhorne\, PA\, 19047\, United States
CATEGORIES:Food Truck
ATTACH;FMTTYPE=image/jpeg:https://aristaeusbrewing.com/wp-content/uploads/2021/12/thai-jaid-dee-at-aristaeus-craft-brewing-co.jpg
GEO:40.71839;-73.989891
X-APPLE-STRUCTURED-LOCATION;VALUE=URI;X-ADDRESS=Aristaeus Craft Brewing Co. 2475C Big Oak Road Langhorne PA 19047 United States;X-APPLE-RADIUS=500;X-TITLE=2475C Big Oak Road:geo:-73.989891,40.71839
END:VEVENT
BEGIN:VEVENT
DTSTART;TZID=America/New_York:20220915T190000
DTEND;TZID=America/New_York:20220915T210000
DTSTAMP:20260419T230852
CREATED:20220810T200525Z
LAST-MODIFIED:20220810T200525Z
UID:10000455-1663268400-1663275600@aristaeusbrewing.com
SUMMARY:Trivia Night
DESCRIPTION:
URL:https://aristaeusbrewing.com/event/trivia-night/2022-09-15/
LOCATION:Aristaeus Craft Brewing Co.\, 2475C Big Oak Road\, Langhorne\, PA\, 19047\, United States
CATEGORIES:Events
GEO:40.71839;-73.989891
X-APPLE-STRUCTURED-LOCATION;VALUE=URI;X-ADDRESS=Aristaeus Craft Brewing Co. 2475C Big Oak Road Langhorne PA 19047 United States;X-APPLE-RADIUS=500;X-TITLE=2475C Big Oak Road:geo:-73.989891,40.71839
END:VEVENT
BEGIN:VEVENT
DTSTART;TZID=America/New_York:20220915T160000
DTEND;TZID=America/New_York:20220915T210000
DTSTAMP:20260419T230852
CREATED:20220725T205518Z
LAST-MODIFIED:20220725T205518Z
UID:10000388-1663257600-1663275600@aristaeusbrewing.com
SUMMARY:Food Truck: Lobster Dogs
DESCRIPTION:
URL:https://aristaeusbrewing.com/event/food-truck-lobster-dogs-9/
LOCATION:Aristaeus Craft Brewing Co.\, 2475C Big Oak Road\, Langhorne\, PA\, 19047\, United States
CATEGORIES:Food Truck
ATTACH;FMTTYPE=image/jpeg:https://aristaeusbrewing.com/wp-content/uploads/2021/09/lobster-dog-at-aristaeus-brewing-ec.jpg
GEO:40.71839;-73.989891
X-APPLE-STRUCTURED-LOCATION;VALUE=URI;X-ADDRESS=Aristaeus Craft Brewing Co. 2475C Big Oak Road Langhorne PA 19047 United States;X-APPLE-RADIUS=500;X-TITLE=2475C Big Oak Road:geo:-73.989891,40.71839
END:VEVENT
BEGIN:VEVENT
DTSTART;TZID=America/New_York:20220914T160000
DTEND;TZID=America/New_York:20220914T200000
DTSTAMP:20260419T230852
CREATED:20220725T205130Z
LAST-MODIFIED:20220725T205145Z
UID:10000387-1663171200-1663185600@aristaeusbrewing.com
SUMMARY:Food Truck: Art the Cart
DESCRIPTION:
URL:https://aristaeusbrewing.com/event/food-truck-art-the-cart-4/
LOCATION:Aristaeus Craft Brewing Co.\, 2475C Big Oak Road\, Langhorne\, PA\, 19047\, United States
CATEGORIES:Food Truck
GEO:40.71839;-73.989891
X-APPLE-STRUCTURED-LOCATION;VALUE=URI;X-ADDRESS=Aristaeus Craft Brewing Co. 2475C Big Oak Road Langhorne PA 19047 United States;X-APPLE-RADIUS=500;X-TITLE=2475C Big Oak Road:geo:-73.989891,40.71839
END:VEVENT
BEGIN:VEVENT
DTSTART;TZID=America/New_York:20220911T140000
DTEND;TZID=America/New_York:20220911T170000
DTSTAMP:20260419T230852
CREATED:20220725T222228Z
LAST-MODIFIED:20220725T222228Z
UID:10000413-1662904800-1662915600@aristaeusbrewing.com
SUMMARY:Music: Matt Kresge
DESCRIPTION:
URL:https://aristaeusbrewing.com/event/music-matt-kresge-3/
LOCATION:Aristaeus Craft Brewing Co.\, 2475C Big Oak Road\, Langhorne\, PA\, 19047\, United States
CATEGORIES:Music
ATTACH;FMTTYPE=image/jpeg:https://aristaeusbrewing.com/wp-content/uploads/2022/06/matt-kresge-at-aristaeus-craft-brewing.jpg
GEO:40.71839;-73.989891
X-APPLE-STRUCTURED-LOCATION;VALUE=URI;X-ADDRESS=Aristaeus Craft Brewing Co. 2475C Big Oak Road Langhorne PA 19047 United States;X-APPLE-RADIUS=500;X-TITLE=2475C Big Oak Road:geo:-73.989891,40.71839
END:VEVENT
BEGIN:VEVENT
DTSTART;TZID=America/New_York:20220911T130000
DTEND;TZID=America/New_York:20220911T180000
DTSTAMP:20260419T230852
CREATED:20220725T204855Z
LAST-MODIFIED:20220829T142938Z
UID:10000386-1662901200-1662919200@aristaeusbrewing.com
SUMMARY:Food Truck: El Sabor del Bajio
DESCRIPTION:
URL:https://aristaeusbrewing.com/event/food-truck-el-sabor-911/
LOCATION:Aristaeus Craft Brewing Co.\, 2475C Big Oak Road\, Langhorne\, PA\, 19047\, United States
CATEGORIES:Food Truck
ATTACH;FMTTYPE=image/jpeg:https://aristaeusbrewing.com/wp-content/uploads/2021/09/el-sabor-at-aristaeus-brewing-ec-1.jpg
GEO:40.71839;-73.989891
X-APPLE-STRUCTURED-LOCATION;VALUE=URI;X-ADDRESS=Aristaeus Craft Brewing Co. 2475C Big Oak Road Langhorne PA 19047 United States;X-APPLE-RADIUS=500;X-TITLE=2475C Big Oak Road:geo:-73.989891,40.71839
END:VEVENT
BEGIN:VEVENT
DTSTART;TZID=America/New_York:20220910T150000
DTEND;TZID=America/New_York:20220910T180000
DTSTAMP:20260419T230852
CREATED:20220725T221951Z
LAST-MODIFIED:20220725T221951Z
UID:10000412-1662822000-1662832800@aristaeusbrewing.com
SUMMARY:Music: Bill Thomas
DESCRIPTION:
URL:https://aristaeusbrewing.com/event/music-bill-thomas-7/
LOCATION:Aristaeus Craft Brewing Co.\, 2475C Big Oak Road\, Langhorne\, PA\, 19047\, United States
CATEGORIES:Music
GEO:40.71839;-73.989891
X-APPLE-STRUCTURED-LOCATION;VALUE=URI;X-ADDRESS=Aristaeus Craft Brewing Co. 2475C Big Oak Road Langhorne PA 19047 United States;X-APPLE-RADIUS=500;X-TITLE=2475C Big Oak Road:geo:-73.989891,40.71839
END:VEVENT
BEGIN:VEVENT
DTSTART;TZID=America/New_York:20220910T120000
DTEND;TZID=America/New_York:20220910T210000
DTSTAMP:20260419T230852
CREATED:20220725T204638Z
LAST-MODIFIED:20220725T204638Z
UID:10000385-1662811200-1662843600@aristaeusbrewing.com
SUMMARY:Food Truck: Sandy's Beef & Ale
DESCRIPTION:
URL:https://aristaeusbrewing.com/event/food-truck-sandys-beef-ale/
LOCATION:Aristaeus Craft Brewing Co.\, 2475C Big Oak Road\, Langhorne\, PA\, 19047\, United States
CATEGORIES:Food Truck
ATTACH;FMTTYPE=image/jpeg:https://aristaeusbrewing.com/wp-content/uploads/2022/06/sandys-beef-ale-at-aristaeus-craft-brewing.jpg
GEO:40.71839;-73.989891
X-APPLE-STRUCTURED-LOCATION;VALUE=URI;X-ADDRESS=Aristaeus Craft Brewing Co. 2475C Big Oak Road Langhorne PA 19047 United States;X-APPLE-RADIUS=500;X-TITLE=2475C Big Oak Road:geo:-73.989891,40.71839
END:VEVENT
BEGIN:VEVENT
DTSTART;TZID=America/New_York:20220910T120000
DTEND;TZID=America/New_York:20220910T170000
DTSTAMP:20260419T230852
CREATED:20220906T152048Z
LAST-MODIFIED:20220906T152440Z
UID:10000471-1662811200-1662829200@aristaeusbrewing.com
SUMMARY:Beer Garden at Styer's
DESCRIPTION:Benefiting the Middletown Community Foundation. Check out the event details here.
URL:https://aristaeusbrewing.com/event/beer-garden-at-styers/
LOCATION:PA
CATEGORIES:Events
END:VEVENT
BEGIN:VEVENT
DTSTART;TZID=America/New_York:20220909T190000
DTEND;TZID=America/New_York:20220909T220000
DTSTAMP:20260419T230852
CREATED:20220725T221816Z
LAST-MODIFIED:20220906T152930Z
UID:10000411-1662750000-1662760800@aristaeusbrewing.com
SUMMARY:Music: Doubtfull and Fave Grohl
DESCRIPTION:90’s Night – Friday\, September 9\nMake plans to join us on Friday\, September 9 for epic performances from Doubtfull (a fun and energetic No Doubt tribute band) and Fave Grohl (a high-energy Dave Grohl / Foo Fighters tribute band). \nMoshava will be handling the food for the evening\, so get here early to grab dinner and prepare for a night of 90s rock. Weather permitting\, the bands will be performing outside. Parking is going to be very tight so we STRONGLY encourage using Lyft/Uber to get a ride. Show your server the ride receipt in the app and get half off your first 2 beers too! \nCheck out all of the event details here.
URL:https://aristaeusbrewing.com/event/music-doubtful-band-and-fave-grohl/
LOCATION:Aristaeus Craft Brewing Co.\, 2475C Big Oak Road\, Langhorne\, PA\, 19047\, United States
CATEGORIES:Music
ATTACH;FMTTYPE=image/jpeg:https://aristaeusbrewing.com/wp-content/uploads/2022/07/298368023_350215083988594_7129628624753248277_n.jpg
GEO:40.71839;-73.989891
X-APPLE-STRUCTURED-LOCATION;VALUE=URI;X-ADDRESS=Aristaeus Craft Brewing Co. 2475C Big Oak Road Langhorne PA 19047 United States;X-APPLE-RADIUS=500;X-TITLE=2475C Big Oak Road:geo:-73.989891,40.71839
END:VEVENT
BEGIN:VEVENT
DTSTART;TZID=America/New_York:20220909T160000
DTEND;TZID=America/New_York:20220909T210000
DTSTAMP:20260419T230852
CREATED:20220725T204241Z
LAST-MODIFIED:20220725T204241Z
UID:10000384-1662739200-1662757200@aristaeusbrewing.com
SUMMARY:Food Truck: Moshava
DESCRIPTION:
URL:https://aristaeusbrewing.com/event/food-truck-moshava-6/
LOCATION:Aristaeus Craft Brewing Co.\, 2475C Big Oak Road\, Langhorne\, PA\, 19047\, United States
CATEGORIES:Food Truck
ATTACH;FMTTYPE=image/jpeg:https://aristaeusbrewing.com/wp-content/uploads/2022/02/moshava-at-aristaeus-brewing.jpg
GEO:40.71839;-73.989891
X-APPLE-STRUCTURED-LOCATION;VALUE=URI;X-ADDRESS=Aristaeus Craft Brewing Co. 2475C Big Oak Road Langhorne PA 19047 United States;X-APPLE-RADIUS=500;X-TITLE=2475C Big Oak Road:geo:-73.989891,40.71839
END:VEVENT
BEGIN:VEVENT
DTSTART;TZID=America/New_York:20220908T190000
DTEND;TZID=America/New_York:20220908T210000
DTSTAMP:20260419T230852
CREATED:20220810T200525Z
LAST-MODIFIED:20220810T200525Z
UID:10000454-1662663600-1662670800@aristaeusbrewing.com
SUMMARY:Trivia Night
DESCRIPTION:
URL:https://aristaeusbrewing.com/event/trivia-night/2022-09-08/
LOCATION:Aristaeus Craft Brewing Co.\, 2475C Big Oak Road\, Langhorne\, PA\, 19047\, United States
CATEGORIES:Events
GEO:40.71839;-73.989891
X-APPLE-STRUCTURED-LOCATION;VALUE=URI;X-ADDRESS=Aristaeus Craft Brewing Co. 2475C Big Oak Road Langhorne PA 19047 United States;X-APPLE-RADIUS=500;X-TITLE=2475C Big Oak Road:geo:-73.989891,40.71839
END:VEVENT
BEGIN:VEVENT
DTSTART;TZID=America/New_York:20220908T160000
DTEND;TZID=America/New_York:20220908T210000
DTSTAMP:20260419T230852
CREATED:20220725T204021Z
LAST-MODIFIED:20220829T142801Z
UID:10000383-1662652800-1662670800@aristaeusbrewing.com
SUMMARY:Food Truck: Smoke Break BBQ
DESCRIPTION:
URL:https://aristaeusbrewing.com/event/food-truck-smokebreakbbq/
LOCATION:Aristaeus Craft Brewing Co.\, 2475C Big Oak Road\, Langhorne\, PA\, 19047\, United States
CATEGORIES:Food Truck
ATTACH;FMTTYPE=image/jpeg:https://aristaeusbrewing.com/wp-content/uploads/2022/03/smoke-break-bbq-at-aristaeus-brewing.jpg
GEO:40.71839;-73.989891
X-APPLE-STRUCTURED-LOCATION;VALUE=URI;X-ADDRESS=Aristaeus Craft Brewing Co. 2475C Big Oak Road Langhorne PA 19047 United States;X-APPLE-RADIUS=500;X-TITLE=2475C Big Oak Road:geo:-73.989891,40.71839
END:VEVENT
BEGIN:VEVENT
DTSTART;TZID=America/New_York:20220907T120000
DTEND;TZID=America/New_York:20220907T160000
DTSTAMP:20260419T230852
CREATED:20220725T203438Z
LAST-MODIFIED:20220725T203438Z
UID:10000382-1662552000-1662566400@aristaeusbrewing.com
SUMMARY:Food Truck: Art the Cart
DESCRIPTION:
URL:https://aristaeusbrewing.com/event/food-truck-art-the-cart-3/
LOCATION:Aristaeus Craft Brewing Co.\, 2475C Big Oak Road\, Langhorne\, PA\, 19047\, United States
CATEGORIES:Food Truck
GEO:40.71839;-73.989891
X-APPLE-STRUCTURED-LOCATION;VALUE=URI;X-ADDRESS=Aristaeus Craft Brewing Co. 2475C Big Oak Road Langhorne PA 19047 United States;X-APPLE-RADIUS=500;X-TITLE=2475C Big Oak Road:geo:-73.989891,40.71839
END:VEVENT
BEGIN:VEVENT
DTSTART;TZID=America/New_York:20220904T140000
DTEND;TZID=America/New_York:20220904T170000
DTSTAMP:20260419T230852
CREATED:20220725T221611Z
LAST-MODIFIED:20220725T221611Z
UID:10000410-1662300000-1662310800@aristaeusbrewing.com
SUMMARY:Music: Faraway Guys
DESCRIPTION:
URL:https://aristaeusbrewing.com/event/music-faraway-guys-5/
LOCATION:Aristaeus Craft Brewing Co.\, 2475C Big Oak Road\, Langhorne\, PA\, 19047\, United States
CATEGORIES:Music
ATTACH;FMTTYPE=image/jpeg:https://aristaeusbrewing.com/wp-content/uploads/2022/03/faraway-guys-at-aristaeus-brewing.jpg
GEO:40.71839;-73.989891
X-APPLE-STRUCTURED-LOCATION;VALUE=URI;X-ADDRESS=Aristaeus Craft Brewing Co. 2475C Big Oak Road Langhorne PA 19047 United States;X-APPLE-RADIUS=500;X-TITLE=2475C Big Oak Road:geo:-73.989891,40.71839
END:VEVENT
BEGIN:VEVENT
DTSTART;TZID=America/New_York:20220904T130000
DTEND;TZID=America/New_York:20220904T180000
DTSTAMP:20260419T230852
CREATED:20220725T203047Z
LAST-MODIFIED:20220829T155123Z
UID:10000381-1662296400-1662314400@aristaeusbrewing.com
SUMMARY:Food Truck: A Different Vibe
DESCRIPTION:
URL:https://aristaeusbrewing.com/event/food-truck-different-vibe-1/
LOCATION:Aristaeus Craft Brewing Co.\, 2475C Big Oak Road\, Langhorne\, PA\, 19047\, United States
CATEGORIES:Food Truck
ATTACH;FMTTYPE=image/jpeg:https://aristaeusbrewing.com/wp-content/uploads/2022/05/a-different-vibe-at-aristaeus-craft-bewing-co.jpg
GEO:40.71839;-73.989891
X-APPLE-STRUCTURED-LOCATION;VALUE=URI;X-ADDRESS=Aristaeus Craft Brewing Co. 2475C Big Oak Road Langhorne PA 19047 United States;X-APPLE-RADIUS=500;X-TITLE=2475C Big Oak Road:geo:-73.989891,40.71839
END:VEVENT
BEGIN:VEVENT
DTSTART;TZID=America/New_York:20220902T190000
DTEND;TZID=America/New_York:20220902T220000
DTSTAMP:20260419T230852
CREATED:20220725T221233Z
LAST-MODIFIED:20220725T221233Z
UID:10000409-1662145200-1662156000@aristaeusbrewing.com
SUMMARY:Music: Beth Arnold Gilbert
DESCRIPTION:
URL:https://aristaeusbrewing.com/event/music-beth-arnold-gilbert-6/
LOCATION:Aristaeus Craft Brewing Co.\, 2475C Big Oak Road\, Langhorne\, PA\, 19047\, United States
CATEGORIES:Music
ATTACH;FMTTYPE=image/jpeg:https://aristaeusbrewing.com/wp-content/uploads/2022/02/beth-arnold-gilbert-at-aristaeus-brewing.jpg
GEO:40.71839;-73.989891
X-APPLE-STRUCTURED-LOCATION;VALUE=URI;X-ADDRESS=Aristaeus Craft Brewing Co. 2475C Big Oak Road Langhorne PA 19047 United States;X-APPLE-RADIUS=500;X-TITLE=2475C Big Oak Road:geo:-73.989891,40.71839
END:VEVENT
BEGIN:VEVENT
DTSTART;TZID=America/New_York:20220902T160000
DTEND;TZID=America/New_York:20220902T210000
DTSTAMP:20260419T230852
CREATED:20220725T202334Z
LAST-MODIFIED:20220725T202334Z
UID:10000380-1662134400-1662152400@aristaeusbrewing.com
SUMMARY:Food Truck: Lobster Dogs
DESCRIPTION:
URL:https://aristaeusbrewing.com/event/food-truck-lobster-dogs-8/
LOCATION:Aristaeus Craft Brewing Co.\, 2475C Big Oak Road\, Langhorne\, PA\, 19047\, United States
CATEGORIES:Food Truck
ATTACH;FMTTYPE=image/jpeg:https://aristaeusbrewing.com/wp-content/uploads/2021/10/lobster-dog-at-aristaeus-brewing-ec-rev.jpg
GEO:40.71839;-73.989891
X-APPLE-STRUCTURED-LOCATION;VALUE=URI;X-ADDRESS=Aristaeus Craft Brewing Co. 2475C Big Oak Road Langhorne PA 19047 United States;X-APPLE-RADIUS=500;X-TITLE=2475C Big Oak Road:geo:-73.989891,40.71839
END:VEVENT
BEGIN:VEVENT
DTSTART;TZID=America/New_York:20220901T190000
DTEND;TZID=America/New_York:20220901T210000
DTSTAMP:20260419T230852
CREATED:20220810T200525Z
LAST-MODIFIED:20220810T200525Z
UID:10000453-1662058800-1662066000@aristaeusbrewing.com
SUMMARY:Trivia Night
DESCRIPTION:
URL:https://aristaeusbrewing.com/event/trivia-night/2022-09-01/
LOCATION:Aristaeus Craft Brewing Co.\, 2475C Big Oak Road\, Langhorne\, PA\, 19047\, United States
CATEGORIES:Events
GEO:40.71839;-73.989891
X-APPLE-STRUCTURED-LOCATION;VALUE=URI;X-ADDRESS=Aristaeus Craft Brewing Co. 2475C Big Oak Road Langhorne PA 19047 United States;X-APPLE-RADIUS=500;X-TITLE=2475C Big Oak Road:geo:-73.989891,40.71839
END:VEVENT
BEGIN:VEVENT
DTSTART;TZID=America/New_York:20220831T160000
DTEND;TZID=America/New_York:20220831T210000
DTSTAMP:20260419T230852
CREATED:20220603T163926Z
LAST-MODIFIED:20220603T171130Z
UID:10000331-1661961600-1661979600@aristaeusbrewing.com
SUMMARY:Food Truck: El Sabor del Bajio
DESCRIPTION:
URL:https://aristaeusbrewing.com/event/food-truck-el-sabor-del-bajio-32/
LOCATION:Aristaeus Craft Brewing Co.\, 2475C Big Oak Road\, Langhorne\, PA\, 19047\, United States
CATEGORIES:Food Truck
ATTACH;FMTTYPE=image/jpeg:https://aristaeusbrewing.com/wp-content/uploads/2021/09/el-sabor-at-aristaeus-brewing-ec-1.jpg
GEO:40.71839;-73.989891
X-APPLE-STRUCTURED-LOCATION;VALUE=URI;X-ADDRESS=Aristaeus Craft Brewing Co. 2475C Big Oak Road Langhorne PA 19047 United States;X-APPLE-RADIUS=500;X-TITLE=2475C Big Oak Road:geo:-73.989891,40.71839
END:VEVENT
BEGIN:VEVENT
DTSTART;TZID=America/New_York:20220828T140000
DTEND;TZID=America/New_York:20220828T170000
DTSTAMP:20260419T230852
CREATED:20220603T170327Z
LAST-MODIFIED:20220603T170327Z
UID:10000363-1661695200-1661706000@aristaeusbrewing.com
SUMMARY:Music: Nick Mich
DESCRIPTION:
URL:https://aristaeusbrewing.com/event/music-nick-mich/
LOCATION:Aristaeus Craft Brewing Co.\, 2475C Big Oak Road\, Langhorne\, PA\, 19047\, United States
CATEGORIES:Music
ATTACH;FMTTYPE=image/jpeg:https://aristaeusbrewing.com/wp-content/uploads/2022/03/nick-mich-at-aristaeus-brewing.jpg
GEO:40.71839;-73.989891
X-APPLE-STRUCTURED-LOCATION;VALUE=URI;X-ADDRESS=Aristaeus Craft Brewing Co. 2475C Big Oak Road Langhorne PA 19047 United States;X-APPLE-RADIUS=500;X-TITLE=2475C Big Oak Road:geo:-73.989891,40.71839
END:VEVENT
BEGIN:VEVENT
DTSTART;TZID=America/New_York:20220828T120000
DTEND;TZID=America/New_York:20220828T170000
DTSTAMP:20260419T230852
CREATED:20220603T170302Z
LAST-MODIFIED:20220603T170302Z
UID:10000361-1661688000-1661706000@aristaeusbrewing.com
SUMMARY:Food Truck: Surf and Turf
DESCRIPTION:
URL:https://aristaeusbrewing.com/event/food-truck-surf-and-turf-6/
LOCATION:Aristaeus Craft Brewing Co.\, 2475C Big Oak Road\, Langhorne\, PA\, 19047\, United States
CATEGORIES:Food Truck
ATTACH;FMTTYPE=image/jpeg:https://aristaeusbrewing.com/wp-content/uploads/2021/09/surf-and-turf-at-aristaeus-brewing-r.jpg
GEO:40.71839;-73.989891
X-APPLE-STRUCTURED-LOCATION;VALUE=URI;X-ADDRESS=Aristaeus Craft Brewing Co. 2475C Big Oak Road Langhorne PA 19047 United States;X-APPLE-RADIUS=500;X-TITLE=2475C Big Oak Road:geo:-73.989891,40.71839
END:VEVENT
BEGIN:VEVENT
DTSTART;TZID=America/New_York:20220827T180000
DTEND;TZID=America/New_York:20220827T210000
DTSTAMP:20260419T230852
CREATED:20220621T193304Z
LAST-MODIFIED:20220621T193645Z
UID:10000195-1661623200-1661634000@aristaeusbrewing.com
SUMMARY:Music: Drew Kelley
DESCRIPTION:
URL:https://aristaeusbrewing.com/event/music-drew-kelley/
LOCATION:Aristaeus Craft Brewing Co.\, 2475C Big Oak Road\, Langhorne\, PA\, 19047\, United States
CATEGORIES:Music
GEO:40.71839;-73.989891
X-APPLE-STRUCTURED-LOCATION;VALUE=URI;X-ADDRESS=Aristaeus Craft Brewing Co. 2475C Big Oak Road Langhorne PA 19047 United States;X-APPLE-RADIUS=500;X-TITLE=2475C Big Oak Road:geo:-73.989891,40.71839
END:VEVENT
END:VCALENDAR