BEGIN:VCALENDAR
VERSION:2.0
PRODID:-//Aristaeus Craft Brewing Co. - ECPv6.15.20//NONSGML v1.0//EN
CALSCALE:GREGORIAN
METHOD:PUBLISH
X-WR-CALNAME:Aristaeus Craft Brewing Co.
X-ORIGINAL-URL:https://aristaeusbrewing.com
X-WR-CALDESC:Events for Aristaeus Craft Brewing Co.
REFRESH-INTERVAL;VALUE=DURATION:PT1H
X-Robots-Tag:noindex
X-PUBLISHED-TTL:PT1H
BEGIN:VTIMEZONE
TZID:America/New_York
BEGIN:DAYLIGHT
TZOFFSETFROM:-0500
TZOFFSETTO:-0400
TZNAME:EDT
DTSTART:20220313T070000
END:DAYLIGHT
BEGIN:STANDARD
TZOFFSETFROM:-0400
TZOFFSETTO:-0500
TZNAME:EST
DTSTART:20221106T060000
END:STANDARD
BEGIN:DAYLIGHT
TZOFFSETFROM:-0500
TZOFFSETTO:-0400
TZNAME:EDT
DTSTART:20230312T070000
END:DAYLIGHT
BEGIN:STANDARD
TZOFFSETFROM:-0400
TZOFFSETTO:-0500
TZNAME:EST
DTSTART:20231105T060000
END:STANDARD
BEGIN:DAYLIGHT
TZOFFSETFROM:-0500
TZOFFSETTO:-0400
TZNAME:EDT
DTSTART:20240310T070000
END:DAYLIGHT
BEGIN:STANDARD
TZOFFSETFROM:-0400
TZOFFSETTO:-0500
TZNAME:EST
DTSTART:20241103T060000
END:STANDARD
END:VTIMEZONE
BEGIN:VEVENT
DTSTART;TZID=America/New_York:20230521T140000
DTEND;TZID=America/New_York:20230521T170000
DTSTAMP:20260419T200749
CREATED:20230406T190220Z
LAST-MODIFIED:20230406T190220Z
UID:10000357-1684677600-1684688400@aristaeusbrewing.com
SUMMARY:Music: Matt Kresge
DESCRIPTION:
URL:https://aristaeusbrewing.com/event/music-matt-kresge-7/
LOCATION:Aristaeus Craft Brewing Co.\, 2475C Big Oak Road\, Langhorne\, PA\, 19047\, United States
CATEGORIES:Music
ATTACH;FMTTYPE=image/jpeg:https://aristaeusbrewing.com/wp-content/uploads/2022/06/matt-kresge-at-aristaeus-craft-brewing.jpg
GEO:40.71839;-73.989891
X-APPLE-STRUCTURED-LOCATION;VALUE=URI;X-ADDRESS=Aristaeus Craft Brewing Co. 2475C Big Oak Road Langhorne PA 19047 United States;X-APPLE-RADIUS=500;X-TITLE=2475C Big Oak Road:geo:-73.989891,40.71839
END:VEVENT
BEGIN:VEVENT
DTSTART;TZID=America/New_York:20230524T160000
DTEND;TZID=America/New_York:20230524T200000
DTSTAMP:20260419T200749
CREATED:20230406T190348Z
LAST-MODIFIED:20230424T204859Z
UID:10000358-1684944000-1684958400@aristaeusbrewing.com
SUMMARY:Food Truck: Lui's Kitchen
DESCRIPTION:
URL:https://aristaeusbrewing.com/event/food-truck-luis-kitchen-2/
LOCATION:Aristaeus Craft Brewing Co.\, 2475C Big Oak Road\, Langhorne\, PA\, 19047\, United States
CATEGORIES:Food Truck
ATTACH;FMTTYPE=image/jpeg:https://aristaeusbrewing.com/wp-content/uploads/2023/04/luis-kitchen-aristaeus-craft-brewing-co.jpg
GEO:40.71839;-73.989891
X-APPLE-STRUCTURED-LOCATION;VALUE=URI;X-ADDRESS=Aristaeus Craft Brewing Co. 2475C Big Oak Road Langhorne PA 19047 United States;X-APPLE-RADIUS=500;X-TITLE=2475C Big Oak Road:geo:-73.989891,40.71839
END:VEVENT
BEGIN:VEVENT
DTSTART;TZID=America/New_York:20230525T160000
DTEND;TZID=America/New_York:20230525T210000
DTSTAMP:20260419T200749
CREATED:20230406T190459Z
LAST-MODIFIED:20230406T190459Z
UID:10000360-1685030400-1685048400@aristaeusbrewing.com
SUMMARY:Food Truck: Daddy's Kitchen
DESCRIPTION:
URL:https://aristaeusbrewing.com/event/food-truck-daddys-kitchen-13/
LOCATION:Aristaeus Craft Brewing Co.\, 2475C Big Oak Road\, Langhorne\, PA\, 19047\, United States
CATEGORIES:Food Truck
ATTACH;FMTTYPE=image/jpeg:https://aristaeusbrewing.com/wp-content/uploads/2022/12/daddys-kitchen-aristaeus-brewing.jpg
GEO:40.71839;-73.989891
X-APPLE-STRUCTURED-LOCATION;VALUE=URI;X-ADDRESS=Aristaeus Craft Brewing Co. 2475C Big Oak Road Langhorne PA 19047 United States;X-APPLE-RADIUS=500;X-TITLE=2475C Big Oak Road:geo:-73.989891,40.71839
END:VEVENT
BEGIN:VEVENT
DTSTART;TZID=America/New_York:20230526T160000
DTEND;TZID=America/New_York:20230526T210000
DTSTAMP:20260419T200749
CREATED:20230406T190620Z
LAST-MODIFIED:20230406T190620Z
UID:10000362-1685116800-1685134800@aristaeusbrewing.com
SUMMARY:Food Truck: El Sabor del Bajio
DESCRIPTION:
URL:https://aristaeusbrewing.com/event/food-truck-el-sabor-del-bajio-50/
LOCATION:Aristaeus Craft Brewing Co.\, 2475C Big Oak Road\, Langhorne\, PA\, 19047\, United States
CATEGORIES:Food Truck
ATTACH;FMTTYPE=image/jpeg:https://aristaeusbrewing.com/wp-content/uploads/2021/09/el-sabor-at-aristaeus-brewing-ec-1.jpg
GEO:40.71839;-73.989891
X-APPLE-STRUCTURED-LOCATION;VALUE=URI;X-ADDRESS=Aristaeus Craft Brewing Co. 2475C Big Oak Road Langhorne PA 19047 United States;X-APPLE-RADIUS=500;X-TITLE=2475C Big Oak Road:geo:-73.989891,40.71839
END:VEVENT
BEGIN:VEVENT
DTSTART;TZID=America/New_York:20230527T140000
DTEND;TZID=America/New_York:20230527T210000
DTSTAMP:20260419T200749
CREATED:20230406T190920Z
LAST-MODIFIED:20230527T170734Z
UID:10000364-1685196000-1685221200@aristaeusbrewing.com
SUMMARY:Food Truck: Maui Lu Hawaiian BBQ
DESCRIPTION:
URL:https://aristaeusbrewing.com/event/food-truck-maui-lu-hawaiian-bbq-11/
LOCATION:Aristaeus Craft Brewing Co.\, 2475C Big Oak Road\, Langhorne\, PA\, 19047\, United States
CATEGORIES:Food Truck
ATTACH;FMTTYPE=image/jpeg:https://aristaeusbrewing.com/wp-content/uploads/2021/09/maui-lu-at-aristaeus-brewing-rev.jpg
GEO:40.71839;-73.989891
X-APPLE-STRUCTURED-LOCATION;VALUE=URI;X-ADDRESS=Aristaeus Craft Brewing Co. 2475C Big Oak Road Langhorne PA 19047 United States;X-APPLE-RADIUS=500;X-TITLE=2475C Big Oak Road:geo:-73.989891,40.71839
END:VEVENT
BEGIN:VEVENT
DTSTART;TZID=America/New_York:20230527T190000
DTEND;TZID=America/New_York:20230527T220000
DTSTAMP:20260419T200749
CREATED:20230406T191039Z
LAST-MODIFIED:20230522T161447Z
UID:10000366-1685214000-1685224800@aristaeusbrewing.com
SUMMARY:Music: Summer's Grove Band
DESCRIPTION:Note: Minors are not permitted inside the taproom after 6pm\, but are welcome in the cafe\, patio\, beer garden or tent.
URL:https://aristaeusbrewing.com/event/music-summer-grove-band/
LOCATION:Aristaeus Craft Brewing Co.\, 2475C Big Oak Road\, Langhorne\, PA\, 19047\, United States
CATEGORIES:Music
GEO:40.71839;-73.989891
X-APPLE-STRUCTURED-LOCATION;VALUE=URI;X-ADDRESS=Aristaeus Craft Brewing Co. 2475C Big Oak Road Langhorne PA 19047 United States;X-APPLE-RADIUS=500;X-TITLE=2475C Big Oak Road:geo:-73.989891,40.71839
END:VEVENT
BEGIN:VEVENT
DTSTART;TZID=America/New_York:20230528T120000
DTEND;TZID=America/New_York:20230528T180000
DTSTAMP:20260419T200749
CREATED:20230406T191221Z
LAST-MODIFIED:20230406T191221Z
UID:10000368-1685275200-1685296800@aristaeusbrewing.com
SUMMARY:Food Truck: Lobster Dog
DESCRIPTION:
URL:https://aristaeusbrewing.com/event/food-truck-lobster-dog-7/
LOCATION:Aristaeus Craft Brewing Co.\, 2475C Big Oak Road\, Langhorne\, PA\, 19047\, United States
CATEGORIES:Food Truck
ATTACH;FMTTYPE=image/jpeg:https://aristaeusbrewing.com/wp-content/uploads/2021/09/lobster-dog-at-aristaeus-brewing-ec.jpg
GEO:40.71839;-73.989891
X-APPLE-STRUCTURED-LOCATION;VALUE=URI;X-ADDRESS=Aristaeus Craft Brewing Co. 2475C Big Oak Road Langhorne PA 19047 United States;X-APPLE-RADIUS=500;X-TITLE=2475C Big Oak Road:geo:-73.989891,40.71839
END:VEVENT
BEGIN:VEVENT
DTSTART;TZID=America/New_York:20230528T150000
DTEND;TZID=America/New_York:20230528T180000
DTSTAMP:20260419T200749
CREATED:20230406T191334Z
LAST-MODIFIED:20230524T163424Z
UID:10000370-1685286000-1685296800@aristaeusbrewing.com
SUMMARY:Music: Brian Elliot
DESCRIPTION:
URL:https://aristaeusbrewing.com/event/music-brian-elliot-6/
LOCATION:Aristaeus Craft Brewing Co.\, 2475C Big Oak Road\, Langhorne\, PA\, 19047\, United States
CATEGORIES:Music
ATTACH;FMTTYPE=image/jpeg:https://aristaeusbrewing.com/wp-content/uploads/2022/03/brian-elliot-at-aristaeus-brewing.jpg
GEO:40.71839;-73.989891
X-APPLE-STRUCTURED-LOCATION;VALUE=URI;X-ADDRESS=Aristaeus Craft Brewing Co. 2475C Big Oak Road Langhorne PA 19047 United States;X-APPLE-RADIUS=500;X-TITLE=2475C Big Oak Road:geo:-73.989891,40.71839
END:VEVENT
BEGIN:VEVENT
DTSTART;TZID=America/New_York:20230531T160000
DTEND;TZID=America/New_York:20230531T200000
DTSTAMP:20260419T200749
CREATED:20230406T191432Z
LAST-MODIFIED:20230406T191432Z
UID:10000372-1685548800-1685563200@aristaeusbrewing.com
SUMMARY:Food Truck: Thai It Up
DESCRIPTION:
URL:https://aristaeusbrewing.com/event/food-truck-thai-it-up-16/
LOCATION:Aristaeus Craft Brewing Co.\, 2475C Big Oak Road\, Langhorne\, PA\, 19047\, United States
CATEGORIES:Food Truck
ATTACH;FMTTYPE=image/jpeg:https://aristaeusbrewing.com/wp-content/uploads/2022/06/thai-it-up-aristaeus-craft-brewing-co.jpg
GEO:40.71839;-73.989891
X-APPLE-STRUCTURED-LOCATION;VALUE=URI;X-ADDRESS=Aristaeus Craft Brewing Co. 2475C Big Oak Road Langhorne PA 19047 United States;X-APPLE-RADIUS=500;X-TITLE=2475C Big Oak Road:geo:-73.989891,40.71839
END:VEVENT
BEGIN:VEVENT
DTSTART;TZID=America/New_York:20230601T160000
DTEND;TZID=America/New_York:20230601T210000
DTSTAMP:20260419T200749
CREATED:20230505T151120Z
LAST-MODIFIED:20230505T151214Z
UID:10000667-1685635200-1685653200@aristaeusbrewing.com
SUMMARY:Food Truck: Lunchboxxx
DESCRIPTION:
URL:https://aristaeusbrewing.com/event/food-truck-lunchboxxx-47/
LOCATION:Aristaeus Craft Brewing Co.\, 2475C Big Oak Road\, Langhorne\, PA\, 19047\, United States
CATEGORIES:Food Truck
ATTACH;FMTTYPE=image/jpeg:https://aristaeusbrewing.com/wp-content/uploads/2021/09/lunchboxxx-at-aristaeus-brewing-ec-2.jpg
GEO:40.71839;-73.989891
X-APPLE-STRUCTURED-LOCATION;VALUE=URI;X-ADDRESS=Aristaeus Craft Brewing Co. 2475C Big Oak Road Langhorne PA 19047 United States;X-APPLE-RADIUS=500;X-TITLE=2475C Big Oak Road:geo:-73.989891,40.71839
END:VEVENT
BEGIN:VEVENT
DTSTART;TZID=America/New_York:20230602T160000
DTEND;TZID=America/New_York:20230602T210000
DTSTAMP:20260419T200749
CREATED:20230505T151122Z
LAST-MODIFIED:20230505T151248Z
UID:10000668-1685721600-1685739600@aristaeusbrewing.com
SUMMARY:Food Truck: El Sabor del Bajio
DESCRIPTION:
URL:https://aristaeusbrewing.com/event/food-truck-el-sabor-del-bajio-48/
LOCATION:Aristaeus Craft Brewing Co.\, 2475C Big Oak Road\, Langhorne\, PA\, 19047\, United States
CATEGORIES:Food Truck
ATTACH;FMTTYPE=image/jpeg:https://aristaeusbrewing.com/wp-content/uploads/2021/09/el-sabor-at-aristaeus-brewing-ec-1.jpg
GEO:40.71839;-73.989891
X-APPLE-STRUCTURED-LOCATION;VALUE=URI;X-ADDRESS=Aristaeus Craft Brewing Co. 2475C Big Oak Road Langhorne PA 19047 United States;X-APPLE-RADIUS=500;X-TITLE=2475C Big Oak Road:geo:-73.989891,40.71839
END:VEVENT
BEGIN:VEVENT
DTSTART;TZID=America/New_York:20230602T190000
DTEND;TZID=America/New_York:20230602T220000
DTSTAMP:20260419T200749
CREATED:20230505T151125Z
LAST-MODIFIED:20230505T151340Z
UID:10000669-1685732400-1685743200@aristaeusbrewing.com
SUMMARY:Music: Low Totem
DESCRIPTION:Note: Minors are not permitted inside the taproom after 6pm\, but are welcome in the cafe\, patio\, beer garden or tent.
URL:https://aristaeusbrewing.com/event/music-low-totem-5/
LOCATION:Aristaeus Craft Brewing Co.\, 2475C Big Oak Road\, Langhorne\, PA\, 19047\, United States
CATEGORIES:Music
GEO:40.71839;-73.989891
X-APPLE-STRUCTURED-LOCATION;VALUE=URI;X-ADDRESS=Aristaeus Craft Brewing Co. 2475C Big Oak Road Langhorne PA 19047 United States;X-APPLE-RADIUS=500;X-TITLE=2475C Big Oak Road:geo:-73.989891,40.71839
END:VEVENT
BEGIN:VEVENT
DTSTART;TZID=America/New_York:20230603T120000
DTEND;TZID=America/New_York:20230603T170000
DTSTAMP:20260419T200749
CREATED:20230505T151137Z
LAST-MODIFIED:20230505T151937Z
UID:10000672-1685793600-1685811600@aristaeusbrewing.com
SUMMARY:Event: Still Waters Brewfest
DESCRIPTION:
URL:https://aristaeusbrewing.com/event/event-still-waters-brewfest/
LOCATION:4-H Center of Montgomery County\, 1015 Bridge Rd.\, Collegeville\, PA\, 19426\, United States
CATEGORIES:Events
END:VEVENT
BEGIN:VEVENT
DTSTART;TZID=America/New_York:20230603T130000
DTEND;TZID=America/New_York:20230603T210000
DTSTAMP:20260419T200749
CREATED:20230505T151132Z
LAST-MODIFIED:20230505T151608Z
UID:10000670-1685797200-1685826000@aristaeusbrewing.com
SUMMARY:Food Truck: Bad Mother Shuckers
DESCRIPTION:
URL:https://aristaeusbrewing.com/event/food-truck-bad-mother-shuckers-10/
LOCATION:Aristaeus Craft Brewing Co.\, 2475C Big Oak Road\, Langhorne\, PA\, 19047\, United States
CATEGORIES:Food Truck
ATTACH;FMTTYPE=image/jpeg:https://aristaeusbrewing.com/wp-content/uploads/2023/03/bad-mother-shuckers-aristaeus-craft-brewing-co.jpg
GEO:40.71839;-73.989891
X-APPLE-STRUCTURED-LOCATION;VALUE=URI;X-ADDRESS=Aristaeus Craft Brewing Co. 2475C Big Oak Road Langhorne PA 19047 United States;X-APPLE-RADIUS=500;X-TITLE=2475C Big Oak Road:geo:-73.989891,40.71839
END:VEVENT
BEGIN:VEVENT
DTSTART;TZID=America/New_York:20230603T190000
DTEND;TZID=America/New_York:20230603T220000
DTSTAMP:20260419T200749
CREATED:20230505T151134Z
LAST-MODIFIED:20230530T231533Z
UID:10000671-1685818800-1685829600@aristaeusbrewing.com
SUMMARY:Music: Side Hustle
DESCRIPTION:Note: Minors are not permitted inside the taproom after 6pm\, but are welcome in the cafe\, patio\, beer garden or tent.
URL:https://aristaeusbrewing.com/event/music-unpluggged/
LOCATION:Aristaeus Craft Brewing Co.\, 2475C Big Oak Road\, Langhorne\, PA\, 19047\, United States
CATEGORIES:Music
GEO:40.71839;-73.989891
X-APPLE-STRUCTURED-LOCATION;VALUE=URI;X-ADDRESS=Aristaeus Craft Brewing Co. 2475C Big Oak Road Langhorne PA 19047 United States;X-APPLE-RADIUS=500;X-TITLE=2475C Big Oak Road:geo:-73.989891,40.71839
END:VEVENT
BEGIN:VEVENT
DTSTART;TZID=America/New_York:20230604T120000
DTEND;TZID=America/New_York:20230604T180000
DTSTAMP:20260419T200749
CREATED:20230505T151139Z
LAST-MODIFIED:20230505T152059Z
UID:10000673-1685880000-1685901600@aristaeusbrewing.com
SUMMARY:Food Truck: Thai It Up
DESCRIPTION:
URL:https://aristaeusbrewing.com/event/food-truck-thai-it-up-17/
LOCATION:Aristaeus Craft Brewing Co.\, 2475C Big Oak Road\, Langhorne\, PA\, 19047\, United States
CATEGORIES:Food Truck
ATTACH;FMTTYPE=image/jpeg:https://aristaeusbrewing.com/wp-content/uploads/2022/06/thai-it-up-aristaeus-craft-brewing-co.jpg
GEO:40.71839;-73.989891
X-APPLE-STRUCTURED-LOCATION;VALUE=URI;X-ADDRESS=Aristaeus Craft Brewing Co. 2475C Big Oak Road Langhorne PA 19047 United States;X-APPLE-RADIUS=500;X-TITLE=2475C Big Oak Road:geo:-73.989891,40.71839
END:VEVENT
BEGIN:VEVENT
DTSTART;TZID=America/New_York:20230604T140000
DTEND;TZID=America/New_York:20230604T170000
DTSTAMP:20260419T200749
CREATED:20230505T151141Z
LAST-MODIFIED:20230505T152139Z
UID:10000674-1685887200-1685898000@aristaeusbrewing.com
SUMMARY:Music: Ryan Schubert Music
DESCRIPTION:
URL:https://aristaeusbrewing.com/event/music-ryan-schubert-music/
LOCATION:Aristaeus Craft Brewing Co.\, 2475C Big Oak Road\, Langhorne\, PA\, 19047\, United States
CATEGORIES:Music
GEO:40.71839;-73.989891
X-APPLE-STRUCTURED-LOCATION;VALUE=URI;X-ADDRESS=Aristaeus Craft Brewing Co. 2475C Big Oak Road Langhorne PA 19047 United States;X-APPLE-RADIUS=500;X-TITLE=2475C Big Oak Road:geo:-73.989891,40.71839
END:VEVENT
BEGIN:VEVENT
DTSTART;TZID=America/New_York:20230608T160000
DTEND;TZID=America/New_York:20230608T210000
DTSTAMP:20260419T200749
CREATED:20230505T151144Z
LAST-MODIFIED:20230505T152350Z
UID:10000678-1686240000-1686258000@aristaeusbrewing.com
SUMMARY:Food Truck: Lunchboxxx
DESCRIPTION:
URL:https://aristaeusbrewing.com/event/food-truck-lunchboxxx-48/
LOCATION:Aristaeus Craft Brewing Co.\, 2475C Big Oak Road\, Langhorne\, PA\, 19047\, United States
CATEGORIES:Food Truck
ATTACH;FMTTYPE=image/jpeg:https://aristaeusbrewing.com/wp-content/uploads/2021/09/lunchboxxx-at-aristaeus-brewing-ec-2.jpg
GEO:40.71839;-73.989891
X-APPLE-STRUCTURED-LOCATION;VALUE=URI;X-ADDRESS=Aristaeus Craft Brewing Co. 2475C Big Oak Road Langhorne PA 19047 United States;X-APPLE-RADIUS=500;X-TITLE=2475C Big Oak Road:geo:-73.989891,40.71839
END:VEVENT
BEGIN:VEVENT
DTSTART;TZID=America/New_York:20230609T160000
DTEND;TZID=America/New_York:20230609T210000
DTSTAMP:20260419T200749
CREATED:20230505T151145Z
LAST-MODIFIED:20230505T152539Z
UID:10000679-1686326400-1686344400@aristaeusbrewing.com
SUMMARY:Food Truck: El Sabor del Bajio
DESCRIPTION:
URL:https://aristaeusbrewing.com/event/food-truck-el-sabor-del-bajio-51/
LOCATION:Aristaeus Craft Brewing Co.\, 2475C Big Oak Road\, Langhorne\, PA\, 19047\, United States
CATEGORIES:Food Truck
ATTACH;FMTTYPE=image/jpeg:https://aristaeusbrewing.com/wp-content/uploads/2021/10/el-sabor-at-aristaeus-brewing-r.jpg
GEO:40.71839;-73.989891
X-APPLE-STRUCTURED-LOCATION;VALUE=URI;X-ADDRESS=Aristaeus Craft Brewing Co. 2475C Big Oak Road Langhorne PA 19047 United States;X-APPLE-RADIUS=500;X-TITLE=2475C Big Oak Road:geo:-73.989891,40.71839
END:VEVENT
BEGIN:VEVENT
DTSTART;TZID=America/New_York:20230610T130000
DTEND;TZID=America/New_York:20230610T200000
DTSTAMP:20260419T200749
CREATED:20230505T151151Z
LAST-MODIFIED:20230505T152652Z
UID:10000684-1686402000-1686427200@aristaeusbrewing.com
SUMMARY:Food Truck: Sandy's Beef and Ale
DESCRIPTION:
URL:https://aristaeusbrewing.com/event/food-truck-sandys-beef-and-ale-3/
LOCATION:Aristaeus Craft Brewing Co.\, 2475C Big Oak Road\, Langhorne\, PA\, 19047\, United States
CATEGORIES:Food Truck
ATTACH;FMTTYPE=image/jpeg:https://aristaeusbrewing.com/wp-content/uploads/2022/06/sandys-beef-ale-at-aristaeus-craft-brewing.jpg
GEO:40.71839;-73.989891
X-APPLE-STRUCTURED-LOCATION;VALUE=URI;X-ADDRESS=Aristaeus Craft Brewing Co. 2475C Big Oak Road Langhorne PA 19047 United States;X-APPLE-RADIUS=500;X-TITLE=2475C Big Oak Road:geo:-73.989891,40.71839
END:VEVENT
BEGIN:VEVENT
DTSTART;TZID=America/New_York:20230611T120000
DTEND;TZID=America/New_York:20230611T180000
DTSTAMP:20260419T200749
CREATED:20230505T151147Z
LAST-MODIFIED:20230505T152815Z
UID:10000680-1686484800-1686506400@aristaeusbrewing.com
SUMMARY:Food Truck: Surf and Turf
DESCRIPTION:
URL:https://aristaeusbrewing.com/event/food-truck-surf-and-turf-10/
LOCATION:Aristaeus Craft Brewing Co.\, 2475C Big Oak Road\, Langhorne\, PA\, 19047\, United States
CATEGORIES:Food Truck
ATTACH;FMTTYPE=image/jpeg:https://aristaeusbrewing.com/wp-content/uploads/2021/09/surf-and-turf-at-aristaeus-brewing-r.jpg
GEO:40.71839;-73.989891
X-APPLE-STRUCTURED-LOCATION;VALUE=URI;X-ADDRESS=Aristaeus Craft Brewing Co. 2475C Big Oak Road Langhorne PA 19047 United States;X-APPLE-RADIUS=500;X-TITLE=2475C Big Oak Road:geo:-73.989891,40.71839
END:VEVENT
BEGIN:VEVENT
DTSTART;TZID=America/New_York:20230614T160000
DTEND;TZID=America/New_York:20230614T200000
DTSTAMP:20260419T200749
CREATED:20230505T151142Z
LAST-MODIFIED:20230605T212820Z
UID:10000675-1686758400-1686772800@aristaeusbrewing.com
SUMMARY:Food Truck: Thai It Up
DESCRIPTION:
URL:https://aristaeusbrewing.com/event/food-truck-thai-it-up-18-2023-06-14/2023-06-14/
LOCATION:Aristaeus Craft Brewing Co.\, 2475C Big Oak Road\, Langhorne\, PA\, 19047\, United States
CATEGORIES:Food Truck
ATTACH;FMTTYPE=image/jpeg:https://aristaeusbrewing.com/wp-content/uploads/2022/06/thai-it-up-aristaeus-craft-brewing-co.jpg
GEO:40.71839;-73.989891
X-APPLE-STRUCTURED-LOCATION;VALUE=URI;X-ADDRESS=Aristaeus Craft Brewing Co. 2475C Big Oak Road Langhorne PA 19047 United States;X-APPLE-RADIUS=500;X-TITLE=2475C Big Oak Road:geo:-73.989891,40.71839
END:VEVENT
BEGIN:VEVENT
DTSTART;TZID=America/New_York:20230615T160000
DTEND;TZID=America/New_York:20230615T210000
DTSTAMP:20260419T200749
CREATED:20230505T151149Z
LAST-MODIFIED:20230505T152918Z
UID:10000681-1686844800-1686862800@aristaeusbrewing.com
SUMMARY:Food Truck: El Sabor del Bajio
DESCRIPTION:
URL:https://aristaeusbrewing.com/event/food-truck-el-sabor-del-bajio-52/
LOCATION:Aristaeus Craft Brewing Co.\, 2475C Big Oak Road\, Langhorne\, PA\, 19047\, United States
CATEGORIES:Food Truck
ATTACH;FMTTYPE=image/jpeg:https://aristaeusbrewing.com/wp-content/uploads/2021/09/el-sabor-at-aristaeus-brewing-ec-1.jpg
GEO:40.71839;-73.989891
X-APPLE-STRUCTURED-LOCATION;VALUE=URI;X-ADDRESS=Aristaeus Craft Brewing Co. 2475C Big Oak Road Langhorne PA 19047 United States;X-APPLE-RADIUS=500;X-TITLE=2475C Big Oak Road:geo:-73.989891,40.71839
END:VEVENT
BEGIN:VEVENT
DTSTART;TZID=America/New_York:20230617T130000
DTEND;TZID=America/New_York:20230617T210000
DTSTAMP:20260419T200749
CREATED:20230505T151148Z
LAST-MODIFIED:20230505T153032Z
UID:10000682-1687006800-1687035600@aristaeusbrewing.com
SUMMARY:Food Truck: Thai It Up
DESCRIPTION:
URL:https://aristaeusbrewing.com/event/food-truck-thai-it-up-19/
LOCATION:Aristaeus Craft Brewing Co.\, 2475C Big Oak Road\, Langhorne\, PA\, 19047\, United States
CATEGORIES:Food Truck
ATTACH;FMTTYPE=image/jpeg:https://aristaeusbrewing.com/wp-content/uploads/2022/06/thai-it-up-aristaeus-craft-brewing-co.jpg
GEO:40.71839;-73.989891
X-APPLE-STRUCTURED-LOCATION;VALUE=URI;X-ADDRESS=Aristaeus Craft Brewing Co. 2475C Big Oak Road Langhorne PA 19047 United States;X-APPLE-RADIUS=500;X-TITLE=2475C Big Oak Road:geo:-73.989891,40.71839
END:VEVENT
BEGIN:VEVENT
DTSTART;TZID=America/New_York:20230617T150000
DTEND;TZID=America/New_York:20230617T180000
DTSTAMP:20260419T200749
CREATED:20230505T151150Z
LAST-MODIFIED:20230505T153111Z
UID:10000683-1687014000-1687024800@aristaeusbrewing.com
SUMMARY:Music: Bread Service Band
DESCRIPTION:
URL:https://aristaeusbrewing.com/event/music-bread-service-band/
LOCATION:Aristaeus Craft Brewing Co.\, 2475C Big Oak Road\, Langhorne\, PA\, 19047\, United States
CATEGORIES:Music
GEO:40.71839;-73.989891
X-APPLE-STRUCTURED-LOCATION;VALUE=URI;X-ADDRESS=Aristaeus Craft Brewing Co. 2475C Big Oak Road Langhorne PA 19047 United States;X-APPLE-RADIUS=500;X-TITLE=2475C Big Oak Road:geo:-73.989891,40.71839
END:VEVENT
BEGIN:VEVENT
DTSTART;TZID=America/New_York:20230618T140000
DTEND;TZID=America/New_York:20230618T170000
DTSTAMP:20260419T200749
CREATED:20230505T153117Z
LAST-MODIFIED:20230505T153156Z
UID:10000685-1687096800-1687107600@aristaeusbrewing.com
SUMMARY:Music: Far Away Guys
DESCRIPTION:
URL:https://aristaeusbrewing.com/event/music-far-away-guys-2/
LOCATION:Aristaeus Craft Brewing Co.\, 2475C Big Oak Road\, Langhorne\, PA\, 19047\, United States
CATEGORIES:Music
ATTACH;FMTTYPE=image/jpeg:https://aristaeusbrewing.com/wp-content/uploads/2022/03/faraway-guys-at-aristaeus-brewing.jpg
GEO:40.71839;-73.989891
X-APPLE-STRUCTURED-LOCATION;VALUE=URI;X-ADDRESS=Aristaeus Craft Brewing Co. 2475C Big Oak Road Langhorne PA 19047 United States;X-APPLE-RADIUS=500;X-TITLE=2475C Big Oak Road:geo:-73.989891,40.71839
END:VEVENT
BEGIN:VEVENT
DTSTART;TZID=America/New_York:20230621T160000
DTEND;TZID=America/New_York:20230621T200000
DTSTAMP:20260419T200749
CREATED:20230505T151142Z
LAST-MODIFIED:20230605T212820Z
UID:10000676-1687363200-1687377600@aristaeusbrewing.com
SUMMARY:Food Truck: Thai It Up
DESCRIPTION:
URL:https://aristaeusbrewing.com/event/food-truck-thai-it-up-18-2023-06-14/2023-06-21/
LOCATION:Aristaeus Craft Brewing Co.\, 2475C Big Oak Road\, Langhorne\, PA\, 19047\, United States
CATEGORIES:Food Truck
ATTACH;FMTTYPE=image/jpeg:https://aristaeusbrewing.com/wp-content/uploads/2022/06/thai-it-up-aristaeus-craft-brewing-co.jpg
GEO:40.71839;-73.989891
X-APPLE-STRUCTURED-LOCATION;VALUE=URI;X-ADDRESS=Aristaeus Craft Brewing Co. 2475C Big Oak Road Langhorne PA 19047 United States;X-APPLE-RADIUS=500;X-TITLE=2475C Big Oak Road:geo:-73.989891,40.71839
END:VEVENT
BEGIN:VEVENT
DTSTART;TZID=America/New_York:20230622T160000
DTEND;TZID=America/New_York:20230622T210000
DTSTAMP:20260419T200749
CREATED:20230505T153123Z
LAST-MODIFIED:20230505T153307Z
UID:10000686-1687449600-1687467600@aristaeusbrewing.com
SUMMARY:Food Truck: Daddy's Kitchen
DESCRIPTION:
URL:https://aristaeusbrewing.com/event/food-truck-daddys-kitchen-15/
LOCATION:Aristaeus Craft Brewing Co.\, 2475C Big Oak Road\, Langhorne\, PA\, 19047\, United States
CATEGORIES:Food Truck
ATTACH;FMTTYPE=image/jpeg:https://aristaeusbrewing.com/wp-content/uploads/2022/12/daddys-kitchen-aristaeus-brewing.jpg
GEO:40.71839;-73.989891
X-APPLE-STRUCTURED-LOCATION;VALUE=URI;X-ADDRESS=Aristaeus Craft Brewing Co. 2475C Big Oak Road Langhorne PA 19047 United States;X-APPLE-RADIUS=500;X-TITLE=2475C Big Oak Road:geo:-73.989891,40.71839
END:VEVENT
BEGIN:VEVENT
DTSTART;TZID=America/New_York:20230623T160000
DTEND;TZID=America/New_York:20230623T210000
DTSTAMP:20260419T200749
CREATED:20230505T153131Z
LAST-MODIFIED:20230505T153444Z
UID:10000687-1687536000-1687554000@aristaeusbrewing.com
SUMMARY:Food Truck: Lobster Dogs
DESCRIPTION:
URL:https://aristaeusbrewing.com/event/food-truck-lobster-dogs-14/
LOCATION:Aristaeus Craft Brewing Co.\, 2475C Big Oak Road\, Langhorne\, PA\, 19047\, United States
CATEGORIES:Food Truck
ATTACH;FMTTYPE=image/jpeg:https://aristaeusbrewing.com/wp-content/uploads/2021/10/lobster-dog-at-aristaeus-brewing-ec-rev.jpg
GEO:40.71839;-73.989891
X-APPLE-STRUCTURED-LOCATION;VALUE=URI;X-ADDRESS=Aristaeus Craft Brewing Co. 2475C Big Oak Road Langhorne PA 19047 United States;X-APPLE-RADIUS=500;X-TITLE=2475C Big Oak Road:geo:-73.989891,40.71839
END:VEVENT
BEGIN:VEVENT
DTSTART;TZID=America/New_York:20230623T190000
DTEND;TZID=America/New_York:20230623T220000
DTSTAMP:20260419T200749
CREATED:20230505T153507Z
LAST-MODIFIED:20230505T153831Z
UID:10000688-1687546800-1687557600@aristaeusbrewing.com
SUMMARY:Music: Super Train
DESCRIPTION:Note: Minors are not permitted inside the taproom after 6pm\, but are welcome in the cafe\, patio\, beer garden or tent.
URL:https://aristaeusbrewing.com/event/music-super-train/
LOCATION:Aristaeus Craft Brewing Co.\, 2475C Big Oak Road\, Langhorne\, PA\, 19047\, United States
CATEGORIES:Music
GEO:40.71839;-73.989891
X-APPLE-STRUCTURED-LOCATION;VALUE=URI;X-ADDRESS=Aristaeus Craft Brewing Co. 2475C Big Oak Road Langhorne PA 19047 United States;X-APPLE-RADIUS=500;X-TITLE=2475C Big Oak Road:geo:-73.989891,40.71839
END:VEVENT
END:VCALENDAR