BEGIN:VCALENDAR
VERSION:2.0
PRODID:-//Aristaeus Craft Brewing Co. - ECPv6.15.20//NONSGML v1.0//EN
CALSCALE:GREGORIAN
METHOD:PUBLISH
X-WR-CALNAME:Aristaeus Craft Brewing Co.
X-ORIGINAL-URL:https://aristaeusbrewing.com
X-WR-CALDESC:Events for Aristaeus Craft Brewing Co.
REFRESH-INTERVAL;VALUE=DURATION:PT1H
X-Robots-Tag:noindex
X-PUBLISHED-TTL:PT1H
BEGIN:VTIMEZONE
TZID:America/New_York
BEGIN:DAYLIGHT
TZOFFSETFROM:-0500
TZOFFSETTO:-0400
TZNAME:EDT
DTSTART:20240310T070000
END:DAYLIGHT
BEGIN:STANDARD
TZOFFSETFROM:-0400
TZOFFSETTO:-0500
TZNAME:EST
DTSTART:20241103T060000
END:STANDARD
BEGIN:DAYLIGHT
TZOFFSETFROM:-0500
TZOFFSETTO:-0400
TZNAME:EDT
DTSTART:20250309T070000
END:DAYLIGHT
BEGIN:STANDARD
TZOFFSETFROM:-0400
TZOFFSETTO:-0500
TZNAME:EST
DTSTART:20251102T060000
END:STANDARD
BEGIN:DAYLIGHT
TZOFFSETFROM:-0500
TZOFFSETTO:-0400
TZNAME:EDT
DTSTART:20260308T070000
END:DAYLIGHT
BEGIN:STANDARD
TZOFFSETFROM:-0400
TZOFFSETTO:-0500
TZNAME:EST
DTSTART:20261101T060000
END:STANDARD
END:VTIMEZONE
BEGIN:VEVENT
DTSTART;TZID=America/New_York:20251011T130000
DTEND;TZID=America/New_York:20251011T210000
DTSTAMP:20260425T203119
CREATED:20251006T231835Z
LAST-MODIFIED:20251006T231835Z
UID:10001620-1760187600-1760216400@aristaeusbrewing.com
SUMMARY:Food Truck: Jaelyns
DESCRIPTION:
URL:https://aristaeusbrewing.com/event/food-truck-jaelyns-6/
LOCATION:Aristaeus Craft Brewing Co.\, 2475C Big Oak Road\, Langhorne\, PA\, 19047\, United States
CATEGORIES:Food Truck
ATTACH;FMTTYPE=image/jpeg:https://aristaeusbrewing.com/wp-content/uploads/2025/08/jaelyns-at-aristaeus-craft-brewing.jpg
GEO:40.71839;-73.989891
X-APPLE-STRUCTURED-LOCATION;VALUE=URI;X-ADDRESS=Aristaeus Craft Brewing Co. 2475C Big Oak Road Langhorne PA 19047 United States;X-APPLE-RADIUS=500;X-TITLE=2475C Big Oak Road:geo:-73.989891,40.71839
END:VEVENT
BEGIN:VEVENT
DTSTART;TZID=America/New_York:20251011T150000
DTEND;TZID=America/New_York:20251011T180000
DTSTAMP:20260425T203119
CREATED:20251006T231913Z
LAST-MODIFIED:20251006T231913Z
UID:10001619-1760194800-1760205600@aristaeusbrewing.com
SUMMARY:Music: Jonathn Ashe
DESCRIPTION:Taproom is 21+ during music. All ages welcome outside.
URL:https://aristaeusbrewing.com/event/music-jonathn-ashe-20/
LOCATION:Aristaeus Craft Brewing Co.\, 2475C Big Oak Road\, Langhorne\, PA\, 19047\, United States
CATEGORIES:Music
ATTACH;FMTTYPE=image/jpeg:https://aristaeusbrewing.com/wp-content/uploads/2022/03/jonathn-ashe-at-aristaeus-brewing.jpg
GEO:40.71839;-73.989891
X-APPLE-STRUCTURED-LOCATION;VALUE=URI;X-ADDRESS=Aristaeus Craft Brewing Co. 2475C Big Oak Road Langhorne PA 19047 United States;X-APPLE-RADIUS=500;X-TITLE=2475C Big Oak Road:geo:-73.989891,40.71839
END:VEVENT
BEGIN:VEVENT
DTSTART;TZID=America/New_York:20251012T100000
DTEND;TZID=America/New_York:20251012T130000
DTSTAMP:20260425T203119
CREATED:20250821T220716Z
LAST-MODIFIED:20250821T220716Z
UID:10001589-1760263200-1760274000@aristaeusbrewing.com
SUMMARY:Horsham Farmers Market
DESCRIPTION:
URL:https://aristaeusbrewing.com/event/horsham-farmers-market-29/
LOCATION:Horsham Farmers Market\, 1025 Horsham Road\, Horsham\, PA\, United States
CATEGORIES:Off-Site Events
ATTACH;FMTTYPE=image/jpeg:https://aristaeusbrewing.com/wp-content/uploads/2024/05/aristaeus-at-horsham-farmers-market.jpg
END:VEVENT
BEGIN:VEVENT
DTSTART;TZID=America/New_York:20251012T130000
DTEND;TZID=America/New_York:20251012T180000
DTSTAMP:20260425T203119
CREATED:20251003T170424Z
LAST-MODIFIED:20251003T170424Z
UID:10001617-1760274000-1760292000@aristaeusbrewing.com
SUMMARY:Food Truck: La Camelia Philly
DESCRIPTION:
URL:https://aristaeusbrewing.com/event/food-truck-la-camelia-philly/
LOCATION:Aristaeus Craft Brewing Co.\, 2475C Big Oak Road\, Langhorne\, PA\, 19047\, United States
CATEGORIES:Food Truck
ATTACH;FMTTYPE=image/jpeg:https://aristaeusbrewing.com/wp-content/uploads/2025/10/la-camelia-at-aristaeus-brewing.jpg
GEO:40.71839;-73.989891
X-APPLE-STRUCTURED-LOCATION;VALUE=URI;X-ADDRESS=Aristaeus Craft Brewing Co. 2475C Big Oak Road Langhorne PA 19047 United States;X-APPLE-RADIUS=500;X-TITLE=2475C Big Oak Road:geo:-73.989891,40.71839
END:VEVENT
BEGIN:VEVENT
DTSTART;TZID=America/New_York:20251016T160000
DTEND;TZID=America/New_York:20251016T210000
DTSTAMP:20260425T203119
CREATED:20250821T221028Z
LAST-MODIFIED:20250828T154202Z
UID:10001600-1760630400-1760648400@aristaeusbrewing.com
SUMMARY:Food Truck: King Gyro
DESCRIPTION:
URL:https://aristaeusbrewing.com/event/food-truck-king-gyro-27/
LOCATION:Aristaeus Craft Brewing Co.\, 2475C Big Oak Road\, Langhorne\, PA\, 19047\, United States
CATEGORIES:Food Truck
ATTACH;FMTTYPE=image/jpeg:https://aristaeusbrewing.com/wp-content/uploads/2024/05/king-gyro-aristaeus-brewing.jpg
GEO:40.71839;-73.989891
X-APPLE-STRUCTURED-LOCATION;VALUE=URI;X-ADDRESS=Aristaeus Craft Brewing Co. 2475C Big Oak Road Langhorne PA 19047 United States;X-APPLE-RADIUS=500;X-TITLE=2475C Big Oak Road:geo:-73.989891,40.71839
END:VEVENT
BEGIN:VEVENT
DTSTART;TZID=America/New_York:20251016T190000
DTEND;TZID=America/New_York:20251016T210000
DTSTAMP:20260425T203119
CREATED:20250103T143700Z
LAST-MODIFIED:20251223T175030Z
UID:10001318-1760641200-1760648400@aristaeusbrewing.com
SUMMARY:Trivia Night
DESCRIPTION:Weekly trivia competition with Quizmaster Brian.
URL:https://aristaeusbrewing.com/event/trivia-night-10/2025-10-16/
LOCATION:Aristaeus Craft Brewing Co.\, 2475C Big Oak Road\, Langhorne\, PA\, 19047\, United States
CATEGORIES:Events
ATTACH;FMTTYPE=image/jpeg:https://aristaeusbrewing.com/wp-content/uploads/2025/01/aristaeus-creaft-brewing-co-trivia-night1.jpg
GEO:40.71839;-73.989891
X-APPLE-STRUCTURED-LOCATION;VALUE=URI;X-ADDRESS=Aristaeus Craft Brewing Co. 2475C Big Oak Road Langhorne PA 19047 United States;X-APPLE-RADIUS=500;X-TITLE=2475C Big Oak Road:geo:-73.989891,40.71839
END:VEVENT
BEGIN:VEVENT
DTSTART;TZID=America/New_York:20251017T163000
DTEND;TZID=America/New_York:20251017T210000
DTSTAMP:20260425T203119
CREATED:20250821T220849Z
LAST-MODIFIED:20250828T154154Z
UID:10001593-1760718600-1760734800@aristaeusbrewing.com
SUMMARY:Food Truck: Lunchboxxx
DESCRIPTION:
URL:https://aristaeusbrewing.com/event/food-truck-lunchboxxx-82/
LOCATION:Aristaeus Craft Brewing Co.\, 2475C Big Oak Road\, Langhorne\, PA\, 19047\, United States
CATEGORIES:Food Truck
ATTACH;FMTTYPE=image/jpeg:https://aristaeusbrewing.com/wp-content/uploads/2024/05/lunchboxxx-at-aristaeus-brewing-2.jpg
GEO:40.71839;-73.989891
X-APPLE-STRUCTURED-LOCATION;VALUE=URI;X-ADDRESS=Aristaeus Craft Brewing Co. 2475C Big Oak Road Langhorne PA 19047 United States;X-APPLE-RADIUS=500;X-TITLE=2475C Big Oak Road:geo:-73.989891,40.71839
END:VEVENT
BEGIN:VEVENT
DTSTART;TZID=America/New_York:20251017T180000
DTEND;TZID=America/New_York:20251017T210000
DTSTAMP:20260425T203119
CREATED:20251014T181437Z
LAST-MODIFIED:20251014T181437Z
UID:10001646-1760724000-1760734800@aristaeusbrewing.com
SUMMARY:Hatboro Trunk or Treat
DESCRIPTION:Check out the event details on Facebook.
URL:https://aristaeusbrewing.com/event/hatboro-trunk-or-treat/
LOCATION:Pennypack Community Center and Park\, 130 Spring Ave\, Hatboro\, PA\, 19040\, United States
CATEGORIES:Off-Site Events
END:VEVENT
BEGIN:VEVENT
DTSTART;TZID=America/New_York:20251017T190000
DTEND;TZID=America/New_York:20251017T220000
DTSTAMP:20260425T203119
CREATED:20250821T215718Z
LAST-MODIFIED:20251014T181329Z
UID:10001586-1760727600-1760738400@aristaeusbrewing.com
SUMMARY:Music Bingo with Righteous Jolly
DESCRIPTION:Join us for Friday night Music Bingo—a night of tunes\, laughs\, and a little friendly competition! Righteous Jolly will spin the songs\, you’ll mark them off on your bingo card\, and when you hit a row\, shout out BINGO! \nPrizes for each game! \nThis is a 21+ event. \nEvent details on Facebook
URL:https://aristaeusbrewing.com/event/music-bingo-with-righteous-jolly-6/
LOCATION:Aristaeus Craft Brewing Co.\, 2475C Big Oak Road\, Langhorne\, PA\, 19047\, United States
CATEGORIES:Events
ATTACH;FMTTYPE=image/png:https://aristaeusbrewing.com/wp-content/uploads/2025/08/2025-10-17-Music-Bingo-1920x1080-1.png
GEO:40.71839;-73.989891
X-APPLE-STRUCTURED-LOCATION;VALUE=URI;X-ADDRESS=Aristaeus Craft Brewing Co. 2475C Big Oak Road Langhorne PA 19047 United States;X-APPLE-RADIUS=500;X-TITLE=2475C Big Oak Road:geo:-73.989891,40.71839
END:VEVENT
BEGIN:VEVENT
DTSTART;TZID=America/New_York:20251018T090000
DTEND;TZID=America/New_York:20251018T120000
DTSTAMP:20260425T203119
CREATED:20250821T220805Z
LAST-MODIFIED:20250821T220805Z
UID:10001596-1760778000-1760788800@aristaeusbrewing.com
SUMMARY:Wrightstown Farmers Market
DESCRIPTION:
URL:https://aristaeusbrewing.com/event/wrightstown-farmers-market-37/
LOCATION:Middletown Grange\, 576 Penns Park Road\, Newtown\, PA\, 18940\, United States
CATEGORIES:Off-Site Events
ATTACH;FMTTYPE=image/jpeg:https://aristaeusbrewing.com/wp-content/uploads/2024/05/aristaeus-at-wrightstown-farmers-market.jpg
END:VEVENT
BEGIN:VEVENT
DTSTART;TZID=America/New_York:20251018T130000
DTEND;TZID=America/New_York:20251018T210000
DTSTAMP:20260425T203119
CREATED:20250821T221553Z
LAST-MODIFIED:20250828T154147Z
UID:10001606-1760792400-1760821200@aristaeusbrewing.com
SUMMARY:Food Truck: Taco the Town Kitchen
DESCRIPTION:
URL:https://aristaeusbrewing.com/event/food-truck-taco-the-town-kitchen-59/
LOCATION:Aristaeus Craft Brewing Co.\, 2475C Big Oak Road\, Langhorne\, PA\, 19047\, United States
CATEGORIES:Food Truck
ATTACH;FMTTYPE=image/jpeg:https://aristaeusbrewing.com/wp-content/uploads/2024/05/taco-the-town-kitchen-at-aristaeus-1.jpg
GEO:40.71839;-73.989891
X-APPLE-STRUCTURED-LOCATION;VALUE=URI;X-ADDRESS=Aristaeus Craft Brewing Co. 2475C Big Oak Road Langhorne PA 19047 United States;X-APPLE-RADIUS=500;X-TITLE=2475C Big Oak Road:geo:-73.989891,40.71839
END:VEVENT
BEGIN:VEVENT
DTSTART;TZID=America/New_York:20251019T100000
DTEND;TZID=America/New_York:20251019T130000
DTSTAMP:20260425T203119
CREATED:20250821T220723Z
LAST-MODIFIED:20250821T220723Z
UID:10001590-1760868000-1760878800@aristaeusbrewing.com
SUMMARY:Horsham Farmers Market
DESCRIPTION:
URL:https://aristaeusbrewing.com/event/horsham-farmers-market-30/
LOCATION:Horsham Farmers Market\, 1025 Horsham Road\, Horsham\, PA\, United States
CATEGORIES:Off-Site Events
ATTACH;FMTTYPE=image/jpeg:https://aristaeusbrewing.com/wp-content/uploads/2024/05/aristaeus-at-horsham-farmers-market.jpg
END:VEVENT
BEGIN:VEVENT
DTSTART;TZID=America/New_York:20251019T130000
DTEND;TZID=America/New_York:20251019T180000
DTSTAMP:20260425T203119
CREATED:20250928T220607Z
LAST-MODIFIED:20250928T220607Z
UID:10001616-1760878800-1760896800@aristaeusbrewing.com
SUMMARY:Food Truck: Jaelyns
DESCRIPTION:
URL:https://aristaeusbrewing.com/event/food-truck-jaelyns-5/
LOCATION:Aristaeus Craft Brewing Co.\, 2475C Big Oak Road\, Langhorne\, PA\, 19047\, United States
CATEGORIES:Food Truck
ATTACH;FMTTYPE=image/jpeg:https://aristaeusbrewing.com/wp-content/uploads/2025/08/jaelyns-at-aristaeus-craft-brewing.jpg
GEO:40.71839;-73.989891
X-APPLE-STRUCTURED-LOCATION;VALUE=URI;X-ADDRESS=Aristaeus Craft Brewing Co. 2475C Big Oak Road Langhorne PA 19047 United States;X-APPLE-RADIUS=500;X-TITLE=2475C Big Oak Road:geo:-73.989891,40.71839
END:VEVENT
BEGIN:VEVENT
DTSTART;TZID=America/New_York:20251023T160000
DTEND;TZID=America/New_York:20251023T210000
DTSTAMP:20260425T203119
CREATED:20250905T134427Z
LAST-MODIFIED:20250905T134427Z
UID:10001611-1761235200-1761253200@aristaeusbrewing.com
SUMMARY:Food Truck: Philly Cinco de Mayo
DESCRIPTION:
URL:https://aristaeusbrewing.com/event/food-truck-philly-cinco-de-mayo/
LOCATION:Aristaeus Craft Brewing Co.\, 2475C Big Oak Road\, Langhorne\, PA\, 19047\, United States
CATEGORIES:Food Truck
ATTACH;FMTTYPE=image/jpeg:https://aristaeusbrewing.com/wp-content/uploads/2025/01/philly-cinco-de-mayo.jpg
GEO:40.71839;-73.989891
X-APPLE-STRUCTURED-LOCATION;VALUE=URI;X-ADDRESS=Aristaeus Craft Brewing Co. 2475C Big Oak Road Langhorne PA 19047 United States;X-APPLE-RADIUS=500;X-TITLE=2475C Big Oak Road:geo:-73.989891,40.71839
END:VEVENT
BEGIN:VEVENT
DTSTART;TZID=America/New_York:20251023T190000
DTEND;TZID=America/New_York:20251023T210000
DTSTAMP:20260425T203119
CREATED:20250103T143700Z
LAST-MODIFIED:20251223T175030Z
UID:10001319-1761246000-1761253200@aristaeusbrewing.com
SUMMARY:Trivia Night
DESCRIPTION:Weekly trivia competition with Quizmaster Brian.
URL:https://aristaeusbrewing.com/event/trivia-night-10/2025-10-23/
LOCATION:Aristaeus Craft Brewing Co.\, 2475C Big Oak Road\, Langhorne\, PA\, 19047\, United States
CATEGORIES:Events
ATTACH;FMTTYPE=image/jpeg:https://aristaeusbrewing.com/wp-content/uploads/2025/01/aristaeus-creaft-brewing-co-trivia-night1.jpg
GEO:40.71839;-73.989891
X-APPLE-STRUCTURED-LOCATION;VALUE=URI;X-ADDRESS=Aristaeus Craft Brewing Co. 2475C Big Oak Road Langhorne PA 19047 United States;X-APPLE-RADIUS=500;X-TITLE=2475C Big Oak Road:geo:-73.989891,40.71839
END:VEVENT
BEGIN:VEVENT
DTSTART;TZID=America/New_York:20251024T160000
DTEND;TZID=America/New_York:20251024T210000
DTSTAMP:20260425T203119
CREATED:20250821T221035Z
LAST-MODIFIED:20250828T154137Z
UID:10001601-1761321600-1761339600@aristaeusbrewing.com
SUMMARY:Food Truck: King Gyro
DESCRIPTION:
URL:https://aristaeusbrewing.com/event/food-truck-king-gyro-28/
LOCATION:Aristaeus Craft Brewing Co.\, 2475C Big Oak Road\, Langhorne\, PA\, 19047\, United States
CATEGORIES:Food Truck
ATTACH;FMTTYPE=image/jpeg:https://aristaeusbrewing.com/wp-content/uploads/2024/05/king-gyro-aristaeus-brewing.jpg
GEO:40.71839;-73.989891
X-APPLE-STRUCTURED-LOCATION;VALUE=URI;X-ADDRESS=Aristaeus Craft Brewing Co. 2475C Big Oak Road Langhorne PA 19047 United States;X-APPLE-RADIUS=500;X-TITLE=2475C Big Oak Road:geo:-73.989891,40.71839
END:VEVENT
BEGIN:VEVENT
DTSTART;TZID=America/New_York:20251025T100000
DTEND;TZID=America/New_York:20251025T150000
DTSTAMP:20260425T203119
CREATED:20250821T221838Z
LAST-MODIFIED:20250821T221838Z
UID:10001607-1761386400-1761404400@aristaeusbrewing.com
SUMMARY:Langhorne Harvest Day
DESCRIPTION:Olde Langhorne Harvest Day! A Fall Festival for all ages in Langhorne Borough\, PA. Live Music\, food\, crafts\, kid’s activities\, costume parade and more! Harvest Day is brought to you by Langhorne Borough Business Association (LBBA). \nClick here for event details on Facebook
URL:https://aristaeusbrewing.com/event/langhorne-harvest-day-2/
LOCATION:Langhorne Borough\, 115 W Richardson Ave.\, Langhorne\, PA\, 19047\, United States
CATEGORIES:Off-Site Events
ATTACH;FMTTYPE=image/jpeg:https://aristaeusbrewing.com/wp-content/uploads/2025/08/2025-10-harvest-day.jpg
END:VEVENT
BEGIN:VEVENT
DTSTART;TZID=America/New_York:20251025T130000
DTEND;TZID=America/New_York:20251025T210000
DTSTAMP:20260425T203119
CREATED:20250821T221009Z
LAST-MODIFIED:20250828T154129Z
UID:10001598-1761397200-1761426000@aristaeusbrewing.com
SUMMARY:Food Truck: Thai It Up
DESCRIPTION:
URL:https://aristaeusbrewing.com/event/food-truck-thai-it-up-66/
LOCATION:Aristaeus Craft Brewing Co.\, 2475C Big Oak Road\, Langhorne\, PA\, 19047\, United States
CATEGORIES:Food Truck
ATTACH;FMTTYPE=image/jpeg:https://aristaeusbrewing.com/wp-content/uploads/2022/06/thai-it-up-aristaeus-craft-brewing-co.jpg
GEO:40.71839;-73.989891
X-APPLE-STRUCTURED-LOCATION;VALUE=URI;X-ADDRESS=Aristaeus Craft Brewing Co. 2475C Big Oak Road Langhorne PA 19047 United States;X-APPLE-RADIUS=500;X-TITLE=2475C Big Oak Road:geo:-73.989891,40.71839
END:VEVENT
BEGIN:VEVENT
DTSTART;TZID=America/New_York:20251026T100000
DTEND;TZID=America/New_York:20251026T130000
DTSTAMP:20260425T203119
CREATED:20250821T220728Z
LAST-MODIFIED:20250821T220728Z
UID:10001591-1761472800-1761483600@aristaeusbrewing.com
SUMMARY:Horsham Farmers Market
DESCRIPTION:
URL:https://aristaeusbrewing.com/event/horsham-farmers-market-31/
LOCATION:Horsham Farmers Market\, 1025 Horsham Road\, Horsham\, PA\, United States
CATEGORIES:Off-Site Events
ATTACH;FMTTYPE=image/jpeg:https://aristaeusbrewing.com/wp-content/uploads/2024/05/aristaeus-at-horsham-farmers-market.jpg
END:VEVENT
BEGIN:VEVENT
DTSTART;TZID=America/New_York:20251026T110000
DTEND;TZID=America/New_York:20251026T130000
DTSTAMP:20260425T203119
CREATED:20250927T172525Z
LAST-MODIFIED:20251023T001113Z
UID:10001614-1761476400-1761483600@aristaeusbrewing.com
SUMMARY:Music Bingo Brunch for Swifties!
DESCRIPTION:🎶 Music Bingo Brunch 🎶 \nSwifties\, are you ready for it? 💚🧡 \nJoin us on Sunday\, October 26 from 11 AM – 1 PM for a Swiftie Music Bingo Brunch hosted by Righteous Jolly! Every round features ALL Taylor songs—think Eras Tour Setlist\, Country Era\, Taylor’s Billboard Top 13 hits\, Black & White (Reputation + TTPD)\, and more. \n🎁 Prizes: ALL prizes are Official The Life of a Showgirl releases—vinyls\, CDs\, cassettes\, and the Cardigan Box Set.\n🍹 Special Menu: Sip from a 13-track list of cocktails & mocktails inspired by Taylor’s lyrics.\n🍽 Food Truck: Lunchboxxx\n🎟️ Tickets: $13 per person and seating is limited. Don’t miss out! \nThis is a 21+ event. All attendees must have a ticket to enter. \n  \nTaproom and Tent tickets are SOLD OUT! 
URL:https://aristaeusbrewing.com/event/music-bingo-brunch-for-swifties/
LOCATION:Aristaeus Craft Brewing Co.\, 2475C Big Oak Road\, Langhorne\, PA\, 19047\, United States
CATEGORIES:Events
ATTACH;FMTTYPE=image/jpeg:https://aristaeusbrewing.com/wp-content/uploads/2025/09/2025-09-Taylor-Brunch-Bingo-rev-1.jpg
GEO:40.71839;-73.989891
X-APPLE-STRUCTURED-LOCATION;VALUE=URI;X-ADDRESS=Aristaeus Craft Brewing Co. 2475C Big Oak Road Langhorne PA 19047 United States;X-APPLE-RADIUS=500;X-TITLE=2475C Big Oak Road:geo:-73.989891,40.71839
END:VEVENT
BEGIN:VEVENT
DTSTART;TZID=America/New_York:20251026T130000
DTEND;TZID=America/New_York:20251026T180000
DTSTAMP:20260425T203119
CREATED:20250821T220834Z
LAST-MODIFIED:20250828T154121Z
UID:10001592-1761483600-1761501600@aristaeusbrewing.com
SUMMARY:Food Truck: Lunchboxxx
DESCRIPTION:
URL:https://aristaeusbrewing.com/event/food-truck-lunchboxxx-81/
LOCATION:Aristaeus Craft Brewing Co.\, 2475C Big Oak Road\, Langhorne\, PA\, 19047\, United States
CATEGORIES:Food Truck
ATTACH;FMTTYPE=image/jpeg:https://aristaeusbrewing.com/wp-content/uploads/2024/05/lunchboxxx-at-aristaeus-brewing-2.jpg
GEO:40.71839;-73.989891
X-APPLE-STRUCTURED-LOCATION;VALUE=URI;X-ADDRESS=Aristaeus Craft Brewing Co. 2475C Big Oak Road Langhorne PA 19047 United States;X-APPLE-RADIUS=500;X-TITLE=2475C Big Oak Road:geo:-73.989891,40.71839
END:VEVENT
BEGIN:VEVENT
DTSTART;TZID=America/New_York:20251029T190000
DTEND;TZID=America/New_York:20251029T210000
DTSTAMP:20260425T203119
CREATED:20251022T202754Z
LAST-MODIFIED:20251022T202754Z
UID:10001650-1761764400-1761771600@aristaeusbrewing.com
SUMMARY:Wandering Chapters and Aristaeus Brewing Book Club Meeting
DESCRIPTION:Ticket sales closed for this one! Please join us next time 🧡 \nJoin us for a fun filled night to discuss The Autumn Leaf Bookshop by Kay Michaels with a signed first edition copy\, complimentary beverage and good vibes!\nReserve your spot by 9/10/25!
URL:https://aristaeusbrewing.com/event/wandering-chapters-and-aristaeus-brewing-book-club-meeting/
LOCATION:Aristaeus Craft Brewing Co.\, 2475C Big Oak Road\, Langhorne\, PA\, 19047\, United States
CATEGORIES:Events
ATTACH;FMTTYPE=image/jpeg:https://aristaeusbrewing.com/wp-content/uploads/2025/10/2025-10-29-book-club.jpg
GEO:40.71839;-73.989891
X-APPLE-STRUCTURED-LOCATION;VALUE=URI;X-ADDRESS=Aristaeus Craft Brewing Co. 2475C Big Oak Road Langhorne PA 19047 United States;X-APPLE-RADIUS=500;X-TITLE=2475C Big Oak Road:geo:-73.989891,40.71839
END:VEVENT
BEGIN:VEVENT
DTSTART;TZID=America/New_York:20251030T160000
DTEND;TZID=America/New_York:20251030T210000
DTSTAMP:20260425T203119
CREATED:20250821T221617Z
LAST-MODIFIED:20250828T154114Z
UID:10001605-1761840000-1761858000@aristaeusbrewing.com
SUMMARY:Food Truck: Taco the Town Kitchen
DESCRIPTION:
URL:https://aristaeusbrewing.com/event/food-truck-taco-the-town-kitchen-60/
LOCATION:Aristaeus Craft Brewing Co.\, 2475C Big Oak Road\, Langhorne\, PA\, 19047\, United States
CATEGORIES:Food Truck
ATTACH;FMTTYPE=image/jpeg:https://aristaeusbrewing.com/wp-content/uploads/2024/05/taco-the-town-kitchen-at-aristaeus-1.jpg
GEO:40.71839;-73.989891
X-APPLE-STRUCTURED-LOCATION;VALUE=URI;X-ADDRESS=Aristaeus Craft Brewing Co. 2475C Big Oak Road Langhorne PA 19047 United States;X-APPLE-RADIUS=500;X-TITLE=2475C Big Oak Road:geo:-73.989891,40.71839
END:VEVENT
BEGIN:VEVENT
DTSTART;TZID=America/New_York:20251030T190000
DTEND;TZID=America/New_York:20251030T210000
DTSTAMP:20260425T203119
CREATED:20250103T143700Z
LAST-MODIFIED:20251223T175030Z
UID:10001320-1761850800-1761858000@aristaeusbrewing.com
SUMMARY:Trivia Night
DESCRIPTION:Weekly trivia competition with Quizmaster Brian.
URL:https://aristaeusbrewing.com/event/trivia-night-10/2025-10-30/
LOCATION:Aristaeus Craft Brewing Co.\, 2475C Big Oak Road\, Langhorne\, PA\, 19047\, United States
CATEGORIES:Events
ATTACH;FMTTYPE=image/jpeg:https://aristaeusbrewing.com/wp-content/uploads/2025/01/aristaeus-creaft-brewing-co-trivia-night1.jpg
GEO:40.71839;-73.989891
X-APPLE-STRUCTURED-LOCATION;VALUE=URI;X-ADDRESS=Aristaeus Craft Brewing Co. 2475C Big Oak Road Langhorne PA 19047 United States;X-APPLE-RADIUS=500;X-TITLE=2475C Big Oak Road:geo:-73.989891,40.71839
END:VEVENT
BEGIN:VEVENT
DTSTART;TZID=America/New_York:20251031T160000
DTEND;TZID=America/New_York:20251031T210000
DTSTAMP:20260425T203119
CREATED:20251003T170450Z
LAST-MODIFIED:20251003T170450Z
UID:10001618-1761926400-1761944400@aristaeusbrewing.com
SUMMARY:Food Truck: La Camelia Philly
DESCRIPTION:
URL:https://aristaeusbrewing.com/event/food-truck-la-camelia-philly-2/
LOCATION:Aristaeus Craft Brewing Co.\, 2475C Big Oak Road\, Langhorne\, PA\, 19047\, United States
CATEGORIES:Food Truck
ATTACH;FMTTYPE=image/jpeg:https://aristaeusbrewing.com/wp-content/uploads/2025/10/la-camelia-at-aristaeus-brewing.jpg
GEO:40.71839;-73.989891
X-APPLE-STRUCTURED-LOCATION;VALUE=URI;X-ADDRESS=Aristaeus Craft Brewing Co. 2475C Big Oak Road Langhorne PA 19047 United States;X-APPLE-RADIUS=500;X-TITLE=2475C Big Oak Road:geo:-73.989891,40.71839
END:VEVENT
BEGIN:VEVENT
DTSTART;TZID=America/New_York:20251031T190000
DTEND;TZID=America/New_York:20251031T223000
DTSTAMP:20260425T203119
CREATED:20251017T220849Z
LAST-MODIFIED:20251017T220849Z
UID:10001647-1761937200-1761949800@aristaeusbrewing.com
SUMMARY:Halloween Show with Danny O'Neill
DESCRIPTION:Danny O’Neill is a high school music teacher at Neshaminy High School by day and a singing pianist by night. On top of performing at local bars/restaurants\, weddings\, and private events\, he has traveled the world by performing on cruise ships. \nHalloween is on a Friday this year!!! Come out to Aristaeus to sing along to your favorite spooky tunes\, enjoy some great beer\, and do some fun Halloween-related activities. Expect to hear some great “festive” tunes such as “Werewolves in London”\, “Thriller”\, “Vampire”\, and much more! \nThere will be Halloween-themed beverages\, a costume contest\, and more! \nFood Truck: La Camelia Philly \nEvent Details on Facebook \n 
URL:https://aristaeusbrewing.com/event/halloween-show-with-danny-oneill/
LOCATION:Aristaeus Craft Brewing Co.\, 2475C Big Oak Road\, Langhorne\, PA\, 19047\, United States
CATEGORIES:Events,Music
ATTACH;FMTTYPE=image/png:https://aristaeusbrewing.com/wp-content/uploads/2025/10/2025-10-31-halloween.png
GEO:40.71839;-73.989891
X-APPLE-STRUCTURED-LOCATION;VALUE=URI;X-ADDRESS=Aristaeus Craft Brewing Co. 2475C Big Oak Road Langhorne PA 19047 United States;X-APPLE-RADIUS=500;X-TITLE=2475C Big Oak Road:geo:-73.989891,40.71839
END:VEVENT
BEGIN:VEVENT
DTSTART;TZID=America/New_York:20251101T130000
DTEND;TZID=America/New_York:20251101T210000
DTSTAMP:20260425T203119
CREATED:20251014T151408Z
LAST-MODIFIED:20251014T151408Z
UID:10001630-1762002000-1762030800@aristaeusbrewing.com
SUMMARY:Food Truck: Thai It Up
DESCRIPTION:
URL:https://aristaeusbrewing.com/event/food-truck-thai-it-up-67/
LOCATION:Aristaeus Craft Brewing Co.\, 2475C Big Oak Road\, Langhorne\, PA\, 19047\, United States
CATEGORIES:Food Truck
ATTACH;FMTTYPE=image/jpeg:https://aristaeusbrewing.com/wp-content/uploads/2022/06/thai-it-up-aristaeus-craft-brewing-co.jpg
GEO:40.71839;-73.989891
X-APPLE-STRUCTURED-LOCATION;VALUE=URI;X-ADDRESS=Aristaeus Craft Brewing Co. 2475C Big Oak Road Langhorne PA 19047 United States;X-APPLE-RADIUS=500;X-TITLE=2475C Big Oak Road:geo:-73.989891,40.71839
END:VEVENT
BEGIN:VEVENT
DTSTART;TZID=America/New_York:20251102T130000
DTEND;TZID=America/New_York:20251102T180000
DTSTAMP:20260425T203119
CREATED:20251014T151706Z
LAST-MODIFIED:20251014T151706Z
UID:10001636-1762088400-1762106400@aristaeusbrewing.com
SUMMARY:Food Truck: United Crepes of America
DESCRIPTION:
URL:https://aristaeusbrewing.com/event/food-truck-united-crepes-of-america-12/
LOCATION:Aristaeus Craft Brewing Co.\, 2475C Big Oak Road\, Langhorne\, PA\, 19047\, United States
CATEGORIES:Food Truck
ATTACH;FMTTYPE=image/jpeg:https://aristaeusbrewing.com/wp-content/uploads/2022/05/united-crepes-america-at-aristaeus-craft-brewing-co.jpg
GEO:40.71839;-73.989891
X-APPLE-STRUCTURED-LOCATION;VALUE=URI;X-ADDRESS=Aristaeus Craft Brewing Co. 2475C Big Oak Road Langhorne PA 19047 United States;X-APPLE-RADIUS=500;X-TITLE=2475C Big Oak Road:geo:-73.989891,40.71839
END:VEVENT
BEGIN:VEVENT
DTSTART;TZID=America/New_York:20251105T190000
DTEND;TZID=America/New_York:20251105T210000
DTSTAMP:20260425T203119
CREATED:20251022T201730Z
LAST-MODIFIED:20251022T201730Z
UID:10001648-1762369200-1762376400@aristaeusbrewing.com
SUMMARY:Doily Christmas Tree Craft Workshop
DESCRIPTION:🌲 Doily Christmas Tree Craft Workshop at Aristaeus Brewing 🌲 \nGet ready to kick off the holiday season with a cozy afternoon of crafting and cheer at Aristaeus Brewing! \nWe’ll be making rustic doily Christmas trees\, a charming farmhouse style décor piece that’s simple\, sweet\, and full of festive charm. Each tree will be built on a wooden base and layered with hand-painted doilies for that perfect vintage holiday touch. \nYour ticket includes: \n🎨 All supplies and materials \n🍺 One Aristaeus Brewing beer of your choice \n🪵 Step-by-step instruction to create your own handmade holiday décor \nNo crafting experience needed — just bring your holiday spirit and a friend (or two)! \n📅 Date: 11/5 \n🕰 Time: 7pm – 9pm \n📍 Location: Aristaeus Brewing – $55 \nLet’s sip\, craft\, and make something beautiful together this Christmas season! ✨ \nGet Tickets Here ($55)
URL:https://aristaeusbrewing.com/event/doily-christmas-tree-craft-workshop/
LOCATION:Aristaeus Craft Brewing Co.\, 2475C Big Oak Road\, Langhorne\, PA\, 19047\, United States
CATEGORIES:Events
ATTACH;FMTTYPE=image/jpeg:https://aristaeusbrewing.com/wp-content/uploads/2025/10/2025-11-craft-night.jpg
GEO:40.71839;-73.989891
X-APPLE-STRUCTURED-LOCATION;VALUE=URI;X-ADDRESS=Aristaeus Craft Brewing Co. 2475C Big Oak Road Langhorne PA 19047 United States;X-APPLE-RADIUS=500;X-TITLE=2475C Big Oak Road:geo:-73.989891,40.71839
END:VEVENT
BEGIN:VEVENT
DTSTART;TZID=America/New_York:20251106T163000
DTEND;TZID=America/New_York:20251106T203000
DTSTAMP:20260425T203119
CREATED:20251014T151437Z
LAST-MODIFIED:20251014T151437Z
UID:10001628-1762446600-1762461000@aristaeusbrewing.com
SUMMARY:Food Truck: Lunchboxxx
DESCRIPTION:
URL:https://aristaeusbrewing.com/event/food-truck-lunchboxxx-84/
LOCATION:Aristaeus Craft Brewing Co.\, 2475C Big Oak Road\, Langhorne\, PA\, 19047\, United States
CATEGORIES:Food Truck
ATTACH;FMTTYPE=image/jpeg:https://aristaeusbrewing.com/wp-content/uploads/2024/05/lunchboxxx-at-aristaeus-brewing-2.jpg
GEO:40.71839;-73.989891
X-APPLE-STRUCTURED-LOCATION;VALUE=URI;X-ADDRESS=Aristaeus Craft Brewing Co. 2475C Big Oak Road Langhorne PA 19047 United States;X-APPLE-RADIUS=500;X-TITLE=2475C Big Oak Road:geo:-73.989891,40.71839
END:VEVENT
END:VCALENDAR