BEGIN:VCALENDAR
VERSION:2.0
PRODID:-//Aristaeus Craft Brewing Co. - ECPv6.15.20//NONSGML v1.0//EN
CALSCALE:GREGORIAN
METHOD:PUBLISH
X-ORIGINAL-URL:https://aristaeusbrewing.com
X-WR-CALDESC:Events for Aristaeus Craft Brewing Co.
REFRESH-INTERVAL;VALUE=DURATION:PT1H
X-Robots-Tag:noindex
X-PUBLISHED-TTL:PT1H
BEGIN:VTIMEZONE
TZID:America/New_York
BEGIN:DAYLIGHT
TZOFFSETFROM:-0500
TZOFFSETTO:-0400
TZNAME:EDT
DTSTART:20240310T070000
END:DAYLIGHT
BEGIN:STANDARD
TZOFFSETFROM:-0400
TZOFFSETTO:-0500
TZNAME:EST
DTSTART:20241103T060000
END:STANDARD
BEGIN:DAYLIGHT
TZOFFSETFROM:-0500
TZOFFSETTO:-0400
TZNAME:EDT
DTSTART:20250309T070000
END:DAYLIGHT
BEGIN:STANDARD
TZOFFSETFROM:-0400
TZOFFSETTO:-0500
TZNAME:EST
DTSTART:20251102T060000
END:STANDARD
BEGIN:DAYLIGHT
TZOFFSETFROM:-0500
TZOFFSETTO:-0400
TZNAME:EDT
DTSTART:20260308T070000
END:DAYLIGHT
BEGIN:STANDARD
TZOFFSETFROM:-0400
TZOFFSETTO:-0500
TZNAME:EST
DTSTART:20261101T060000
END:STANDARD
END:VTIMEZONE
BEGIN:VEVENT
DTSTART;TZID=America/New_York:20250918T160000
DTEND;TZID=America/New_York:20250918T210000
DTSTAMP:20260425T190122
CREATED:20250703T141458Z
LAST-MODIFIED:20250828T164644Z
UID:10001518-1758211200-1758229200@aristaeusbrewing.com
SUMMARY:Food Truck: Taco the Town Kitchen
DESCRIPTION:
URL:https://aristaeusbrewing.com/event/food-truck-taco-the-town-kitchen-57/
LOCATION:Aristaeus Craft Brewing Co.\, 2475C Big Oak Road\, Langhorne\, PA\, 19047\, United States
CATEGORIES:Food Truck
ATTACH;FMTTYPE=image/jpeg:https://aristaeusbrewing.com/wp-content/uploads/2025/07/taco-the-town-at-aristaeus-craft-brewing.jpg
GEO:40.71839;-73.989891
X-APPLE-STRUCTURED-LOCATION;VALUE=URI;X-ADDRESS=Aristaeus Craft Brewing Co. 2475C Big Oak Road Langhorne PA 19047 United States;X-APPLE-RADIUS=500;X-TITLE=2475C Big Oak Road:geo:-73.989891,40.71839
END:VEVENT
BEGIN:VEVENT
DTSTART;TZID=America/New_York:20250918T190000
DTEND;TZID=America/New_York:20250918T210000
DTSTAMP:20260425T190122
CREATED:20250103T143700Z
LAST-MODIFIED:20251223T175030Z
UID:10001314-1758222000-1758229200@aristaeusbrewing.com
SUMMARY:Trivia Night
DESCRIPTION:Weekly trivia competition with Quizmaster Brian.
URL:https://aristaeusbrewing.com/event/trivia-night-10/2025-09-18/
LOCATION:Aristaeus Craft Brewing Co.\, 2475C Big Oak Road\, Langhorne\, PA\, 19047\, United States
CATEGORIES:Events
ATTACH;FMTTYPE=image/jpeg:https://aristaeusbrewing.com/wp-content/uploads/2025/01/aristaeus-creaft-brewing-co-trivia-night1.jpg
GEO:40.71839;-73.989891
X-APPLE-STRUCTURED-LOCATION;VALUE=URI;X-ADDRESS=Aristaeus Craft Brewing Co. 2475C Big Oak Road Langhorne PA 19047 United States;X-APPLE-RADIUS=500;X-TITLE=2475C Big Oak Road:geo:-73.989891,40.71839
END:VEVENT
BEGIN:VEVENT
DTSTART;TZID=America/New_York:20250919T160000
DTEND;TZID=America/New_York:20250919T210000
DTSTAMP:20260425T190122
CREATED:20250904T222050Z
LAST-MODIFIED:20250916T212603Z
UID:10001610-1758297600-1758315600@aristaeusbrewing.com
SUMMARY:Food Truck: Grateful Philly 215
DESCRIPTION:
URL:https://aristaeusbrewing.com/event/food-truck-grateful-philly-215-3/
LOCATION:Aristaeus Craft Brewing Co.\, 2475C Big Oak Road\, Langhorne\, PA\, 19047\, United States
CATEGORIES:Food Truck
ATTACH;FMTTYPE=image/jpeg:https://aristaeusbrewing.com/wp-content/uploads/2025/08/grateful-philly-215-at-aristaeus-craft-brewing.jpg
GEO:40.71839;-73.989891
X-APPLE-STRUCTURED-LOCATION;VALUE=URI;X-ADDRESS=Aristaeus Craft Brewing Co. 2475C Big Oak Road Langhorne PA 19047 United States;X-APPLE-RADIUS=500;X-TITLE=2475C Big Oak Road:geo:-73.989891,40.71839
END:VEVENT
BEGIN:VEVENT
DTSTART;TZID=America/New_York:20250919T160000
DTEND;TZID=America/New_York:20250920T230000
DTSTAMP:20260425T190122
CREATED:20250812T220148Z
LAST-MODIFIED:20250916T213131Z
UID:10001578-1758297600-1758409200@aristaeusbrewing.com
SUMMARY:Oktoberfest 2025
DESCRIPTION:Mark your calendar for Aristaeus Oktoberfest ’25 weekend: Friday\, September 19 and Saturday\, September 20. \nThe celebration will include 4 beer releases: \n\nAristaeus Festbier (a pale German lager)\nAristaeus Märzen\nAristaeus Helles – brand new beer for 2025!\nGrosses Zelt Bräu (a Munich Dunkel)\n\nFood: \nGrateful Philly 215 will be on-site Friday and Saturday\, with a diverse menu that will include some German-inspired fare.
URL:https://aristaeusbrewing.com/event/oktoberfest-2025/
LOCATION:Aristaeus Craft Brewing Co.\, 2475C Big Oak Road\, Langhorne\, PA\, 19047\, United States
CATEGORIES:Events
ATTACH;FMTTYPE=image/jpeg:https://aristaeusbrewing.com/wp-content/uploads/2025/08/2025-09-oktoberfest-fb-cover.jpg
GEO:40.71839;-73.989891
X-APPLE-STRUCTURED-LOCATION;VALUE=URI;X-ADDRESS=Aristaeus Craft Brewing Co. 2475C Big Oak Road Langhorne PA 19047 United States;X-APPLE-RADIUS=500;X-TITLE=2475C Big Oak Road:geo:-73.989891,40.71839
END:VEVENT
BEGIN:VEVENT
DTSTART;TZID=America/New_York:20250919T190000
DTEND;TZID=America/New_York:20250919T220000
DTSTAMP:20260425T190122
CREATED:20250703T142701Z
LAST-MODIFIED:20250828T125618Z
UID:10001556-1758308400-1758319200@aristaeusbrewing.com
SUMMARY:Music: Chris Nickey
DESCRIPTION:
URL:https://aristaeusbrewing.com/event/music-chris-nickey-8/
LOCATION:Aristaeus Craft Brewing Co.\, 2475C Big Oak Road\, Langhorne\, PA\, 19047\, United States
CATEGORIES:Music
GEO:40.71839;-73.989891
X-APPLE-STRUCTURED-LOCATION;VALUE=URI;X-ADDRESS=Aristaeus Craft Brewing Co. 2475C Big Oak Road Langhorne PA 19047 United States;X-APPLE-RADIUS=500;X-TITLE=2475C Big Oak Road:geo:-73.989891,40.71839
END:VEVENT
BEGIN:VEVENT
DTSTART;TZID=America/New_York:20250920T090000
DTEND;TZID=America/New_York:20250920T120000
DTSTAMP:20260425T190122
CREATED:20250703T141720Z
LAST-MODIFIED:20250703T141720Z
UID:10001535-1758358800-1758369600@aristaeusbrewing.com
SUMMARY:Wrightstown Farmers Market
DESCRIPTION:
URL:https://aristaeusbrewing.com/event/wrightstown-farmers-market-34/
LOCATION:Middletown Grange\, 576 Penns Park Road\, Newtown\, PA\, 18940\, United States
CATEGORIES:Off-Site Events
ATTACH;FMTTYPE=image/jpeg:https://aristaeusbrewing.com/wp-content/uploads/2024/05/aristaeus-at-wrightstown-farmers-market.jpg
END:VEVENT
BEGIN:VEVENT
DTSTART;TZID=America/New_York:20250920T130000
DTEND;TZID=America/New_York:20250920T210000
DTSTAMP:20260425T190122
CREATED:20250812T215620Z
LAST-MODIFIED:20250904T222037Z
UID:10001574-1758373200-1758402000@aristaeusbrewing.com
SUMMARY:Food Truck: Grateful Philly 215
DESCRIPTION:
URL:https://aristaeusbrewing.com/event/food-truck-grateful-philly-215-2/
LOCATION:Aristaeus Craft Brewing Co.\, 2475C Big Oak Road\, Langhorne\, PA\, 19047\, United States
CATEGORIES:Food Truck
ATTACH;FMTTYPE=image/jpeg:https://aristaeusbrewing.com/wp-content/uploads/2025/08/grateful-philly-215-at-aristaeus-craft-brewing.jpg
GEO:40.71839;-73.989891
X-APPLE-STRUCTURED-LOCATION;VALUE=URI;X-ADDRESS=Aristaeus Craft Brewing Co. 2475C Big Oak Road Langhorne PA 19047 United States;X-APPLE-RADIUS=500;X-TITLE=2475C Big Oak Road:geo:-73.989891,40.71839
END:VEVENT
BEGIN:VEVENT
DTSTART;TZID=America/New_York:20250921T100000
DTEND;TZID=America/New_York:20250921T130000
DTSTAMP:20260425T190122
CREATED:20250703T141603Z
LAST-MODIFIED:20250703T141603Z
UID:10001528-1758448800-1758459600@aristaeusbrewing.com
SUMMARY:Horsham Farmers Market
DESCRIPTION:
URL:https://aristaeusbrewing.com/event/horsham-farmers-market-26/
LOCATION:Horsham Farmers Market\, 1025 Horsham Road\, Horsham\, PA\, United States
CATEGORIES:Off-Site Events
ATTACH;FMTTYPE=image/jpeg:https://aristaeusbrewing.com/wp-content/uploads/2024/05/aristaeus-at-horsham-farmers-market.jpg
END:VEVENT
BEGIN:VEVENT
DTSTART;TZID=America/New_York:20250925T160000
DTEND;TZID=America/New_York:20250925T210000
DTSTAMP:20260425T190122
CREATED:20250922T223440Z
LAST-MODIFIED:20250922T223450Z
UID:10001613-1758816000-1758834000@aristaeusbrewing.com
SUMMARY:Food Truck: Ravioli Remix
DESCRIPTION:
URL:https://aristaeusbrewing.com/event/food-truck-ravioli-remix-6/
LOCATION:Aristaeus Craft Brewing Co.\, 2475C Big Oak Road\, Langhorne\, PA\, 19047\, United States
CATEGORIES:Food Truck
ATTACH;FMTTYPE=image/jpeg:https://aristaeusbrewing.com/wp-content/uploads/2024/10/ravioli-remix-at-aristaeus-brewing.jpg
GEO:40.71839;-73.989891
X-APPLE-STRUCTURED-LOCATION;VALUE=URI;X-ADDRESS=Aristaeus Craft Brewing Co. 2475C Big Oak Road Langhorne PA 19047 United States;X-APPLE-RADIUS=500;X-TITLE=2475C Big Oak Road:geo:-73.989891,40.71839
END:VEVENT
BEGIN:VEVENT
DTSTART;TZID=America/New_York:20250925T190000
DTEND;TZID=America/New_York:20250925T210000
DTSTAMP:20260425T190122
CREATED:20250103T143700Z
LAST-MODIFIED:20251223T175030Z
UID:10001315-1758826800-1758834000@aristaeusbrewing.com
SUMMARY:Trivia Night
DESCRIPTION:Weekly trivia competition with Quizmaster Brian.
URL:https://aristaeusbrewing.com/event/trivia-night-10/2025-09-25/
LOCATION:Aristaeus Craft Brewing Co.\, 2475C Big Oak Road\, Langhorne\, PA\, 19047\, United States
CATEGORIES:Events
ATTACH;FMTTYPE=image/jpeg:https://aristaeusbrewing.com/wp-content/uploads/2025/01/aristaeus-creaft-brewing-co-trivia-night1.jpg
GEO:40.71839;-73.989891
X-APPLE-STRUCTURED-LOCATION;VALUE=URI;X-ADDRESS=Aristaeus Craft Brewing Co. 2475C Big Oak Road Langhorne PA 19047 United States;X-APPLE-RADIUS=500;X-TITLE=2475C Big Oak Road:geo:-73.989891,40.71839
END:VEVENT
BEGIN:VEVENT
DTSTART;TZID=America/New_York:20250926T160000
DTEND;TZID=America/New_York:20250926T210000
DTSTAMP:20260425T190122
CREATED:20250811T222441Z
LAST-MODIFIED:20250828T154258Z
UID:10001572-1758902400-1758920400@aristaeusbrewing.com
SUMMARY:Food Truck: King Gyro
DESCRIPTION:
URL:https://aristaeusbrewing.com/event/food-truck-king-gyro-25/
LOCATION:Aristaeus Craft Brewing Co.\, 2475C Big Oak Road\, Langhorne\, PA\, 19047\, United States
CATEGORIES:Food Truck
ATTACH;FMTTYPE=image/jpeg:https://aristaeusbrewing.com/wp-content/uploads/2024/05/king-gyro-aristaeus-brewing.jpg
GEO:40.71839;-73.989891
X-APPLE-STRUCTURED-LOCATION;VALUE=URI;X-ADDRESS=Aristaeus Craft Brewing Co. 2475C Big Oak Road Langhorne PA 19047 United States;X-APPLE-RADIUS=500;X-TITLE=2475C Big Oak Road:geo:-73.989891,40.71839
END:VEVENT
BEGIN:VEVENT
DTSTART;TZID=America/New_York:20250926T173000
DTEND;TZID=America/New_York:20250926T203000
DTSTAMP:20260425T190122
CREATED:20250703T141946Z
LAST-MODIFIED:20250703T141946Z
UID:10001548-1758907800-1758918600@aristaeusbrewing.com
SUMMARY:Party in the Park
DESCRIPTION:Party in The Park events feature live music/entertainment\, lawn games\, foam/bubble parties (weather permitting)\, food trucks\, activities\, and more! \n 
URL:https://aristaeusbrewing.com/event/party-in-the-park-5/
LOCATION:Pennypack Community Center and Park\, 130 Spring Ave\, Hatboro\, PA\, 19040\, United States
CATEGORIES:Off-Site Events
ATTACH;FMTTYPE=image/jpeg:https://aristaeusbrewing.com/wp-content/uploads/2025/04/party-in-the-park.jpg
END:VEVENT
BEGIN:VEVENT
DTSTART;TZID=America/New_York:20250927T120000
DTEND;TZID=America/New_York:20250927T170000
DTSTAMP:20260425T190122
CREATED:20250812T221914Z
LAST-MODIFIED:20250812T221954Z
UID:10001581-1758974400-1758992400@aristaeusbrewing.com
SUMMARY:Groovin' at the Gates
DESCRIPTION:Join us for a day of fun and festivities at Groovin’ at the Gates – a community event you won’t want to miss! We’ll be pouring pints of beer in the Beer Garden! \nEvent details on Facebook.
URL:https://aristaeusbrewing.com/event/groovin-at-the-gates-2/
LOCATION:Forsythia Crossing Park\, Levittown\, PA\, United States
CATEGORIES:Off-Site Events
ATTACH;FMTTYPE=image/jpeg:https://aristaeusbrewing.com/wp-content/uploads/2024/09/groovin-at-the-gates.jpg
END:VEVENT
BEGIN:VEVENT
DTSTART;TZID=America/New_York:20250927T130000
DTEND;TZID=America/New_York:20250927T210000
DTSTAMP:20260425T190122
CREATED:20250703T141818Z
LAST-MODIFIED:20250828T154251Z
UID:10001540-1758978000-1759006800@aristaeusbrewing.com
SUMMARY:Food Truck: Thai It Up
DESCRIPTION:
URL:https://aristaeusbrewing.com/event/food-truck-thai-it-up-65/
LOCATION:Aristaeus Craft Brewing Co.\, 2475C Big Oak Road\, Langhorne\, PA\, 19047\, United States
CATEGORIES:Food Truck
ATTACH;FMTTYPE=image/jpeg:https://aristaeusbrewing.com/wp-content/uploads/2022/06/thai-it-up-aristaeus-craft-brewing-co.jpg
GEO:40.71839;-73.989891
X-APPLE-STRUCTURED-LOCATION;VALUE=URI;X-ADDRESS=Aristaeus Craft Brewing Co. 2475C Big Oak Road Langhorne PA 19047 United States;X-APPLE-RADIUS=500;X-TITLE=2475C Big Oak Road:geo:-73.989891,40.71839
END:VEVENT
BEGIN:VEVENT
DTSTART;TZID=America/New_York:20250927T180000
DTEND;TZID=America/New_York:20250927T210000
DTSTAMP:20260425T190122
CREATED:20250812T225436Z
LAST-MODIFIED:20250923T152428Z
UID:10001582-1758996000-1759006800@aristaeusbrewing.com
SUMMARY:Warrington Community Day
DESCRIPTION:Join Warrington Township in celebrating the community and businesses of Warrington at the annual Warrington Community Day!
URL:https://aristaeusbrewing.com/event/warrington-community-day/
LOCATION:Upper Nike / Lions Pride Park\, 3129 Bradley Rd\, Warrington\, PA\, 18976\, United States
CATEGORIES:Off-Site Events
ATTACH;FMTTYPE=image/jpeg:https://aristaeusbrewing.com/wp-content/uploads/2025/08/2025-09-27-warrington-community-day.jpg
END:VEVENT
BEGIN:VEVENT
DTSTART;TZID=America/New_York:20250928T100000
DTEND;TZID=America/New_York:20250928T130000
DTSTAMP:20260425T190122
CREATED:20250703T141610Z
LAST-MODIFIED:20250703T141610Z
UID:10001529-1759053600-1759064400@aristaeusbrewing.com
SUMMARY:Horsham Farmers Market
DESCRIPTION:
URL:https://aristaeusbrewing.com/event/horsham-farmers-market-27/
LOCATION:Horsham Farmers Market\, 1025 Horsham Road\, Horsham\, PA\, United States
CATEGORIES:Off-Site Events
ATTACH;FMTTYPE=image/jpeg:https://aristaeusbrewing.com/wp-content/uploads/2024/05/aristaeus-at-horsham-farmers-market.jpg
END:VEVENT
BEGIN:VEVENT
DTSTART;TZID=America/New_York:20250928T110000
DTEND;TZID=America/New_York:20250928T130000
DTSTAMP:20260425T190122
CREATED:20250917T211241Z
LAST-MODIFIED:20250917T211241Z
UID:10001612-1759057200-1759064400@aristaeusbrewing.com
SUMMARY:Music Bingo with Righteous Jolly
DESCRIPTION:Sunday Music Bingo Brunch!  Join us for Sunday Brunch with Lunchboxxx AND Music Bingo with Righteous Jolly!  He will spin the songs\, you’ll mark them off on your bingo card\, and when you hit a row\, shout out BINGO! \nPrizes for each game! \n 
URL:https://aristaeusbrewing.com/event/music-bingo-with-righteous-jolly-8/
LOCATION:Aristaeus Craft Brewing Co.\, 2475C Big Oak Road\, Langhorne\, PA\, 19047\, United States
CATEGORIES:Events
ATTACH;FMTTYPE=image/png:https://aristaeusbrewing.com/wp-content/uploads/2025/09/2025-09-28-Music-Bingo-1920x1080-1.png
GEO:40.71839;-73.989891
X-APPLE-STRUCTURED-LOCATION;VALUE=URI;X-ADDRESS=Aristaeus Craft Brewing Co. 2475C Big Oak Road Langhorne PA 19047 United States;X-APPLE-RADIUS=500;X-TITLE=2475C Big Oak Road:geo:-73.989891,40.71839
END:VEVENT
BEGIN:VEVENT
DTSTART;TZID=America/New_York:20250928T130000
DTEND;TZID=America/New_York:20250928T180000
DTSTAMP:20260425T190122
CREATED:20250812T215912Z
LAST-MODIFIED:20250828T154245Z
UID:10001577-1759064400-1759082400@aristaeusbrewing.com
SUMMARY:Food Truck: Lunchboxxx
DESCRIPTION:
URL:https://aristaeusbrewing.com/event/food-truck-lunchboxxx-80/
LOCATION:Aristaeus Craft Brewing Co.\, 2475C Big Oak Road\, Langhorne\, PA\, 19047\, United States
CATEGORIES:Food Truck
ATTACH;FMTTYPE=image/jpeg:https://aristaeusbrewing.com/wp-content/uploads/2024/05/lunchboxxx-at-aristaeus-brewing-2.jpg
GEO:40.71839;-73.989891
X-APPLE-STRUCTURED-LOCATION;VALUE=URI;X-ADDRESS=Aristaeus Craft Brewing Co. 2475C Big Oak Road Langhorne PA 19047 United States;X-APPLE-RADIUS=500;X-TITLE=2475C Big Oak Road:geo:-73.989891,40.71839
END:VEVENT
BEGIN:VEVENT
DTSTART;TZID=America/New_York:20251001T190000
DTEND;TZID=America/New_York:20251001T210000
DTSTAMP:20260425T190122
CREATED:20250821T220557Z
LAST-MODIFIED:20250828T125628Z
UID:10001587-1759345200-1759352400@aristaeusbrewing.com
SUMMARY:Craft Night and Mobile Book Store Pop-Up
DESCRIPTION:📚 Beaded Bookmarks & Brews at Aristaeus Brewing 🍻 \nJoin us for a cozy and creative night hand-making your own adorable beaded bookmarks! You’ll design and string your beads\, personalize them with fun charms or letter beads\, and leave with a one-of-a-kind bookmark that’s as stylish as it is functional. \nAnd because books and bookmarks are a perfect pair—Wandering Chapters LLC will be on-site with their rolling shelves of curated reads for every taste. Browse new titles\, discover your next favorite book\, and purchase it to take home to use with your freshly made bookmark. \nEnjoy a craft beer (or two!) while you craft your bookmark\, mingle with fellow book lovers\, and shop local. It’s the ultimate mash-up of creativity\, community\, and good brews! \n📍 Location: Aristaeus Brewing – $45\n📅 Date: 10/1\n🕒 Time: 7pm\n🎟️ Tickets include: All materials for your bookmark + your first beer.
URL:https://aristaeusbrewing.com/event/craft-night-and-mobile-book-store-pop-up/
LOCATION:Aristaeus Craft Brewing Co.\, 2475C Big Oak Road\, Langhorne\, PA\, 19047\, United States
CATEGORIES:Events
ATTACH;FMTTYPE=image/jpeg:https://aristaeusbrewing.com/wp-content/uploads/2025/08/2025-10-01-craft-night.jpg
GEO:40.71839;-73.989891
X-APPLE-STRUCTURED-LOCATION;VALUE=URI;X-ADDRESS=Aristaeus Craft Brewing Co. 2475C Big Oak Road Langhorne PA 19047 United States;X-APPLE-RADIUS=500;X-TITLE=2475C Big Oak Road:geo:-73.989891,40.71839
END:VEVENT
BEGIN:VEVENT
DTSTART;TZID=America/New_York:20251002T163000
DTEND;TZID=America/New_York:20251002T210000
DTSTAMP:20260425T190122
CREATED:20250821T220904Z
LAST-MODIFIED:20250828T154237Z
UID:10001594-1759422600-1759438800@aristaeusbrewing.com
SUMMARY:Food Truck: Lunchboxxx
DESCRIPTION:
URL:https://aristaeusbrewing.com/event/food-truck-lunchboxxx-83/
LOCATION:Aristaeus Craft Brewing Co.\, 2475C Big Oak Road\, Langhorne\, PA\, 19047\, United States
CATEGORIES:Food Truck
ATTACH;FMTTYPE=image/jpeg:https://aristaeusbrewing.com/wp-content/uploads/2024/05/lunchboxxx-at-aristaeus-brewing-2.jpg
GEO:40.71839;-73.989891
X-APPLE-STRUCTURED-LOCATION;VALUE=URI;X-ADDRESS=Aristaeus Craft Brewing Co. 2475C Big Oak Road Langhorne PA 19047 United States;X-APPLE-RADIUS=500;X-TITLE=2475C Big Oak Road:geo:-73.989891,40.71839
END:VEVENT
BEGIN:VEVENT
DTSTART;TZID=America/New_York:20251002T190000
DTEND;TZID=America/New_York:20251002T210000
DTSTAMP:20260425T190122
CREATED:20250103T143700Z
LAST-MODIFIED:20251223T175030Z
UID:10001316-1759431600-1759438800@aristaeusbrewing.com
SUMMARY:Trivia Night
DESCRIPTION:Weekly trivia competition with Quizmaster Brian.
URL:https://aristaeusbrewing.com/event/trivia-night-10/2025-10-02/
LOCATION:Aristaeus Craft Brewing Co.\, 2475C Big Oak Road\, Langhorne\, PA\, 19047\, United States
CATEGORIES:Events
ATTACH;FMTTYPE=image/jpeg:https://aristaeusbrewing.com/wp-content/uploads/2025/01/aristaeus-creaft-brewing-co-trivia-night1.jpg
GEO:40.71839;-73.989891
X-APPLE-STRUCTURED-LOCATION;VALUE=URI;X-ADDRESS=Aristaeus Craft Brewing Co. 2475C Big Oak Road Langhorne PA 19047 United States;X-APPLE-RADIUS=500;X-TITLE=2475C Big Oak Road:geo:-73.989891,40.71839
END:VEVENT
BEGIN:VEVENT
DTSTART;TZID=America/New_York:20251003T170000
DTEND;TZID=America/New_York:20251003T210000
DTSTAMP:20260425T190122
CREATED:20250821T221001Z
LAST-MODIFIED:20250828T154229Z
UID:10001597-1759510800-1759525200@aristaeusbrewing.com
SUMMARY:Food Truck: Thai It Up
DESCRIPTION:
URL:https://aristaeusbrewing.com/event/food-truck-thai-it-up-63/
LOCATION:Aristaeus Craft Brewing Co.\, 2475C Big Oak Road\, Langhorne\, PA\, 19047\, United States
CATEGORIES:Food Truck
ATTACH;FMTTYPE=image/jpeg:https://aristaeusbrewing.com/wp-content/uploads/2022/06/thai-it-up-aristaeus-craft-brewing-co.jpg
GEO:40.71839;-73.989891
X-APPLE-STRUCTURED-LOCATION;VALUE=URI;X-ADDRESS=Aristaeus Craft Brewing Co. 2475C Big Oak Road Langhorne PA 19047 United States;X-APPLE-RADIUS=500;X-TITLE=2475C Big Oak Road:geo:-73.989891,40.71839
END:VEVENT
BEGIN:VEVENT
DTSTART;TZID=America/New_York:20251004T120000
DTEND;TZID=America/New_York:20251004T160000
DTSTAMP:20260425T190122
CREATED:20250821T221300Z
LAST-MODIFIED:20250821T221300Z
UID:10001602-1759579200-1759593600@aristaeusbrewing.com
SUMMARY:Parkland Fest
DESCRIPTION:Aristaeus will be pouring beers in the Beer Garden at the 9th Annual ParklandFest Community Day! \nEvent Details on Facebook
URL:https://aristaeusbrewing.com/event/parkland-fest-2/
LOCATION:Firefighters Park\, 712 Poplar St\, Langhorne\, 19047\, United States
CATEGORIES:Off-Site Events
ATTACH;FMTTYPE=image/jpeg:https://aristaeusbrewing.com/wp-content/uploads/2025/08/2025-parkland-fest.jpg
END:VEVENT
BEGIN:VEVENT
DTSTART;TZID=America/New_York:20251004T130000
DTEND;TZID=America/New_York:20251004T210000
DTSTAMP:20260425T190122
CREATED:20250821T221021Z
LAST-MODIFIED:20250828T154222Z
UID:10001599-1759582800-1759611600@aristaeusbrewing.com
SUMMARY:Food Truck: King Gyro
DESCRIPTION:
URL:https://aristaeusbrewing.com/event/food-truck-king-gyro-26/
LOCATION:Aristaeus Craft Brewing Co.\, 2475C Big Oak Road\, Langhorne\, PA\, 19047\, United States
CATEGORIES:Food Truck
ATTACH;FMTTYPE=image/jpeg:https://aristaeusbrewing.com/wp-content/uploads/2024/05/king-gyro-aristaeus-brewing.jpg
GEO:40.71839;-73.989891
X-APPLE-STRUCTURED-LOCATION;VALUE=URI;X-ADDRESS=Aristaeus Craft Brewing Co. 2475C Big Oak Road Langhorne PA 19047 United States;X-APPLE-RADIUS=500;X-TITLE=2475C Big Oak Road:geo:-73.989891,40.71839
END:VEVENT
BEGIN:VEVENT
DTSTART;TZID=America/New_York:20251005T100000
DTEND;TZID=America/New_York:20251005T130000
DTSTAMP:20260425T190122
CREATED:20250821T220711Z
LAST-MODIFIED:20250821T220711Z
UID:10001588-1759658400-1759669200@aristaeusbrewing.com
SUMMARY:Horsham Farmers Market
DESCRIPTION:
URL:https://aristaeusbrewing.com/event/horsham-farmers-market-28/
LOCATION:Horsham Farmers Market\, 1025 Horsham Road\, Horsham\, PA\, United States
CATEGORIES:Off-Site Events
ATTACH;FMTTYPE=image/jpeg:https://aristaeusbrewing.com/wp-content/uploads/2024/05/aristaeus-at-horsham-farmers-market.jpg
END:VEVENT
BEGIN:VEVENT
DTSTART;TZID=America/New_York:20251005T130000
DTEND;TZID=America/New_York:20251005T180000
DTSTAMP:20260425T190122
CREATED:20250928T213936Z
LAST-MODIFIED:20250928T213936Z
UID:10001615-1759669200-1759687200@aristaeusbrewing.com
SUMMARY:Food Truck: Jaelyns
DESCRIPTION:
URL:https://aristaeusbrewing.com/event/food-truck-jaelyns-4/
LOCATION:Aristaeus Craft Brewing Co.\, 2475C Big Oak Road\, Langhorne\, PA\, 19047\, United States
CATEGORIES:Food Truck
ATTACH;FMTTYPE=image/jpeg:https://aristaeusbrewing.com/wp-content/uploads/2025/08/jaelyns-at-aristaeus-craft-brewing.jpg
GEO:40.71839;-73.989891
X-APPLE-STRUCTURED-LOCATION;VALUE=URI;X-ADDRESS=Aristaeus Craft Brewing Co. 2475C Big Oak Road Langhorne PA 19047 United States;X-APPLE-RADIUS=500;X-TITLE=2475C Big Oak Road:geo:-73.989891,40.71839
END:VEVENT
BEGIN:VEVENT
DTSTART;TZID=America/New_York:20251009T160000
DTEND;TZID=America/New_York:20251009T210000
DTSTAMP:20260425T190122
CREATED:20250821T221406Z
LAST-MODIFIED:20250828T163331Z
UID:10001603-1760025600-1760043600@aristaeusbrewing.com
SUMMARY:Food Truck: Uncle Vin's
DESCRIPTION:
URL:https://aristaeusbrewing.com/event/food-truck-uncle-vins-12/
LOCATION:Aristaeus Craft Brewing Co.\, 2475C Big Oak Road\, Langhorne\, PA\, 19047\, United States
CATEGORIES:Food Truck
ATTACH;FMTTYPE=image/jpeg:https://aristaeusbrewing.com/wp-content/uploads/2025/07/food-truck-uncle-vins-at-aristaeus-brewing.jpg
GEO:40.71839;-73.989891
X-APPLE-STRUCTURED-LOCATION;VALUE=URI;X-ADDRESS=Aristaeus Craft Brewing Co. 2475C Big Oak Road Langhorne PA 19047 United States;X-APPLE-RADIUS=500;X-TITLE=2475C Big Oak Road:geo:-73.989891,40.71839
END:VEVENT
BEGIN:VEVENT
DTSTART;TZID=America/New_York:20251009T190000
DTEND;TZID=America/New_York:20251009T210000
DTSTAMP:20260425T190122
CREATED:20250103T143700Z
LAST-MODIFIED:20251223T175030Z
UID:10001317-1760036400-1760043600@aristaeusbrewing.com
SUMMARY:Trivia Night
DESCRIPTION:Weekly trivia competition with Quizmaster Brian.
URL:https://aristaeusbrewing.com/event/trivia-night-10/2025-10-09/
LOCATION:Aristaeus Craft Brewing Co.\, 2475C Big Oak Road\, Langhorne\, PA\, 19047\, United States
CATEGORIES:Events
ATTACH;FMTTYPE=image/jpeg:https://aristaeusbrewing.com/wp-content/uploads/2025/01/aristaeus-creaft-brewing-co-trivia-night1.jpg
GEO:40.71839;-73.989891
X-APPLE-STRUCTURED-LOCATION;VALUE=URI;X-ADDRESS=Aristaeus Craft Brewing Co. 2475C Big Oak Road Langhorne PA 19047 United States;X-APPLE-RADIUS=500;X-TITLE=2475C Big Oak Road:geo:-73.989891,40.71839
END:VEVENT
BEGIN:VEVENT
DTSTART;TZID=America/New_York:20251010T160000
DTEND;TZID=America/New_York:20251010T210000
DTSTAMP:20260425T190122
CREATED:20250821T221438Z
LAST-MODIFIED:20250828T154209Z
UID:10001604-1760112000-1760130000@aristaeusbrewing.com
SUMMARY:Food Truck: United Crepes of America
DESCRIPTION:
URL:https://aristaeusbrewing.com/event/food-truck-united-crepes-of-america-11/
LOCATION:Aristaeus Craft Brewing Co.\, 2475C Big Oak Road\, Langhorne\, PA\, 19047\, United States
CATEGORIES:Food Truck
ATTACH;FMTTYPE=image/jpeg:https://aristaeusbrewing.com/wp-content/uploads/2022/05/united-crepes-america-at-aristaeus-craft-brewing-co.jpg
GEO:40.71839;-73.989891
X-APPLE-STRUCTURED-LOCATION;VALUE=URI;X-ADDRESS=Aristaeus Craft Brewing Co. 2475C Big Oak Road Langhorne PA 19047 United States;X-APPLE-RADIUS=500;X-TITLE=2475C Big Oak Road:geo:-73.989891,40.71839
END:VEVENT
BEGIN:VEVENT
DTSTART;TZID=America/New_York:20251011T090000
DTEND;TZID=America/New_York:20251011T120000
DTSTAMP:20260425T190122
CREATED:20250821T220758Z
LAST-MODIFIED:20250821T220758Z
UID:10001595-1760173200-1760184000@aristaeusbrewing.com
SUMMARY:Wrightstown Farmers Market
DESCRIPTION:
URL:https://aristaeusbrewing.com/event/wrightstown-farmers-market-36/
LOCATION:Middletown Grange\, 576 Penns Park Road\, Newtown\, PA\, 18940\, United States
CATEGORIES:Off-Site Events
ATTACH;FMTTYPE=image/jpeg:https://aristaeusbrewing.com/wp-content/uploads/2024/05/aristaeus-at-wrightstown-farmers-market.jpg
END:VEVENT
END:VCALENDAR