BEGIN:VCALENDAR
VERSION:2.0
PRODID:-//Aristaeus Craft Brewing Co. - ECPv6.15.20//NONSGML v1.0//EN
CALSCALE:GREGORIAN
METHOD:PUBLISH
X-ORIGINAL-URL:https://aristaeusbrewing.com
X-WR-CALDESC:Events for Aristaeus Craft Brewing Co.
REFRESH-INTERVAL;VALUE=DURATION:PT1H
X-Robots-Tag:noindex
X-PUBLISHED-TTL:PT1H
BEGIN:VTIMEZONE
TZID:America/New_York
BEGIN:DAYLIGHT
TZOFFSETFROM:-0500
TZOFFSETTO:-0400
TZNAME:EDT
DTSTART:20240310T070000
END:DAYLIGHT
BEGIN:STANDARD
TZOFFSETFROM:-0400
TZOFFSETTO:-0500
TZNAME:EST
DTSTART:20241103T060000
END:STANDARD
BEGIN:DAYLIGHT
TZOFFSETFROM:-0500
TZOFFSETTO:-0400
TZNAME:EDT
DTSTART:20250309T070000
END:DAYLIGHT
BEGIN:STANDARD
TZOFFSETFROM:-0400
TZOFFSETTO:-0500
TZNAME:EST
DTSTART:20251102T060000
END:STANDARD
BEGIN:DAYLIGHT
TZOFFSETFROM:-0500
TZOFFSETTO:-0400
TZNAME:EDT
DTSTART:20260308T070000
END:DAYLIGHT
BEGIN:STANDARD
TZOFFSETFROM:-0400
TZOFFSETTO:-0500
TZNAME:EST
DTSTART:20261101T060000
END:STANDARD
END:VTIMEZONE
BEGIN:VEVENT
DTSTART;TZID=America/New_York:20250518T160000
DTEND;TZID=America/New_York:20250518T190000
DTSTAMP:20260425T111959
CREATED:20250505T181243Z
LAST-MODIFIED:20250505T181718Z
UID:10001468-1747584000-1747594800@aristaeusbrewing.com
SUMMARY:Interactive Cooking Class with Chef Brian
DESCRIPTION:GET TICKETS! \nJoin us for a fun culinary experience where you’ll not only learn to cook a gourmet meal but also savor your creation at the end of the class! Chef Brian will guide you step-by-step through the preparation of a delicious menu: \n\nSeared Steak\, red onion jam\, red wine reduction\nTruffle and brown butter mashed potatoes\nSauteed brussels sprouts\nRaspberry Sorbet\n\nSchedule: \n\n6–7 PM: Meet & Greet\n7–9 PM: Culinary Instruction & Dinner\n\nDetails: \n\nCost: $75/person\nLimited spots available: Pre-registration is required.\n\nDon’t miss this hands-on opportunity to sharpen your cooking skills and indulge in a restaurant-quality meal that you created!  Register here!
URL:https://aristaeusbrewing.com/event/interactive-cooking-class-with-chef-brian-2/
LOCATION:Aristaeus Craft Brewing Co.\, 2475C Big Oak Road\, Langhorne\, PA\, 19047\, United States
CATEGORIES:Events
ATTACH;FMTTYPE=image/jpeg:https://aristaeusbrewing.com/wp-content/uploads/2025/05/2025-05-Cooking-Class.jpg
GEO:40.71839;-73.989891
X-APPLE-STRUCTURED-LOCATION;VALUE=URI;X-ADDRESS=Aristaeus Craft Brewing Co. 2475C Big Oak Road Langhorne PA 19047 United States;X-APPLE-RADIUS=500;X-TITLE=2475C Big Oak Road:geo:-73.989891,40.71839
END:VEVENT
BEGIN:VEVENT
DTSTART;TZID=America/New_York:20250521T180000
DTEND;TZID=America/New_York:20250521T200000
DTSTAMP:20260425T111959
CREATED:20250416T193753Z
LAST-MODIFIED:20250416T193753Z
UID:10001434-1747850400-1747857600@aristaeusbrewing.com
SUMMARY:Crafts & Pints Candle-Making
DESCRIPTION:Join us at Aristaeus Craft Brewing Taproom for a fun and relaxing evening of candle-making\, tasty beer\, and good company. Whether you’re bringing friends or flying solo\, this event is all about unwinding and getting creative! \nTickets Available Now!\nCost: $39/per person plus Eventbrite fees\n \nThis event is 21+ only \nWhat’s Included: \n\nAll materials and guidance to make two soy candles per person (there is no one-candle option. Each ticket includes two candles per person.)\nA rotating variety of jar styles and scents (subject to availability)\nAccess to delicious craft beers available for purchase at the taproom\nHands-on guidance in a fun\, relaxed environment\n\nWhy You’ll Love It: \n\nChill brewery setting meets hands-on creativity\nPerfect for a night out with friends\, a date\, or a solo treat\nLeave with two beautifully crafted candles to keep or gift\n\nReserve Your Spot: Spaces are limited\, so don’t miss out on this fun\, spring-inspired evening of crafting and community! Get tickets today!
URL:https://aristaeusbrewing.com/event/crafts-pints-candle-making-2/
LOCATION:Aristaeus Craft Brewing Co.\, 2475C Big Oak Road\, Langhorne\, PA\, 19047\, United States
CATEGORIES:Events
ATTACH;FMTTYPE=image/jpeg:https://aristaeusbrewing.com/wp-content/uploads/2025/02/candle-workshop.jpg
GEO:40.71839;-73.989891
X-APPLE-STRUCTURED-LOCATION;VALUE=URI;X-ADDRESS=Aristaeus Craft Brewing Co. 2475C Big Oak Road Langhorne PA 19047 United States;X-APPLE-RADIUS=500;X-TITLE=2475C Big Oak Road:geo:-73.989891,40.71839
END:VEVENT
BEGIN:VEVENT
DTSTART;TZID=America/New_York:20250522T160000
DTEND;TZID=America/New_York:20250522T210000
DTSTAMP:20260425T111959
CREATED:20250307T165553Z
LAST-MODIFIED:20250307T165553Z
UID:10001419-1747929600-1747947600@aristaeusbrewing.com
SUMMARY:Food Truck: Joe's Crafted Cravings
DESCRIPTION:
URL:https://aristaeusbrewing.com/event/food-truck-joes-crafted-cravings-3/
LOCATION:Aristaeus Craft Brewing Co.\, 2475C Big Oak Road\, Langhorne\, PA\, 19047\, United States
CATEGORIES:Food Truck
ATTACH;FMTTYPE=image/jpeg:https://aristaeusbrewing.com/wp-content/uploads/2025/02/joes-crafted-cravings-aristaeus-craft-brewing-co.jpg
GEO:40.71839;-73.989891
X-APPLE-STRUCTURED-LOCATION;VALUE=URI;X-ADDRESS=Aristaeus Craft Brewing Co. 2475C Big Oak Road Langhorne PA 19047 United States;X-APPLE-RADIUS=500;X-TITLE=2475C Big Oak Road:geo:-73.989891,40.71839
END:VEVENT
BEGIN:VEVENT
DTSTART;TZID=America/New_York:20250522T190000
DTEND;TZID=America/New_York:20250522T210000
DTSTAMP:20260425T111959
CREATED:20250103T143700Z
LAST-MODIFIED:20251223T175030Z
UID:10001297-1747940400-1747947600@aristaeusbrewing.com
SUMMARY:Trivia Night
DESCRIPTION:Weekly trivia competition with Quizmaster Brian.
URL:https://aristaeusbrewing.com/event/trivia-night-10/2025-05-22/
LOCATION:Aristaeus Craft Brewing Co.\, 2475C Big Oak Road\, Langhorne\, PA\, 19047\, United States
CATEGORIES:Events
ATTACH;FMTTYPE=image/jpeg:https://aristaeusbrewing.com/wp-content/uploads/2025/01/aristaeus-creaft-brewing-co-trivia-night1.jpg
GEO:40.71839;-73.989891
X-APPLE-STRUCTURED-LOCATION;VALUE=URI;X-ADDRESS=Aristaeus Craft Brewing Co. 2475C Big Oak Road Langhorne PA 19047 United States;X-APPLE-RADIUS=500;X-TITLE=2475C Big Oak Road:geo:-73.989891,40.71839
END:VEVENT
BEGIN:VEVENT
DTSTART;TZID=America/New_York:20250523T160000
DTEND;TZID=America/New_York:20250523T210000
DTSTAMP:20260425T111959
CREATED:20250307T165347Z
LAST-MODIFIED:20250307T165347Z
UID:10001413-1748016000-1748034000@aristaeusbrewing.com
SUMMARY:Food Truck: Taco the Town Kitchen
DESCRIPTION:
URL:https://aristaeusbrewing.com/event/food-truck-taco-the-town-kitchen-49/
LOCATION:Aristaeus Craft Brewing Co.\, 2475C Big Oak Road\, Langhorne\, PA\, 19047\, United States
CATEGORIES:Food Truck
ATTACH;FMTTYPE=image/jpeg:https://aristaeusbrewing.com/wp-content/uploads/2024/05/taco-the-town-kitchen-at-aristaeus-1.jpg
GEO:40.71839;-73.989891
X-APPLE-STRUCTURED-LOCATION;VALUE=URI;X-ADDRESS=Aristaeus Craft Brewing Co. 2475C Big Oak Road Langhorne PA 19047 United States;X-APPLE-RADIUS=500;X-TITLE=2475C Big Oak Road:geo:-73.989891,40.71839
END:VEVENT
BEGIN:VEVENT
DTSTART;TZID=America/New_York:20250523T190000
DTEND;TZID=America/New_York:20250523T220000
DTSTAMP:20260425T111959
CREATED:20250515T192928Z
LAST-MODIFIED:20250515T192928Z
UID:10001475-1748026800-1748037600@aristaeusbrewing.com
SUMMARY:Music Bingo with Righteous Jolly
DESCRIPTION:Join us for Friday night Music Bingo—a night of tunes\, laughs\, and a little friendly competition!  Righteous Jolly will spin the songs\, you’ll mark them off on your bingo card\, and when you hit a row\, shout out BINGO! \nPrizes for each game\, and games include:– 80s\, 90s\, 2000s music.– One Hit Wonders– Tune That Name (names in songs)– Disney– Movie soundtracks and more!\n\nThis is a 21+ event.\n\nEvent details on Facebook
URL:https://aristaeusbrewing.com/event/music-bingo-with-righteous-jolly/
LOCATION:Aristaeus Craft Brewing Co.\, 2475C Big Oak Road\, Langhorne\, PA\, 19047\, United States
CATEGORIES:Events
ATTACH;FMTTYPE=image/png:https://aristaeusbrewing.com/wp-content/uploads/2025/05/2025-05-Music-Bingo-1920x1080-1.png
GEO:40.71839;-73.989891
X-APPLE-STRUCTURED-LOCATION;VALUE=URI;X-ADDRESS=Aristaeus Craft Brewing Co. 2475C Big Oak Road Langhorne PA 19047 United States;X-APPLE-RADIUS=500;X-TITLE=2475C Big Oak Road:geo:-73.989891,40.71839
END:VEVENT
BEGIN:VEVENT
DTSTART;TZID=America/New_York:20250524T090000
DTEND;TZID=America/New_York:20250524T120000
DTSTAMP:20260425T111959
CREATED:20250416T193037Z
LAST-MODIFIED:20250416T193037Z
UID:10001432-1748077200-1748088000@aristaeusbrewing.com
SUMMARY:Wrightstown Farmers Market
DESCRIPTION:
URL:https://aristaeusbrewing.com/event/wrightstown-farmers-market-26/
LOCATION:Middletown Grange\, 576 Penns Park Road\, Newtown\, PA\, 18940\, United States
CATEGORIES:Off-Site Events
ATTACH;FMTTYPE=image/jpeg:https://aristaeusbrewing.com/wp-content/uploads/2024/05/aristaeus-at-wrightstown-farmers-market.jpg
END:VEVENT
BEGIN:VEVENT
DTSTART;TZID=America/New_York:20250524T130000
DTEND;TZID=America/New_York:20250524T210000
DTSTAMP:20260425T111959
CREATED:20250307T165604Z
LAST-MODIFIED:20250307T165604Z
UID:10001420-1748091600-1748120400@aristaeusbrewing.com
SUMMARY:Food Truck: Smokin Earls
DESCRIPTION:
URL:https://aristaeusbrewing.com/event/food-truck-smokin-earls-2/
LOCATION:Aristaeus Craft Brewing Co.\, 2475C Big Oak Road\, Langhorne\, PA\, 19047\, United States
CATEGORIES:Food Truck
ATTACH;FMTTYPE=image/jpeg:https://aristaeusbrewing.com/wp-content/uploads/2025/02/smokin-earls-at-aristaeus-craft-brewing.jpg
GEO:40.71839;-73.989891
X-APPLE-STRUCTURED-LOCATION;VALUE=URI;X-ADDRESS=Aristaeus Craft Brewing Co. 2475C Big Oak Road Langhorne PA 19047 United States;X-APPLE-RADIUS=500;X-TITLE=2475C Big Oak Road:geo:-73.989891,40.71839
END:VEVENT
BEGIN:VEVENT
DTSTART;TZID=America/New_York:20250525T130000
DTEND;TZID=America/New_York:20250525T180000
DTSTAMP:20260425T111959
CREATED:20250523T135224Z
LAST-MODIFIED:20250523T135224Z
UID:10001476-1748178000-1748196000@aristaeusbrewing.com
SUMMARY:El Sabor del Bajio
DESCRIPTION:
URL:https://aristaeusbrewing.com/event/el-sabor-del-bajio-10/
LOCATION:Aristaeus Craft Brewing Co.\, 2475C Big Oak Road\, Langhorne\, PA\, 19047\, United States
CATEGORIES:Food Truck
ATTACH;FMTTYPE=image/jpeg:https://aristaeusbrewing.com/wp-content/uploads/2021/09/el-sabor-at-aristaeus-brewing-ec-1.jpg
GEO:40.71839;-73.989891
X-APPLE-STRUCTURED-LOCATION;VALUE=URI;X-ADDRESS=Aristaeus Craft Brewing Co. 2475C Big Oak Road Langhorne PA 19047 United States;X-APPLE-RADIUS=500;X-TITLE=2475C Big Oak Road:geo:-73.989891,40.71839
END:VEVENT
BEGIN:VEVENT
DTSTART;TZID=America/New_York:20250525T150000
DTEND;TZID=America/New_York:20250525T180000
DTSTAMP:20260425T111959
CREATED:20250430T184056Z
LAST-MODIFIED:20250430T184056Z
UID:10001438-1748185200-1748196000@aristaeusbrewing.com
SUMMARY:The O'Neill Brothers Dueling Piano Show: Piano Legends
DESCRIPTION:
URL:https://aristaeusbrewing.com/event/the-oneill-brothers-dueling-piano-show-piano-legends/
LOCATION:Aristaeus Craft Brewing Co.\, 2475C Big Oak Road\, Langhorne\, PA\, 19047\, United States
CATEGORIES:Music
ATTACH;FMTTYPE=image/jpeg:https://aristaeusbrewing.com/wp-content/uploads/2025/04/2025-05-25-Piano-Legends.jpg
GEO:40.71839;-73.989891
X-APPLE-STRUCTURED-LOCATION;VALUE=URI;X-ADDRESS=Aristaeus Craft Brewing Co. 2475C Big Oak Road Langhorne PA 19047 United States;X-APPLE-RADIUS=500;X-TITLE=2475C Big Oak Road:geo:-73.989891,40.71839
END:VEVENT
BEGIN:VEVENT
DTSTART;VALUE=DATE:20250528
DTEND;VALUE=DATE:20250529
DTSTAMP:20260425T111959
CREATED:20250430T184122Z
LAST-MODIFIED:20250430T184122Z
UID:10001439-1748390400-1748476799@aristaeusbrewing.com
SUMMARY:TAPROOM CLOSED FOR PRIVATE EVENT
DESCRIPTION:
URL:https://aristaeusbrewing.com/event/taproom-closed-for-private-event/
LOCATION:Aristaeus Craft Brewing Co.\, 2475C Big Oak Road\, Langhorne\, PA\, 19047\, United States
CATEGORIES:Events
GEO:40.71839;-73.989891
X-APPLE-STRUCTURED-LOCATION;VALUE=URI;X-ADDRESS=Aristaeus Craft Brewing Co. 2475C Big Oak Road Langhorne PA 19047 United States;X-APPLE-RADIUS=500;X-TITLE=2475C Big Oak Road:geo:-73.989891,40.71839
END:VEVENT
BEGIN:VEVENT
DTSTART;TZID=America/New_York:20250529T160000
DTEND;TZID=America/New_York:20250529T210000
DTSTAMP:20260425T111959
CREATED:20250307T165629Z
LAST-MODIFIED:20250307T165629Z
UID:10001422-1748534400-1748552400@aristaeusbrewing.com
SUMMARY:Food Truck: United Crepes of America
DESCRIPTION:
URL:https://aristaeusbrewing.com/event/food-truck-united-crepes-of-america-6/
LOCATION:Aristaeus Craft Brewing Co.\, 2475C Big Oak Road\, Langhorne\, PA\, 19047\, United States
CATEGORIES:Food Truck
ATTACH;FMTTYPE=image/jpeg:https://aristaeusbrewing.com/wp-content/uploads/2022/05/united-crepes-america-at-aristaeus-craft-brewing-co.jpg
GEO:40.71839;-73.989891
X-APPLE-STRUCTURED-LOCATION;VALUE=URI;X-ADDRESS=Aristaeus Craft Brewing Co. 2475C Big Oak Road Langhorne PA 19047 United States;X-APPLE-RADIUS=500;X-TITLE=2475C Big Oak Road:geo:-73.989891,40.71839
END:VEVENT
BEGIN:VEVENT
DTSTART;TZID=America/New_York:20250529T190000
DTEND;TZID=America/New_York:20250529T210000
DTSTAMP:20260425T111959
CREATED:20250103T143700Z
LAST-MODIFIED:20251223T175030Z
UID:10001298-1748545200-1748552400@aristaeusbrewing.com
SUMMARY:Trivia Night
DESCRIPTION:Weekly trivia competition with Quizmaster Brian.
URL:https://aristaeusbrewing.com/event/trivia-night-10/2025-05-29/
LOCATION:Aristaeus Craft Brewing Co.\, 2475C Big Oak Road\, Langhorne\, PA\, 19047\, United States
CATEGORIES:Events
ATTACH;FMTTYPE=image/jpeg:https://aristaeusbrewing.com/wp-content/uploads/2025/01/aristaeus-creaft-brewing-co-trivia-night1.jpg
GEO:40.71839;-73.989891
X-APPLE-STRUCTURED-LOCATION;VALUE=URI;X-ADDRESS=Aristaeus Craft Brewing Co. 2475C Big Oak Road Langhorne PA 19047 United States;X-APPLE-RADIUS=500;X-TITLE=2475C Big Oak Road:geo:-73.989891,40.71839
END:VEVENT
BEGIN:VEVENT
DTSTART;TZID=America/New_York:20250530T160000
DTEND;TZID=America/New_York:20250530T210000
DTSTAMP:20260425T111959
CREATED:20250430T184208Z
LAST-MODIFIED:20250430T184208Z
UID:10001440-1748620800-1748638800@aristaeusbrewing.com
SUMMARY:Food Truck: El Toro Serrano
DESCRIPTION:
URL:https://aristaeusbrewing.com/event/food-truck-el-toro-serrano-13/
LOCATION:Aristaeus Craft Brewing Co.\, 2475C Big Oak Road\, Langhorne\, PA\, 19047\, United States
CATEGORIES:Food Truck
ATTACH;FMTTYPE=image/jpeg:https://aristaeusbrewing.com/wp-content/uploads/2024/03/el-toro-serrano-at-aristaeus-brewing.jpg
GEO:40.71839;-73.989891
X-APPLE-STRUCTURED-LOCATION;VALUE=URI;X-ADDRESS=Aristaeus Craft Brewing Co. 2475C Big Oak Road Langhorne PA 19047 United States;X-APPLE-RADIUS=500;X-TITLE=2475C Big Oak Road:geo:-73.989891,40.71839
END:VEVENT
BEGIN:VEVENT
DTSTART;TZID=America/New_York:20250531T130000
DTEND;TZID=America/New_York:20250531T210000
DTSTAMP:20260425T111959
CREATED:20250307T165613Z
LAST-MODIFIED:20250515T190544Z
UID:10001421-1748696400-1748725200@aristaeusbrewing.com
SUMMARY:Food Truck: Pizza Startup
DESCRIPTION:
URL:https://aristaeusbrewing.com/event/food-truck-pizza_startup/
LOCATION:Aristaeus Craft Brewing Co.\, 2475C Big Oak Road\, Langhorne\, PA\, 19047\, United States
CATEGORIES:Food Truck
ATTACH;FMTTYPE=image/jpeg:https://aristaeusbrewing.com/wp-content/uploads/2025/03/pizzastartup_foodtruck.jpg
GEO:40.71839;-73.989891
X-APPLE-STRUCTURED-LOCATION;VALUE=URI;X-ADDRESS=Aristaeus Craft Brewing Co. 2475C Big Oak Road Langhorne PA 19047 United States;X-APPLE-RADIUS=500;X-TITLE=2475C Big Oak Road:geo:-73.989891,40.71839
END:VEVENT
BEGIN:VEVENT
DTSTART;TZID=America/New_York:20250601T130000
DTEND;TZID=America/New_York:20250601T180000
DTSTAMP:20260425T111959
CREATED:20250430T184948Z
LAST-MODIFIED:20250430T184948Z
UID:10001443-1748782800-1748800800@aristaeusbrewing.com
SUMMARY:Food Truck: Thai It Up
DESCRIPTION:
URL:https://aristaeusbrewing.com/event/food-truck-thai-it-up-59/
LOCATION:Aristaeus Craft Brewing Co.\, 2475C Big Oak Road\, Langhorne\, PA\, 19047\, United States
CATEGORIES:Food Truck
ATTACH;FMTTYPE=image/jpeg:https://aristaeusbrewing.com/wp-content/uploads/2022/06/thai-it-up-aristaeus-craft-brewing-co.jpg
GEO:40.71839;-73.989891
X-APPLE-STRUCTURED-LOCATION;VALUE=URI;X-ADDRESS=Aristaeus Craft Brewing Co. 2475C Big Oak Road Langhorne PA 19047 United States;X-APPLE-RADIUS=500;X-TITLE=2475C Big Oak Road:geo:-73.989891,40.71839
END:VEVENT
BEGIN:VEVENT
DTSTART;TZID=America/New_York:20250604T180000
DTEND;TZID=America/New_York:20250604T220000
DTSTAMP:20260425T111959
CREATED:20250430T184934Z
LAST-MODIFIED:20250430T184934Z
UID:10001444-1749060000-1749074400@aristaeusbrewing.com
SUMMARY:Board Game Night
DESCRIPTION:A night of drop-in-tables and fun social games! Bring your own games\, or play some of these: \n\nCards Against Humanity\nSettlers of Catan\nTelestrations\nSplendor\nPandemic\nMarch of the Ants\nTicket To Ride\nAnd More!
URL:https://aristaeusbrewing.com/event/board-game-night-5/
LOCATION:Aristaeus Craft Brewing Co.\, 2475C Big Oak Road\, Langhorne\, PA\, 19047\, United States
CATEGORIES:Events
ATTACH;FMTTYPE=image/jpeg:https://aristaeusbrewing.com/wp-content/uploads/2025/02/2025-03-Board-Game-Night-Event-Header.jpg
GEO:40.71839;-73.989891
X-APPLE-STRUCTURED-LOCATION;VALUE=URI;X-ADDRESS=Aristaeus Craft Brewing Co. 2475C Big Oak Road Langhorne PA 19047 United States;X-APPLE-RADIUS=500;X-TITLE=2475C Big Oak Road:geo:-73.989891,40.71839
END:VEVENT
BEGIN:VEVENT
DTSTART;TZID=America/New_York:20250604T190000
DTEND;TZID=America/New_York:20250604T210000
DTSTAMP:20260425T111959
CREATED:20250515T190330Z
LAST-MODIFIED:20250515T190330Z
UID:10001473-1749063600-1749070800@aristaeusbrewing.com
SUMMARY:Paint a Tote with Crafts and Drafts
DESCRIPTION:Add some flair to your everyday carry! Join us for a creative night of painting your own canvas tote bag with Crafts and Drafts. Choose from a variety of stencils\, colors\, and inspo to design a tote that’s as bold or laid-back as you like. \nPerfect for farmers markets\, book runs\, or just showing off your style. \nAll materials are included—no experience needed. Grab a craft beer\, relax\, and let your creativity flow! \n*1 beer included in ticket price* \nGet Tickets Here ($45)
URL:https://aristaeusbrewing.com/event/paint-a-tote-with-crafts-and-drafts/
LOCATION:Aristaeus Craft Brewing Co.\, 2475C Big Oak Road\, Langhorne\, PA\, 19047\, United States
CATEGORIES:Events
ATTACH;FMTTYPE=image/png:https://aristaeusbrewing.com/wp-content/uploads/2025/05/2025-06-04-tote-bag.png
GEO:40.71839;-73.989891
X-APPLE-STRUCTURED-LOCATION;VALUE=URI;X-ADDRESS=Aristaeus Craft Brewing Co. 2475C Big Oak Road Langhorne PA 19047 United States;X-APPLE-RADIUS=500;X-TITLE=2475C Big Oak Road:geo:-73.989891,40.71839
END:VEVENT
BEGIN:VEVENT
DTSTART;TZID=America/New_York:20250605T163000
DTEND;TZID=America/New_York:20250605T210000
DTSTAMP:20260425T111959
CREATED:20250430T184915Z
LAST-MODIFIED:20250430T184915Z
UID:10001446-1749141000-1749157200@aristaeusbrewing.com
SUMMARY:Food Truck: Lunchboxxx
DESCRIPTION:
URL:https://aristaeusbrewing.com/event/food-truck-lunchboxxx-72/
LOCATION:Aristaeus Craft Brewing Co.\, 2475C Big Oak Road\, Langhorne\, PA\, 19047\, United States
CATEGORIES:Food Truck
ATTACH;FMTTYPE=image/jpeg:https://aristaeusbrewing.com/wp-content/uploads/2024/05/lunchboxxx-at-aristaeus-brewing-2.jpg
GEO:40.71839;-73.989891
X-APPLE-STRUCTURED-LOCATION;VALUE=URI;X-ADDRESS=Aristaeus Craft Brewing Co. 2475C Big Oak Road Langhorne PA 19047 United States;X-APPLE-RADIUS=500;X-TITLE=2475C Big Oak Road:geo:-73.989891,40.71839
END:VEVENT
BEGIN:VEVENT
DTSTART;TZID=America/New_York:20250605T190000
DTEND;TZID=America/New_York:20250605T210000
DTSTAMP:20260425T111959
CREATED:20250103T143700Z
LAST-MODIFIED:20251223T175030Z
UID:10001299-1749150000-1749157200@aristaeusbrewing.com
SUMMARY:Trivia Night
DESCRIPTION:Weekly trivia competition with Quizmaster Brian.
URL:https://aristaeusbrewing.com/event/trivia-night-10/2025-06-05/
LOCATION:Aristaeus Craft Brewing Co.\, 2475C Big Oak Road\, Langhorne\, PA\, 19047\, United States
CATEGORIES:Events
ATTACH;FMTTYPE=image/jpeg:https://aristaeusbrewing.com/wp-content/uploads/2025/01/aristaeus-creaft-brewing-co-trivia-night1.jpg
GEO:40.71839;-73.989891
X-APPLE-STRUCTURED-LOCATION;VALUE=URI;X-ADDRESS=Aristaeus Craft Brewing Co. 2475C Big Oak Road Langhorne PA 19047 United States;X-APPLE-RADIUS=500;X-TITLE=2475C Big Oak Road:geo:-73.989891,40.71839
END:VEVENT
BEGIN:VEVENT
DTSTART;TZID=America/New_York:20250606T160000
DTEND;TZID=America/New_York:20250606T210000
DTSTAMP:20260425T111959
CREATED:20250430T184906Z
LAST-MODIFIED:20250430T184906Z
UID:10001447-1749225600-1749243600@aristaeusbrewing.com
SUMMARY:Food Truck: Burrito Feliz
DESCRIPTION:
URL:https://aristaeusbrewing.com/event/food-truck-burrito-feliz/
LOCATION:Aristaeus Craft Brewing Co.\, 2475C Big Oak Road\, Langhorne\, PA\, 19047\, United States
CATEGORIES:Food Truck
GEO:40.71839;-73.989891
X-APPLE-STRUCTURED-LOCATION;VALUE=URI;X-ADDRESS=Aristaeus Craft Brewing Co. 2475C Big Oak Road Langhorne PA 19047 United States;X-APPLE-RADIUS=500;X-TITLE=2475C Big Oak Road:geo:-73.989891,40.71839
END:VEVENT
BEGIN:VEVENT
DTSTART;TZID=America/New_York:20250606T173000
DTEND;TZID=America/New_York:20250606T203000
DTSTAMP:20260425T111959
CREATED:20250430T184832Z
LAST-MODIFIED:20250430T184832Z
UID:10001449-1749231000-1749241800@aristaeusbrewing.com
SUMMARY:Party in the Park
DESCRIPTION:Party in The Park events feature live music/entertainment\, lawn games\, foam/bubble parties (weather permitting)\, food trucks\, activities\, and more! \n 
URL:https://aristaeusbrewing.com/event/party-in-the-park-2/
LOCATION:Pennypack Community Center and Park\, 130 Spring Ave\, Hatboro\, PA\, 19040\, United States
CATEGORIES:Off-Site Events
ATTACH;FMTTYPE=image/jpeg:https://aristaeusbrewing.com/wp-content/uploads/2025/04/party-in-the-park.jpg
END:VEVENT
BEGIN:VEVENT
DTSTART;TZID=America/New_York:20250608T100000
DTEND;TZID=America/New_York:20250608T130000
DTSTAMP:20260425T111959
CREATED:20250430T184800Z
LAST-MODIFIED:20250430T184800Z
UID:10001450-1749376800-1749387600@aristaeusbrewing.com
SUMMARY:Horsham Farmers Market
DESCRIPTION:
URL:https://aristaeusbrewing.com/event/horsham-farmers-market-12/
LOCATION:Horsham Farmers Market\, 1025 Horsham Road\, Horsham\, PA\, United States
CATEGORIES:Off-Site Events
ATTACH;FMTTYPE=image/jpeg:https://aristaeusbrewing.com/wp-content/uploads/2024/05/aristaeus-at-horsham-farmers-market.jpg
END:VEVENT
BEGIN:VEVENT
DTSTART;TZID=America/New_York:20250608T130000
DTEND;TZID=America/New_York:20250608T180000
DTSTAMP:20260425T111959
CREATED:20250430T185306Z
LAST-MODIFIED:20250430T185306Z
UID:10001460-1749387600-1749405600@aristaeusbrewing.com
SUMMARY:Food Truck: United Crepes of America
DESCRIPTION:
URL:https://aristaeusbrewing.com/event/food-truck-united-crepes-of-america-7/
LOCATION:Aristaeus Craft Brewing Co.\, 2475C Big Oak Road\, Langhorne\, PA\, 19047\, United States
CATEGORIES:Food Truck
ATTACH;FMTTYPE=image/jpeg:https://aristaeusbrewing.com/wp-content/uploads/2022/05/united-crepes-america-at-aristaeus-craft-brewing-co.jpg
GEO:40.71839;-73.989891
X-APPLE-STRUCTURED-LOCATION;VALUE=URI;X-ADDRESS=Aristaeus Craft Brewing Co. 2475C Big Oak Road Langhorne PA 19047 United States;X-APPLE-RADIUS=500;X-TITLE=2475C Big Oak Road:geo:-73.989891,40.71839
END:VEVENT
BEGIN:VEVENT
DTSTART;TZID=America/New_York:20250608T150000
DTEND;TZID=America/New_York:20250608T180000
DTSTAMP:20260425T111959
CREATED:20250430T185129Z
LAST-MODIFIED:20250430T185129Z
UID:10001442-1749394800-1749405600@aristaeusbrewing.com
SUMMARY:The O'Neill Brothers Dueling Piano Show: Decades
DESCRIPTION:
URL:https://aristaeusbrewing.com/event/the-oneill-brothers-dueling-piano-show-decades/
LOCATION:Aristaeus Craft Brewing Co.\, 2475C Big Oak Road\, Langhorne\, PA\, 19047\, United States
CATEGORIES:Music
ATTACH;FMTTYPE=image/jpeg:https://aristaeusbrewing.com/wp-content/uploads/2025/04/2025-06-08-Decades.jpg
GEO:40.71839;-73.989891
X-APPLE-STRUCTURED-LOCATION;VALUE=URI;X-ADDRESS=Aristaeus Craft Brewing Co. 2475C Big Oak Road Langhorne PA 19047 United States;X-APPLE-RADIUS=500;X-TITLE=2475C Big Oak Road:geo:-73.989891,40.71839
END:VEVENT
BEGIN:VEVENT
DTSTART;TZID=America/New_York:20250611T180000
DTEND;TZID=America/New_York:20250611T210000
DTSTAMP:20260425T111959
CREATED:20250505T180837Z
LAST-MODIFIED:20250505T181914Z
UID:10001469-1749664800-1749675600@aristaeusbrewing.com
SUMMARY:Interactive Cooking Class with Chef Brian
DESCRIPTION:GET TICKETS \nJoin us for a fun culinary experience where you’ll not only learn to cook a gourmet meal but also savor your creation at the end of the class! Chef Brian will guide you step-by-step through the preparation of a delicious menu: \n\nSeared Sea Scallops with Lemon Herb Beurre Blanc\nMixed Green Salad\, Seasonal Oranges\, Shaved Fennel\, Toasted Pine Nuts\, Lemon Agave Vinaigrette\nApple Crisp\n\nSchedule: \n\n6–7 PM: Meet & Greet\n7–9 PM: Culinary Instruction & Dinner\n\nDetails: \n\nCost: $75/person\nLimited spots available: Pre-registration is required.\n\nDon’t miss this hands-on opportunity to sharpen your cooking skills and indulge in a restaurant-quality meal that you created!  Register here!
URL:https://aristaeusbrewing.com/event/interactive-cooking-class-with-chef-brian/
LOCATION:Aristaeus Craft Brewing Co.\, 2475C Big Oak Road\, Langhorne\, PA\, 19047\, United States
CATEGORIES:Events
ATTACH;FMTTYPE=image/jpeg:https://aristaeusbrewing.com/wp-content/uploads/2025/05/2025-06-Cooking-Class.jpg
GEO:40.71839;-73.989891
X-APPLE-STRUCTURED-LOCATION;VALUE=URI;X-ADDRESS=Aristaeus Craft Brewing Co. 2475C Big Oak Road Langhorne PA 19047 United States;X-APPLE-RADIUS=500;X-TITLE=2475C Big Oak Road:geo:-73.989891,40.71839
END:VEVENT
BEGIN:VEVENT
DTSTART;TZID=America/New_York:20250612T160000
DTEND;TZID=America/New_York:20250612T210000
DTSTAMP:20260425T111959
CREATED:20250430T184747Z
LAST-MODIFIED:20250430T184747Z
UID:10001451-1749744000-1749762000@aristaeusbrewing.com
SUMMARY:Food Truck: Uncle Vin's
DESCRIPTION:
URL:https://aristaeusbrewing.com/event/food-truck-uncle-vins-8/
LOCATION:Aristaeus Craft Brewing Co.\, 2475C Big Oak Road\, Langhorne\, PA\, 19047\, United States
CATEGORIES:Food Truck
GEO:40.71839;-73.989891
X-APPLE-STRUCTURED-LOCATION;VALUE=URI;X-ADDRESS=Aristaeus Craft Brewing Co. 2475C Big Oak Road Langhorne PA 19047 United States;X-APPLE-RADIUS=500;X-TITLE=2475C Big Oak Road:geo:-73.989891,40.71839
END:VEVENT
BEGIN:VEVENT
DTSTART;TZID=America/New_York:20250612T190000
DTEND;TZID=America/New_York:20250612T210000
DTSTAMP:20260425T111959
CREATED:20250103T143700Z
LAST-MODIFIED:20251223T175030Z
UID:10001300-1749754800-1749762000@aristaeusbrewing.com
SUMMARY:Trivia Night
DESCRIPTION:Weekly trivia competition with Quizmaster Brian.
URL:https://aristaeusbrewing.com/event/trivia-night-10/2025-06-12/
LOCATION:Aristaeus Craft Brewing Co.\, 2475C Big Oak Road\, Langhorne\, PA\, 19047\, United States
CATEGORIES:Events
ATTACH;FMTTYPE=image/jpeg:https://aristaeusbrewing.com/wp-content/uploads/2025/01/aristaeus-creaft-brewing-co-trivia-night1.jpg
GEO:40.71839;-73.989891
X-APPLE-STRUCTURED-LOCATION;VALUE=URI;X-ADDRESS=Aristaeus Craft Brewing Co. 2475C Big Oak Road Langhorne PA 19047 United States;X-APPLE-RADIUS=500;X-TITLE=2475C Big Oak Road:geo:-73.989891,40.71839
END:VEVENT
BEGIN:VEVENT
DTSTART;TZID=America/New_York:20250613T160000
DTEND;TZID=America/New_York:20250613T210000
DTSTAMP:20260425T111959
CREATED:20250430T184723Z
LAST-MODIFIED:20250430T184723Z
UID:10001454-1749830400-1749848400@aristaeusbrewing.com
SUMMARY:Food Truck: Taco the Town Kitchen
DESCRIPTION:
URL:https://aristaeusbrewing.com/event/food-truck-taco-the-town-kitchen-50/
LOCATION:Aristaeus Craft Brewing Co.\, 2475C Big Oak Road\, Langhorne\, PA\, 19047\, United States
CATEGORIES:Food Truck
ATTACH;FMTTYPE=image/jpeg:https://aristaeusbrewing.com/wp-content/uploads/2024/05/taco-the-town-kitchen-at-aristaeus-1.jpg
GEO:40.71839;-73.989891
X-APPLE-STRUCTURED-LOCATION;VALUE=URI;X-ADDRESS=Aristaeus Craft Brewing Co. 2475C Big Oak Road Langhorne PA 19047 United States;X-APPLE-RADIUS=500;X-TITLE=2475C Big Oak Road:geo:-73.989891,40.71839
END:VEVENT
BEGIN:VEVENT
DTSTART;TZID=America/New_York:20250614T090000
DTEND;TZID=America/New_York:20250614T120000
DTSTAMP:20260425T111959
CREATED:20250430T184640Z
LAST-MODIFIED:20250430T184640Z
UID:10001458-1749891600-1749902400@aristaeusbrewing.com
SUMMARY:Wrightstown Farmers Market
DESCRIPTION:
URL:https://aristaeusbrewing.com/event/wrightstown-farmers-market-27/
LOCATION:Middletown Grange\, 576 Penns Park Road\, Newtown\, PA\, 18940\, United States
CATEGORIES:Off-Site Events
ATTACH;FMTTYPE=image/jpeg:https://aristaeusbrewing.com/wp-content/uploads/2024/05/aristaeus-at-wrightstown-farmers-market.jpg
END:VEVENT
END:VCALENDAR