BEGIN:VCALENDAR
VERSION:2.0
PRODID:-//Aristaeus Craft Brewing Co. - ECPv6.15.20//NONSGML v1.0//EN
CALSCALE:GREGORIAN
METHOD:PUBLISH
X-ORIGINAL-URL:https://aristaeusbrewing.com
X-WR-CALDESC:Events for Aristaeus Craft Brewing Co.
REFRESH-INTERVAL;VALUE=DURATION:PT1H
X-Robots-Tag:noindex
X-PUBLISHED-TTL:PT1H
BEGIN:VTIMEZONE
TZID:America/New_York
BEGIN:DAYLIGHT
TZOFFSETFROM:-0500
TZOFFSETTO:-0400
TZNAME:EDT
DTSTART:20250309T070000
END:DAYLIGHT
BEGIN:STANDARD
TZOFFSETFROM:-0400
TZOFFSETTO:-0500
TZNAME:EST
DTSTART:20251102T060000
END:STANDARD
BEGIN:DAYLIGHT
TZOFFSETFROM:-0500
TZOFFSETTO:-0400
TZNAME:EDT
DTSTART:20260308T070000
END:DAYLIGHT
BEGIN:STANDARD
TZOFFSETFROM:-0400
TZOFFSETTO:-0500
TZNAME:EST
DTSTART:20261101T060000
END:STANDARD
BEGIN:DAYLIGHT
TZOFFSETFROM:-0500
TZOFFSETTO:-0400
TZNAME:EDT
DTSTART:20270314T070000
END:DAYLIGHT
BEGIN:STANDARD
TZOFFSETFROM:-0400
TZOFFSETTO:-0500
TZNAME:EST
DTSTART:20271107T060000
END:STANDARD
END:VTIMEZONE
BEGIN:VEVENT
DTSTART;TZID=America/New_York:20260517T100000
DTEND;TZID=America/New_York:20260517T130000
DTSTAMP:20260425T002443
CREATED:20260408T222730Z
LAST-MODIFIED:20260408T222730Z
UID:10001825-1779012000-1779022800@aristaeusbrewing.com
SUMMARY:Horsham Farmers Market
DESCRIPTION:
URL:https://aristaeusbrewing.com/event/horsham-farmers-market-32/
LOCATION:Horsham Farmers Market\, 1025 Horsham Road\, Horsham\, PA\, United States
CATEGORIES:Off-Site Events
ATTACH;FMTTYPE=image/jpeg:https://aristaeusbrewing.com/wp-content/uploads/2024/05/aristaeus-at-horsham-farmers-market.jpg
END:VEVENT
BEGIN:VEVENT
DTSTART;TZID=America/New_York:20260517T150000
DTEND;TZID=America/New_York:20260517T180000
DTSTAMP:20260425T002443
CREATED:20260408T223003Z
LAST-MODIFIED:20260408T223003Z
UID:10001814-1779030000-1779040800@aristaeusbrewing.com
SUMMARY:Live Music: Danny O'Neill
DESCRIPTION:Danny O’Neill is a high school music teacher at Neshaminy High School by day and a singing pianist by night. On top of performing at local bars/restaurants\, weddings\, and private events\, he has traveled the world by performing on cruise ships. \n21+ Show. \n 
URL:https://aristaeusbrewing.com/event/live-music-danny-oneill-2/
LOCATION:Aristaeus Craft Brewing Co.\, 2475C Big Oak Road\, Langhorne\, PA\, 19047\, United States
CATEGORIES:Events,Music
ATTACH;FMTTYPE=image/jpeg:https://aristaeusbrewing.com/wp-content/uploads/2025/10/2025-11-danny-oneill.jpg
GEO:40.71839;-73.989891
X-APPLE-STRUCTURED-LOCATION;VALUE=URI;X-ADDRESS=Aristaeus Craft Brewing Co. 2475C Big Oak Road Langhorne PA 19047 United States;X-APPLE-RADIUS=500;X-TITLE=2475C Big Oak Road:geo:-73.989891,40.71839
END:VEVENT
BEGIN:VEVENT
DTSTART;TZID=America/New_York:20260520T183000
DTEND;TZID=America/New_York:20260520T203000
DTSTAMP:20260425T002443
CREATED:20260408T225811Z
LAST-MODIFIED:20260408T225914Z
UID:10001832-1779301800-1779309000@aristaeusbrewing.com
SUMMARY:Paint & Sip Workshop\, with Penelope Fox Art Studio
DESCRIPTION:Paint & Sip Workshop\, with Penelope Fox Art Studio. Limited spots available – click here to register! \nPaint & Sip and Workshop\, with Penelope Fox Art Studio\, is designed for those seeking a fun and relaxed atmosphere to explore their artistic talents without the pressure of a long-term commitment. It’s the perfect opportunity to indulge in the joy of creating art while enjoying the company of friends or making new ones. This indoor class is held in the taproom of the award-winning Aristaeus Brewing Co.\, an open-concept nano-brewery in Langhorne. Various types of refreshments are available for purchase. No outside refreshments\, please. Snacks are available or BYOF. Delivery is acceptable.
URL:https://aristaeusbrewing.com/event/paint-sip-workshop-with-penelope-fox-art-studio-3/
LOCATION:Aristaeus Craft Brewing Co.\, 2475C Big Oak Road\, Langhorne\, PA\, 19047\, United States
CATEGORIES:Events
ATTACH;FMTTYPE=image/png:https://aristaeusbrewing.com/wp-content/uploads/2026/04/2026-05-paint-sip-sign.png
GEO:40.71839;-73.989891
X-APPLE-STRUCTURED-LOCATION;VALUE=URI;X-ADDRESS=Aristaeus Craft Brewing Co. 2475C Big Oak Road Langhorne PA 19047 United States;X-APPLE-RADIUS=500;X-TITLE=2475C Big Oak Road:geo:-73.989891,40.71839
END:VEVENT
BEGIN:VEVENT
DTSTART;TZID=America/New_York:20260521T160000
DTEND;TZID=America/New_York:20260521T210000
DTSTAMP:20260425T002443
CREATED:20260421T123531Z
LAST-MODIFIED:20260421T123531Z
UID:10001839-1779379200-1779397200@aristaeusbrewing.com
SUMMARY:Food Truck: King Gyro
DESCRIPTION:
URL:https://aristaeusbrewing.com/event/food-truck-king-gyro-34/
LOCATION:Aristaeus Craft Brewing Co.\, 2475C Big Oak Road\, Langhorne\, PA\, 19047\, United States
CATEGORIES:Food Truck
ATTACH;FMTTYPE=image/jpeg:https://aristaeusbrewing.com/wp-content/uploads/2024/05/king-gyro-aristaeus-brewing.jpg
GEO:40.71839;-73.989891
X-APPLE-STRUCTURED-LOCATION;VALUE=URI;X-ADDRESS=Aristaeus Craft Brewing Co. 2475C Big Oak Road Langhorne PA 19047 United States;X-APPLE-RADIUS=500;X-TITLE=2475C Big Oak Road:geo:-73.989891,40.71839
END:VEVENT
BEGIN:VEVENT
DTSTART;TZID=America/New_York:20260521T190000
DTEND;TZID=America/New_York:20260521T210000
DTSTAMP:20260425T002443
CREATED:20250103T143700Z
LAST-MODIFIED:20251223T175030Z
UID:10001705-1779390000-1779397200@aristaeusbrewing.com
SUMMARY:Trivia Night
DESCRIPTION:Weekly trivia competition with Quizmaster Brian.
URL:https://aristaeusbrewing.com/event/trivia-night-10/2026-05-21/
LOCATION:Aristaeus Craft Brewing Co.\, 2475C Big Oak Road\, Langhorne\, PA\, 19047\, United States
CATEGORIES:Events
ATTACH;FMTTYPE=image/jpeg:https://aristaeusbrewing.com/wp-content/uploads/2025/01/aristaeus-creaft-brewing-co-trivia-night1.jpg
GEO:40.71839;-73.989891
X-APPLE-STRUCTURED-LOCATION;VALUE=URI;X-ADDRESS=Aristaeus Craft Brewing Co. 2475C Big Oak Road Langhorne PA 19047 United States;X-APPLE-RADIUS=500;X-TITLE=2475C Big Oak Road:geo:-73.989891,40.71839
END:VEVENT
BEGIN:VEVENT
DTSTART;TZID=America/New_York:20260522T160000
DTEND;TZID=America/New_York:20260522T210000
DTSTAMP:20260425T002443
CREATED:20260408T222855Z
LAST-MODIFIED:20260408T222855Z
UID:10001819-1779465600-1779483600@aristaeusbrewing.com
SUMMARY:Food Truck: Bristol Smoke House
DESCRIPTION:
URL:https://aristaeusbrewing.com/event/food-truck-bristol-smoke-house-2/
LOCATION:Aristaeus Craft Brewing Co.\, 2475C Big Oak Road\, Langhorne\, PA\, 19047\, United States
CATEGORIES:Food Truck
ATTACH;FMTTYPE=image/jpeg:https://aristaeusbrewing.com/wp-content/uploads/2026/03/bristol-smoke-house-at-aristaeus-brewing.jpg
GEO:40.71839;-73.989891
X-APPLE-STRUCTURED-LOCATION;VALUE=URI;X-ADDRESS=Aristaeus Craft Brewing Co. 2475C Big Oak Road Langhorne PA 19047 United States;X-APPLE-RADIUS=500;X-TITLE=2475C Big Oak Road:geo:-73.989891,40.71839
END:VEVENT
BEGIN:VEVENT
DTSTART;TZID=America/New_York:20260523T130000
DTEND;TZID=America/New_York:20260523T200000
DTSTAMP:20260425T002443
CREATED:20260421T123707Z
LAST-MODIFIED:20260421T123707Z
UID:10001840-1779541200-1779566400@aristaeusbrewing.com
SUMMARY:Barrio Street Eats
DESCRIPTION:
URL:https://aristaeusbrewing.com/event/barrio-street-eats-6/
LOCATION:Aristaeus Craft Brewing Co.\, 2475C Big Oak Road\, Langhorne\, PA\, 19047\, United States
CATEGORIES:Food Truck
ATTACH;FMTTYPE=image/jpeg:https://aristaeusbrewing.com/wp-content/uploads/2026/04/barrio-street-eats-at-aristaeus-brewing.jpg
GEO:40.71839;-73.989891
X-APPLE-STRUCTURED-LOCATION;VALUE=URI;X-ADDRESS=Aristaeus Craft Brewing Co. 2475C Big Oak Road Langhorne PA 19047 United States;X-APPLE-RADIUS=500;X-TITLE=2475C Big Oak Road:geo:-73.989891,40.71839
END:VEVENT
BEGIN:VEVENT
DTSTART;TZID=America/New_York:20260523T190000
DTEND;TZID=America/New_York:20260523T220000
DTSTAMP:20260425T002443
CREATED:20260423T194439Z
LAST-MODIFIED:20260423T194439Z
UID:10001843-1779562800-1779573600@aristaeusbrewing.com
SUMMARY:Live Music: Love You To - A Tribute to the Beatles
DESCRIPTION:The LYT Trio comes to Aristaeus Brewing! Join the boys for an evening of acoustic/electric fan favorites of the Fab Four! \n21+ Show. \nEvent Details on Facebook \n 
URL:https://aristaeusbrewing.com/event/live-music-love-you-to-a-tribute-to-the-beatles/
LOCATION:Aristaeus Craft Brewing Co.\, 2475C Big Oak Road\, Langhorne\, PA\, 19047\, United States
CATEGORIES:Events,Music
ATTACH;FMTTYPE=image/jpeg:https://aristaeusbrewing.com/wp-content/uploads/2026/04/2026-05-23-beatles.jpg
GEO:40.71839;-73.989891
X-APPLE-STRUCTURED-LOCATION;VALUE=URI;X-ADDRESS=Aristaeus Craft Brewing Co. 2475C Big Oak Road Langhorne PA 19047 United States;X-APPLE-RADIUS=500;X-TITLE=2475C Big Oak Road:geo:-73.989891,40.71839
END:VEVENT
BEGIN:VEVENT
DTSTART;TZID=America/New_York:20260524T110000
DTEND;TZID=America/New_York:20260524T130000
DTSTAMP:20260425T002443
CREATED:20260423T192831Z
LAST-MODIFIED:20260423T193329Z
UID:10001842-1779620400-1779627600@aristaeusbrewing.com
SUMMARY:Family Music Bingo with Righteous Jolly
DESCRIPTION:Family Music Bingo!  Join us for a Family-Friendly Sunday Brunch with Colón Family Kitchen AND Music Bingo with Righteous Jolly!  He will spin the songs\, you’ll mark them off on your bingo card\, and when you hit a row\, shout out BINGO! \nPrizes for each game! \nAll ages welcome. \nEvent details on Facebook.
URL:https://aristaeusbrewing.com/event/family-music-bingo-with-righteous-jolly/
LOCATION:Aristaeus Craft Brewing Co.\, 2475C Big Oak Road\, Langhorne\, PA\, 19047\, United States
CATEGORIES:Events
ATTACH;FMTTYPE=image/jpeg:https://aristaeusbrewing.com/wp-content/uploads/2026/04/2026-05-24-family-bingo.jpg
GEO:40.71839;-73.989891
X-APPLE-STRUCTURED-LOCATION;VALUE=URI;X-ADDRESS=Aristaeus Craft Brewing Co. 2475C Big Oak Road Langhorne PA 19047 United States;X-APPLE-RADIUS=500;X-TITLE=2475C Big Oak Road:geo:-73.989891,40.71839
END:VEVENT
BEGIN:VEVENT
DTSTART;TZID=America/New_York:20260524T110000
DTEND;TZID=America/New_York:20260524T170000
DTSTAMP:20260425T002443
CREATED:20260408T222838Z
LAST-MODIFIED:20260408T222838Z
UID:10001820-1779620400-1779642000@aristaeusbrewing.com
SUMMARY:Food Truck: Colón Family Kitchen
DESCRIPTION:
URL:https://aristaeusbrewing.com/event/food-truck-colon-family-kitchen-7/
LOCATION:Aristaeus Craft Brewing Co.\, 2475C Big Oak Road\, Langhorne\, PA\, 19047\, United States
CATEGORIES:Food Truck
ATTACH;FMTTYPE=image/jpeg:https://aristaeusbrewing.com/wp-content/uploads/2026/01/colon-family-kitchen-at-aristaeus.jpg
GEO:40.71839;-73.989891
X-APPLE-STRUCTURED-LOCATION;VALUE=URI;X-ADDRESS=Aristaeus Craft Brewing Co. 2475C Big Oak Road Langhorne PA 19047 United States;X-APPLE-RADIUS=500;X-TITLE=2475C Big Oak Road:geo:-73.989891,40.71839
END:VEVENT
BEGIN:VEVENT
DTSTART;TZID=America/New_York:20260527T183000
DTEND;TZID=America/New_York:20260527T213000
DTSTAMP:20260425T002443
CREATED:20260408T224303Z
LAST-MODIFIED:20260408T224303Z
UID:10001831-1779906600-1779917400@aristaeusbrewing.com
SUMMARY:Dungeons & Dragons Night
DESCRIPTION:⚠️ 18+ Only — Under 21? Bring a 21+ Adult With You! \nWelcome\, adventurers — your next great quest begins here! \nJoin Drink20 for a new Dungeons & Dragons night at Aristaeus Brewing! Whether you’re a curious newbie or a seasoned dungeon crawler\, this event is for anyone who wants to roll some dice\, sip some beer\, and go on an adventure. \n🧙‍♂️ What to know? \n\nFREE to attend\, just show up and play!\nTables running 5e adventures\nOptions for 2014 and 2024 rules\n\n📝 Need a character? \n\nWe’ve got pre-mades for you!\nWant to bring your own? Wonderful! Just be ready to adjust the level if needed. We recommend sticking to official 5e content\, but talk to your DM if you’re feeling adventurous.\n\n🎲 We supply everything else! \n\nDice\nMinis\nPencils\nRulebooks\n\nPlayers are welcome to bring their own supplies. Inspiration for awesome dice! (Kidding… or are we?) \n🚨 Important Stuff: \n\nThis is an 18+ event. Anyone under 21 must be accompanied by an adult 21+ at all times.\nPrior experience is not necessary!\n\n💬 Got questions? Email: info@drink20.com \n🍺 Come grab a beer\, slay some goblins\, and make new friends at Langhorne’s newest D&D hangout. See you in the taproom! \nAll attendees must follow the Drink20 Code of Conduct: https://drink20.com/CoC/
URL:https://aristaeusbrewing.com/event/dungeons-dragons-night-3/
LOCATION:Aristaeus Craft Brewing Co.\, 2475C Big Oak Road\, Langhorne\, PA\, 19047\, United States
CATEGORIES:Events
ATTACH;FMTTYPE=image/jpeg:https://aristaeusbrewing.com/wp-content/uploads/2026/03/2026-03-25-dnd.jpg
GEO:40.71839;-73.989891
X-APPLE-STRUCTURED-LOCATION;VALUE=URI;X-ADDRESS=Aristaeus Craft Brewing Co. 2475C Big Oak Road Langhorne PA 19047 United States;X-APPLE-RADIUS=500;X-TITLE=2475C Big Oak Road:geo:-73.989891,40.71839
END:VEVENT
BEGIN:VEVENT
DTSTART;TZID=America/New_York:20260528T160000
DTEND;TZID=America/New_York:20260528T210000
DTSTAMP:20260425T002443
CREATED:20260421T123506Z
LAST-MODIFIED:20260421T123506Z
UID:10001837-1779984000-1780002000@aristaeusbrewing.com
SUMMARY:Barrio Street Eats
DESCRIPTION:
URL:https://aristaeusbrewing.com/event/barrio-street-eats-4/
LOCATION:Aristaeus Craft Brewing Co.\, 2475C Big Oak Road\, Langhorne\, PA\, 19047\, United States
CATEGORIES:Food Truck
ATTACH;FMTTYPE=image/jpeg:https://aristaeusbrewing.com/wp-content/uploads/2026/04/barrio-street-eats-at-aristaeus-brewing.jpg
GEO:40.71839;-73.989891
X-APPLE-STRUCTURED-LOCATION;VALUE=URI;X-ADDRESS=Aristaeus Craft Brewing Co. 2475C Big Oak Road Langhorne PA 19047 United States;X-APPLE-RADIUS=500;X-TITLE=2475C Big Oak Road:geo:-73.989891,40.71839
END:VEVENT
BEGIN:VEVENT
DTSTART;TZID=America/New_York:20260528T190000
DTEND;TZID=America/New_York:20260528T210000
DTSTAMP:20260425T002443
CREATED:20250103T143700Z
LAST-MODIFIED:20251223T175030Z
UID:10001706-1779994800-1780002000@aristaeusbrewing.com
SUMMARY:Trivia Night
DESCRIPTION:Weekly trivia competition with Quizmaster Brian.
URL:https://aristaeusbrewing.com/event/trivia-night-10/2026-05-28/
LOCATION:Aristaeus Craft Brewing Co.\, 2475C Big Oak Road\, Langhorne\, PA\, 19047\, United States
CATEGORIES:Events
ATTACH;FMTTYPE=image/jpeg:https://aristaeusbrewing.com/wp-content/uploads/2025/01/aristaeus-creaft-brewing-co-trivia-night1.jpg
GEO:40.71839;-73.989891
X-APPLE-STRUCTURED-LOCATION;VALUE=URI;X-ADDRESS=Aristaeus Craft Brewing Co. 2475C Big Oak Road Langhorne PA 19047 United States;X-APPLE-RADIUS=500;X-TITLE=2475C Big Oak Road:geo:-73.989891,40.71839
END:VEVENT
BEGIN:VEVENT
DTSTART;TZID=America/New_York:20260529T170000
DTEND;TZID=America/New_York:20260529T210000
DTSTAMP:20260425T002443
CREATED:20260408T222953Z
LAST-MODIFIED:20260408T222953Z
UID:10001815-1780074000-1780088400@aristaeusbrewing.com
SUMMARY:Food Truck: Thai It Up
DESCRIPTION:
URL:https://aristaeusbrewing.com/event/food-truck-thai-it-up-78/
LOCATION:Aristaeus Craft Brewing Co.\, 2475C Big Oak Road\, Langhorne\, PA\, 19047\, United States
CATEGORIES:Food Truck
ATTACH;FMTTYPE=image/jpeg:https://aristaeusbrewing.com/wp-content/uploads/2022/06/thai-it-up-aristaeus-craft-brewing-co.jpg
GEO:40.71839;-73.989891
X-APPLE-STRUCTURED-LOCATION;VALUE=URI;X-ADDRESS=Aristaeus Craft Brewing Co. 2475C Big Oak Road Langhorne PA 19047 United States;X-APPLE-RADIUS=500;X-TITLE=2475C Big Oak Road:geo:-73.989891,40.71839
END:VEVENT
BEGIN:VEVENT
DTSTART;TZID=America/New_York:20260530T110000
DTEND;TZID=America/New_York:20260530T160000
DTSTAMP:20260425T002443
CREATED:20260408T224022Z
LAST-MODIFIED:20260408T224052Z
UID:10001830-1780138800-1780156800@aristaeusbrewing.com
SUMMARY:Aristaeus at Conwell Egan Food Truck Festival
DESCRIPTION:Event Details on Facebook
URL:https://aristaeusbrewing.com/event/aristaeus-at-conwell-egan-food-truck-festival-3/
LOCATION:Conwell Egan Catholic High School\, 611 Wistar Rd\, Fairless Hills\, PA\, 19030
CATEGORIES:Off-Site Events
ATTACH;FMTTYPE=image/jpeg:https://aristaeusbrewing.com/wp-content/uploads/2026/04/cec-food-truck.jpg
END:VEVENT
BEGIN:VEVENT
DTSTART;TZID=America/New_York:20260530T130000
DTEND;TZID=America/New_York:20260530T200000
DTSTAMP:20260425T002443
CREATED:20260408T223754Z
LAST-MODIFIED:20260408T223754Z
UID:10001829-1780146000-1780171200@aristaeusbrewing.com
SUMMARY:Food Truck: Colón Family Kitchen
DESCRIPTION:
URL:https://aristaeusbrewing.com/event/food-truck-colon-family-kitchen-8/
LOCATION:Aristaeus Craft Brewing Co.\, 2475C Big Oak Road\, Langhorne\, PA\, 19047\, United States
CATEGORIES:Food Truck
ATTACH;FMTTYPE=image/jpeg:https://aristaeusbrewing.com/wp-content/uploads/2026/01/colon-family-kitchen-at-aristaeus.jpg
GEO:40.71839;-73.989891
X-APPLE-STRUCTURED-LOCATION;VALUE=URI;X-ADDRESS=Aristaeus Craft Brewing Co. 2475C Big Oak Road Langhorne PA 19047 United States;X-APPLE-RADIUS=500;X-TITLE=2475C Big Oak Road:geo:-73.989891,40.71839
END:VEVENT
BEGIN:VEVENT
DTSTART;TZID=America/New_York:20260531T130000
DTEND;TZID=America/New_York:20260531T180000
DTSTAMP:20260425T002443
CREATED:20260421T123523Z
LAST-MODIFIED:20260421T123523Z
UID:10001838-1780232400-1780250400@aristaeusbrewing.com
SUMMARY:Barrio Street Eats
DESCRIPTION:
URL:https://aristaeusbrewing.com/event/barrio-street-eats-5/
LOCATION:Aristaeus Craft Brewing Co.\, 2475C Big Oak Road\, Langhorne\, PA\, 19047\, United States
CATEGORIES:Food Truck
ATTACH;FMTTYPE=image/jpeg:https://aristaeusbrewing.com/wp-content/uploads/2026/04/barrio-street-eats-at-aristaeus-brewing.jpg
GEO:40.71839;-73.989891
X-APPLE-STRUCTURED-LOCATION;VALUE=URI;X-ADDRESS=Aristaeus Craft Brewing Co. 2475C Big Oak Road Langhorne PA 19047 United States;X-APPLE-RADIUS=500;X-TITLE=2475C Big Oak Road:geo:-73.989891,40.71839
END:VEVENT
BEGIN:VEVENT
DTSTART;TZID=America/New_York:20260604T190000
DTEND;TZID=America/New_York:20260604T210000
DTSTAMP:20260425T002443
CREATED:20250103T143700Z
LAST-MODIFIED:20251223T175030Z
UID:10001707-1780599600-1780606800@aristaeusbrewing.com
SUMMARY:Trivia Night
DESCRIPTION:Weekly trivia competition with Quizmaster Brian.
URL:https://aristaeusbrewing.com/event/trivia-night-10/2026-06-04/
LOCATION:Aristaeus Craft Brewing Co.\, 2475C Big Oak Road\, Langhorne\, PA\, 19047\, United States
CATEGORIES:Events
ATTACH;FMTTYPE=image/jpeg:https://aristaeusbrewing.com/wp-content/uploads/2025/01/aristaeus-creaft-brewing-co-trivia-night1.jpg
GEO:40.71839;-73.989891
X-APPLE-STRUCTURED-LOCATION;VALUE=URI;X-ADDRESS=Aristaeus Craft Brewing Co. 2475C Big Oak Road Langhorne PA 19047 United States;X-APPLE-RADIUS=500;X-TITLE=2475C Big Oak Road:geo:-73.989891,40.71839
END:VEVENT
BEGIN:VEVENT
DTSTART;TZID=America/New_York:20260611T190000
DTEND;TZID=America/New_York:20260611T210000
DTSTAMP:20260425T002443
CREATED:20250103T143700Z
LAST-MODIFIED:20251223T175030Z
UID:10001708-1781204400-1781211600@aristaeusbrewing.com
SUMMARY:Trivia Night
DESCRIPTION:Weekly trivia competition with Quizmaster Brian.
URL:https://aristaeusbrewing.com/event/trivia-night-10/2026-06-11/
LOCATION:Aristaeus Craft Brewing Co.\, 2475C Big Oak Road\, Langhorne\, PA\, 19047\, United States
CATEGORIES:Events
ATTACH;FMTTYPE=image/jpeg:https://aristaeusbrewing.com/wp-content/uploads/2025/01/aristaeus-creaft-brewing-co-trivia-night1.jpg
GEO:40.71839;-73.989891
X-APPLE-STRUCTURED-LOCATION;VALUE=URI;X-ADDRESS=Aristaeus Craft Brewing Co. 2475C Big Oak Road Langhorne PA 19047 United States;X-APPLE-RADIUS=500;X-TITLE=2475C Big Oak Road:geo:-73.989891,40.71839
END:VEVENT
BEGIN:VEVENT
DTSTART;TZID=America/New_York:20260618T190000
DTEND;TZID=America/New_York:20260618T210000
DTSTAMP:20260425T002443
CREATED:20250103T143700Z
LAST-MODIFIED:20251223T175030Z
UID:10001709-1781809200-1781816400@aristaeusbrewing.com
SUMMARY:Trivia Night
DESCRIPTION:Weekly trivia competition with Quizmaster Brian.
URL:https://aristaeusbrewing.com/event/trivia-night-10/2026-06-18/
LOCATION:Aristaeus Craft Brewing Co.\, 2475C Big Oak Road\, Langhorne\, PA\, 19047\, United States
CATEGORIES:Events
ATTACH;FMTTYPE=image/jpeg:https://aristaeusbrewing.com/wp-content/uploads/2025/01/aristaeus-creaft-brewing-co-trivia-night1.jpg
GEO:40.71839;-73.989891
X-APPLE-STRUCTURED-LOCATION;VALUE=URI;X-ADDRESS=Aristaeus Craft Brewing Co. 2475C Big Oak Road Langhorne PA 19047 United States;X-APPLE-RADIUS=500;X-TITLE=2475C Big Oak Road:geo:-73.989891,40.71839
END:VEVENT
BEGIN:VEVENT
DTSTART;TZID=America/New_York:20260625T190000
DTEND;TZID=America/New_York:20260625T210000
DTSTAMP:20260425T002443
CREATED:20250103T143700Z
LAST-MODIFIED:20251223T175030Z
UID:10001710-1782414000-1782421200@aristaeusbrewing.com
SUMMARY:Trivia Night
DESCRIPTION:Weekly trivia competition with Quizmaster Brian.
URL:https://aristaeusbrewing.com/event/trivia-night-10/2026-06-25/
LOCATION:Aristaeus Craft Brewing Co.\, 2475C Big Oak Road\, Langhorne\, PA\, 19047\, United States
CATEGORIES:Events
ATTACH;FMTTYPE=image/jpeg:https://aristaeusbrewing.com/wp-content/uploads/2025/01/aristaeus-creaft-brewing-co-trivia-night1.jpg
GEO:40.71839;-73.989891
X-APPLE-STRUCTURED-LOCATION;VALUE=URI;X-ADDRESS=Aristaeus Craft Brewing Co. 2475C Big Oak Road Langhorne PA 19047 United States;X-APPLE-RADIUS=500;X-TITLE=2475C Big Oak Road:geo:-73.989891,40.71839
END:VEVENT
BEGIN:VEVENT
DTSTART;TZID=America/New_York:20260702T190000
DTEND;TZID=America/New_York:20260702T210000
DTSTAMP:20260425T002443
CREATED:20250103T143700Z
LAST-MODIFIED:20251223T175030Z
UID:10001711-1783018800-1783026000@aristaeusbrewing.com
SUMMARY:Trivia Night
DESCRIPTION:Weekly trivia competition with Quizmaster Brian.
URL:https://aristaeusbrewing.com/event/trivia-night-10/2026-07-02/
LOCATION:Aristaeus Craft Brewing Co.\, 2475C Big Oak Road\, Langhorne\, PA\, 19047\, United States
CATEGORIES:Events
ATTACH;FMTTYPE=image/jpeg:https://aristaeusbrewing.com/wp-content/uploads/2025/01/aristaeus-creaft-brewing-co-trivia-night1.jpg
GEO:40.71839;-73.989891
X-APPLE-STRUCTURED-LOCATION;VALUE=URI;X-ADDRESS=Aristaeus Craft Brewing Co. 2475C Big Oak Road Langhorne PA 19047 United States;X-APPLE-RADIUS=500;X-TITLE=2475C Big Oak Road:geo:-73.989891,40.71839
END:VEVENT
BEGIN:VEVENT
DTSTART;TZID=America/New_York:20260709T190000
DTEND;TZID=America/New_York:20260709T210000
DTSTAMP:20260425T002443
CREATED:20250103T143700Z
LAST-MODIFIED:20251223T175030Z
UID:10001712-1783623600-1783630800@aristaeusbrewing.com
SUMMARY:Trivia Night
DESCRIPTION:Weekly trivia competition with Quizmaster Brian.
URL:https://aristaeusbrewing.com/event/trivia-night-10/2026-07-09/
LOCATION:Aristaeus Craft Brewing Co.\, 2475C Big Oak Road\, Langhorne\, PA\, 19047\, United States
CATEGORIES:Events
ATTACH;FMTTYPE=image/jpeg:https://aristaeusbrewing.com/wp-content/uploads/2025/01/aristaeus-creaft-brewing-co-trivia-night1.jpg
GEO:40.71839;-73.989891
X-APPLE-STRUCTURED-LOCATION;VALUE=URI;X-ADDRESS=Aristaeus Craft Brewing Co. 2475C Big Oak Road Langhorne PA 19047 United States;X-APPLE-RADIUS=500;X-TITLE=2475C Big Oak Road:geo:-73.989891,40.71839
END:VEVENT
BEGIN:VEVENT
DTSTART;TZID=America/New_York:20260716T190000
DTEND;TZID=America/New_York:20260716T210000
DTSTAMP:20260425T002443
CREATED:20250103T143700Z
LAST-MODIFIED:20251223T175030Z
UID:10001713-1784228400-1784235600@aristaeusbrewing.com
SUMMARY:Trivia Night
DESCRIPTION:Weekly trivia competition with Quizmaster Brian.
URL:https://aristaeusbrewing.com/event/trivia-night-10/2026-07-16/
LOCATION:Aristaeus Craft Brewing Co.\, 2475C Big Oak Road\, Langhorne\, PA\, 19047\, United States
CATEGORIES:Events
ATTACH;FMTTYPE=image/jpeg:https://aristaeusbrewing.com/wp-content/uploads/2025/01/aristaeus-creaft-brewing-co-trivia-night1.jpg
GEO:40.71839;-73.989891
X-APPLE-STRUCTURED-LOCATION;VALUE=URI;X-ADDRESS=Aristaeus Craft Brewing Co. 2475C Big Oak Road Langhorne PA 19047 United States;X-APPLE-RADIUS=500;X-TITLE=2475C Big Oak Road:geo:-73.989891,40.71839
END:VEVENT
BEGIN:VEVENT
DTSTART;TZID=America/New_York:20260723T190000
DTEND;TZID=America/New_York:20260723T210000
DTSTAMP:20260425T002443
CREATED:20250103T143700Z
LAST-MODIFIED:20251223T175030Z
UID:10001714-1784833200-1784840400@aristaeusbrewing.com
SUMMARY:Trivia Night
DESCRIPTION:Weekly trivia competition with Quizmaster Brian.
URL:https://aristaeusbrewing.com/event/trivia-night-10/2026-07-23/
LOCATION:Aristaeus Craft Brewing Co.\, 2475C Big Oak Road\, Langhorne\, PA\, 19047\, United States
CATEGORIES:Events
ATTACH;FMTTYPE=image/jpeg:https://aristaeusbrewing.com/wp-content/uploads/2025/01/aristaeus-creaft-brewing-co-trivia-night1.jpg
GEO:40.71839;-73.989891
X-APPLE-STRUCTURED-LOCATION;VALUE=URI;X-ADDRESS=Aristaeus Craft Brewing Co. 2475C Big Oak Road Langhorne PA 19047 United States;X-APPLE-RADIUS=500;X-TITLE=2475C Big Oak Road:geo:-73.989891,40.71839
END:VEVENT
BEGIN:VEVENT
DTSTART;TZID=America/New_York:20260730T190000
DTEND;TZID=America/New_York:20260730T210000
DTSTAMP:20260425T002443
CREATED:20250103T143700Z
LAST-MODIFIED:20251223T175030Z
UID:10001715-1785438000-1785445200@aristaeusbrewing.com
SUMMARY:Trivia Night
DESCRIPTION:Weekly trivia competition with Quizmaster Brian.
URL:https://aristaeusbrewing.com/event/trivia-night-10/2026-07-30/
LOCATION:Aristaeus Craft Brewing Co.\, 2475C Big Oak Road\, Langhorne\, PA\, 19047\, United States
CATEGORIES:Events
ATTACH;FMTTYPE=image/jpeg:https://aristaeusbrewing.com/wp-content/uploads/2025/01/aristaeus-creaft-brewing-co-trivia-night1.jpg
GEO:40.71839;-73.989891
X-APPLE-STRUCTURED-LOCATION;VALUE=URI;X-ADDRESS=Aristaeus Craft Brewing Co. 2475C Big Oak Road Langhorne PA 19047 United States;X-APPLE-RADIUS=500;X-TITLE=2475C Big Oak Road:geo:-73.989891,40.71839
END:VEVENT
BEGIN:VEVENT
DTSTART;TZID=America/New_York:20260806T190000
DTEND;TZID=America/New_York:20260806T210000
DTSTAMP:20260425T002443
CREATED:20250103T143700Z
LAST-MODIFIED:20251223T175030Z
UID:10001716-1786042800-1786050000@aristaeusbrewing.com
SUMMARY:Trivia Night
DESCRIPTION:Weekly trivia competition with Quizmaster Brian.
URL:https://aristaeusbrewing.com/event/trivia-night-10/2026-08-06/
LOCATION:Aristaeus Craft Brewing Co.\, 2475C Big Oak Road\, Langhorne\, PA\, 19047\, United States
CATEGORIES:Events
ATTACH;FMTTYPE=image/jpeg:https://aristaeusbrewing.com/wp-content/uploads/2025/01/aristaeus-creaft-brewing-co-trivia-night1.jpg
GEO:40.71839;-73.989891
X-APPLE-STRUCTURED-LOCATION;VALUE=URI;X-ADDRESS=Aristaeus Craft Brewing Co. 2475C Big Oak Road Langhorne PA 19047 United States;X-APPLE-RADIUS=500;X-TITLE=2475C Big Oak Road:geo:-73.989891,40.71839
END:VEVENT
BEGIN:VEVENT
DTSTART;TZID=America/New_York:20260813T190000
DTEND;TZID=America/New_York:20260813T210000
DTSTAMP:20260425T002443
CREATED:20250103T143700Z
LAST-MODIFIED:20251223T175030Z
UID:10001717-1786647600-1786654800@aristaeusbrewing.com
SUMMARY:Trivia Night
DESCRIPTION:Weekly trivia competition with Quizmaster Brian.
URL:https://aristaeusbrewing.com/event/trivia-night-10/2026-08-13/
LOCATION:Aristaeus Craft Brewing Co.\, 2475C Big Oak Road\, Langhorne\, PA\, 19047\, United States
CATEGORIES:Events
ATTACH;FMTTYPE=image/jpeg:https://aristaeusbrewing.com/wp-content/uploads/2025/01/aristaeus-creaft-brewing-co-trivia-night1.jpg
GEO:40.71839;-73.989891
X-APPLE-STRUCTURED-LOCATION;VALUE=URI;X-ADDRESS=Aristaeus Craft Brewing Co. 2475C Big Oak Road Langhorne PA 19047 United States;X-APPLE-RADIUS=500;X-TITLE=2475C Big Oak Road:geo:-73.989891,40.71839
END:VEVENT
BEGIN:VEVENT
DTSTART;TZID=America/New_York:20260820T190000
DTEND;TZID=America/New_York:20260820T210000
DTSTAMP:20260425T002443
CREATED:20250103T143700Z
LAST-MODIFIED:20251223T175030Z
UID:10001718-1787252400-1787259600@aristaeusbrewing.com
SUMMARY:Trivia Night
DESCRIPTION:Weekly trivia competition with Quizmaster Brian.
URL:https://aristaeusbrewing.com/event/trivia-night-10/2026-08-20/
LOCATION:Aristaeus Craft Brewing Co.\, 2475C Big Oak Road\, Langhorne\, PA\, 19047\, United States
CATEGORIES:Events
ATTACH;FMTTYPE=image/jpeg:https://aristaeusbrewing.com/wp-content/uploads/2025/01/aristaeus-creaft-brewing-co-trivia-night1.jpg
GEO:40.71839;-73.989891
X-APPLE-STRUCTURED-LOCATION;VALUE=URI;X-ADDRESS=Aristaeus Craft Brewing Co. 2475C Big Oak Road Langhorne PA 19047 United States;X-APPLE-RADIUS=500;X-TITLE=2475C Big Oak Road:geo:-73.989891,40.71839
END:VEVENT
BEGIN:VEVENT
DTSTART;TZID=America/New_York:20260827T190000
DTEND;TZID=America/New_York:20260827T210000
DTSTAMP:20260425T002443
CREATED:20250103T143700Z
LAST-MODIFIED:20251223T175030Z
UID:10001719-1787857200-1787864400@aristaeusbrewing.com
SUMMARY:Trivia Night
DESCRIPTION:Weekly trivia competition with Quizmaster Brian.
URL:https://aristaeusbrewing.com/event/trivia-night-10/2026-08-27/
LOCATION:Aristaeus Craft Brewing Co.\, 2475C Big Oak Road\, Langhorne\, PA\, 19047\, United States
CATEGORIES:Events
ATTACH;FMTTYPE=image/jpeg:https://aristaeusbrewing.com/wp-content/uploads/2025/01/aristaeus-creaft-brewing-co-trivia-night1.jpg
GEO:40.71839;-73.989891
X-APPLE-STRUCTURED-LOCATION;VALUE=URI;X-ADDRESS=Aristaeus Craft Brewing Co. 2475C Big Oak Road Langhorne PA 19047 United States;X-APPLE-RADIUS=500;X-TITLE=2475C Big Oak Road:geo:-73.989891,40.71839
END:VEVENT
END:VCALENDAR