BEGIN:VCALENDAR
VERSION:2.0
PRODID:-//Aristaeus Craft Brewing Co. - ECPv6.15.20//NONSGML v1.0//EN
CALSCALE:GREGORIAN
METHOD:PUBLISH
X-WR-CALNAME:Aristaeus Craft Brewing Co.
X-ORIGINAL-URL:https://aristaeusbrewing.com
X-WR-CALDESC:Events for Aristaeus Craft Brewing Co.
REFRESH-INTERVAL;VALUE=DURATION:PT1H
X-Robots-Tag:noindex
X-PUBLISHED-TTL:PT1H
BEGIN:VTIMEZONE
TZID:America/New_York
BEGIN:DAYLIGHT
TZOFFSETFROM:-0500
TZOFFSETTO:-0400
TZNAME:EDT
DTSTART:20210314T070000
END:DAYLIGHT
BEGIN:STANDARD
TZOFFSETFROM:-0400
TZOFFSETTO:-0500
TZNAME:EST
DTSTART:20211107T060000
END:STANDARD
BEGIN:DAYLIGHT
TZOFFSETFROM:-0500
TZOFFSETTO:-0400
TZNAME:EDT
DTSTART:20220313T070000
END:DAYLIGHT
BEGIN:STANDARD
TZOFFSETFROM:-0400
TZOFFSETTO:-0500
TZNAME:EST
DTSTART:20221106T060000
END:STANDARD
BEGIN:DAYLIGHT
TZOFFSETFROM:-0500
TZOFFSETTO:-0400
TZNAME:EDT
DTSTART:20230312T070000
END:DAYLIGHT
BEGIN:STANDARD
TZOFFSETFROM:-0400
TZOFFSETTO:-0500
TZNAME:EST
DTSTART:20231105T060000
END:STANDARD
END:VTIMEZONE
BEGIN:VEVENT
DTSTART;TZID=America/New_York:20220603T190000
DTEND;TZID=America/New_York:20220603T220000
DTSTAMP:20260423T103448
CREATED:20220301T194016Z
LAST-MODIFIED:20220301T194016Z
UID:10000100-1654282800-1654293600@aristaeusbrewing.com
SUMMARY:Music: Skylar Love
DESCRIPTION:
URL:https://aristaeusbrewing.com/event/music-skylar-love-2/
LOCATION:Aristaeus Craft Brewing Co.\, 2475C Big Oak Road\, Langhorne\, PA\, 19047\, United States
CATEGORIES:Music
ATTACH;FMTTYPE=image/jpeg:https://aristaeusbrewing.com/wp-content/uploads/2022/02/skylar-love-at-aristaeus-brewing.jpg
GEO:40.71839;-73.989891
X-APPLE-STRUCTURED-LOCATION;VALUE=URI;X-ADDRESS=Aristaeus Craft Brewing Co. 2475C Big Oak Road Langhorne PA 19047 United States;X-APPLE-RADIUS=500;X-TITLE=2475C Big Oak Road:geo:-73.989891,40.71839
END:VEVENT
BEGIN:VEVENT
DTSTART;TZID=America/New_York:20220603T160000
DTEND;TZID=America/New_York:20220603T210000
DTSTAMP:20260423T103448
CREATED:20220311T171028Z
LAST-MODIFIED:20220311T171028Z
UID:10000265-1654272000-1654290000@aristaeusbrewing.com
SUMMARY:Food Truck: Lobster Dogs
DESCRIPTION:
URL:https://aristaeusbrewing.com/event/food-truck-lobster-dogs-3/
LOCATION:Aristaeus Craft Brewing Co.\, 2475C Big Oak Road\, Langhorne\, PA\, 19047\, United States
CATEGORIES:Food Truck
ATTACH;FMTTYPE=image/jpeg:https://aristaeusbrewing.com/wp-content/uploads/2021/10/lobster-dog-at-aristaeus-brewing-ec-rev.jpg
GEO:40.71839;-73.989891
X-APPLE-STRUCTURED-LOCATION;VALUE=URI;X-ADDRESS=Aristaeus Craft Brewing Co. 2475C Big Oak Road Langhorne PA 19047 United States;X-APPLE-RADIUS=500;X-TITLE=2475C Big Oak Road:geo:-73.989891,40.71839
END:VEVENT
BEGIN:VEVENT
DTSTART;TZID=America/New_York:20220602T160000
DTEND;TZID=America/New_York:20220602T210000
DTSTAMP:20260423T103448
CREATED:20220311T170927Z
LAST-MODIFIED:20220531T172156Z
UID:10000264-1654185600-1654203600@aristaeusbrewing.com
SUMMARY:Food Truck: The Vegan Table
DESCRIPTION:
URL:https://aristaeusbrewing.com/event/food-truck-the-vegan-table1/
LOCATION:Aristaeus Craft Brewing Co.\, 2475C Big Oak Road\, Langhorne\, PA\, 19047\, United States
CATEGORIES:Food Truck
ATTACH;FMTTYPE=image/jpeg:https://aristaeusbrewing.com/wp-content/uploads/2022/04/the-vegan-table-at-aristaeus-brewing.jpg
GEO:40.71839;-73.989891
X-APPLE-STRUCTURED-LOCATION;VALUE=URI;X-ADDRESS=Aristaeus Craft Brewing Co. 2475C Big Oak Road Langhorne PA 19047 United States;X-APPLE-RADIUS=500;X-TITLE=2475C Big Oak Road:geo:-73.989891,40.71839
END:VEVENT
BEGIN:VEVENT
DTSTART;TZID=America/New_York:20220529T140000
DTEND;TZID=America/New_York:20220529T170000
DTSTAMP:20260423T103448
CREATED:20220301T195333Z
LAST-MODIFIED:20220518T003919Z
UID:10000231-1653832800-1653843600@aristaeusbrewing.com
SUMMARY:Music: Faye Meyer
DESCRIPTION:
URL:https://aristaeusbrewing.com/event/music-faye-meyer-4/
LOCATION:Aristaeus Craft Brewing Co.\, 2475C Big Oak Road\, Langhorne\, PA\, 19047\, United States
CATEGORIES:Music
ATTACH;FMTTYPE=image/jpeg:https://aristaeusbrewing.com/wp-content/uploads/2022/02/faye-meyer-at-aristaeus-brewing.jpg
GEO:40.71839;-73.989891
X-APPLE-STRUCTURED-LOCATION;VALUE=URI;X-ADDRESS=Aristaeus Craft Brewing Co. 2475C Big Oak Road Langhorne PA 19047 United States;X-APPLE-RADIUS=500;X-TITLE=2475C Big Oak Road:geo:-73.989891,40.71839
END:VEVENT
BEGIN:VEVENT
DTSTART;TZID=America/New_York:20220529T120000
DTEND;TZID=America/New_York:20220529T170000
DTSTAMP:20260423T103448
CREATED:20220311T170242Z
LAST-MODIFIED:20220311T170242Z
UID:10000251-1653825600-1653843600@aristaeusbrewing.com
SUMMARY:Food Truck: Maui Lu Hawaiian BBQ
DESCRIPTION:
URL:https://aristaeusbrewing.com/event/food-truck-maui-lu-hawaiian-bbq-7/
LOCATION:Aristaeus Craft Brewing Co.\, 2475C Big Oak Road\, Langhorne\, PA\, 19047\, United States
CATEGORIES:Food Truck
ATTACH;FMTTYPE=image/jpeg:https://aristaeusbrewing.com/wp-content/uploads/2021/09/maui-lu-at-aristaeus-brewing.jpg
GEO:40.71839;-73.989891
X-APPLE-STRUCTURED-LOCATION;VALUE=URI;X-ADDRESS=Aristaeus Craft Brewing Co. 2475C Big Oak Road Langhorne PA 19047 United States;X-APPLE-RADIUS=500;X-TITLE=2475C Big Oak Road:geo:-73.989891,40.71839
END:VEVENT
BEGIN:VEVENT
DTSTART;TZID=America/New_York:20220528T150000
DTEND;TZID=America/New_York:20220528T180000
DTSTAMP:20260423T103448
CREATED:20220301T193821Z
LAST-MODIFIED:20220301T193821Z
UID:10000096-1653750000-1653760800@aristaeusbrewing.com
SUMMARY:Music: Bill Thomas
DESCRIPTION:
URL:https://aristaeusbrewing.com/event/music-bill-thomas-3/
LOCATION:Aristaeus Craft Brewing Co.\, 2475C Big Oak Road\, Langhorne\, PA\, 19047\, United States
CATEGORIES:Music
GEO:40.71839;-73.989891
X-APPLE-STRUCTURED-LOCATION;VALUE=URI;X-ADDRESS=Aristaeus Craft Brewing Co. 2475C Big Oak Road Langhorne PA 19047 United States;X-APPLE-RADIUS=500;X-TITLE=2475C Big Oak Road:geo:-73.989891,40.71839
END:VEVENT
BEGIN:VEVENT
DTSTART;TZID=America/New_York:20220528T140000
DTEND;TZID=America/New_York:20220528T200000
DTSTAMP:20260423T103448
CREATED:20220311T170605Z
LAST-MODIFIED:20220527T135409Z
UID:10000259-1653746400-1653768000@aristaeusbrewing.com
SUMMARY:Food Truck: Smoke Break BBQ
DESCRIPTION:
URL:https://aristaeusbrewing.com/event/food-truck-smoke-break-bbq/
LOCATION:Aristaeus Craft Brewing Co.\, 2475C Big Oak Road\, Langhorne\, PA\, 19047\, United States
CATEGORIES:Food Truck
ATTACH;FMTTYPE=image/jpeg:https://aristaeusbrewing.com/wp-content/uploads/2022/03/smoke-break-bbq-at-aristaeus-brewing.jpg
GEO:40.71839;-73.989891
X-APPLE-STRUCTURED-LOCATION;VALUE=URI;X-ADDRESS=Aristaeus Craft Brewing Co. 2475C Big Oak Road Langhorne PA 19047 United States;X-APPLE-RADIUS=500;X-TITLE=2475C Big Oak Road:geo:-73.989891,40.71839
END:VEVENT
BEGIN:VEVENT
DTSTART;TZID=America/New_York:20220527T190000
DTEND;TZID=America/New_York:20220527T220000
DTSTAMP:20260423T103448
CREATED:20220328T163336Z
LAST-MODIFIED:20220328T163336Z
UID:10000138-1653678000-1653688800@aristaeusbrewing.com
SUMMARY:Music: John Thomas
DESCRIPTION:
URL:https://aristaeusbrewing.com/event/music-john-thomas-3/
LOCATION:Aristaeus Craft Brewing Co.\, 2475C Big Oak Road\, Langhorne\, PA\, 19047\, United States
CATEGORIES:Music
ATTACH;FMTTYPE=image/jpeg:https://aristaeusbrewing.com/wp-content/uploads/2022/03/john-thomas-at-aristaeus-brewing.jpg
GEO:40.71839;-73.989891
X-APPLE-STRUCTURED-LOCATION;VALUE=URI;X-ADDRESS=Aristaeus Craft Brewing Co. 2475C Big Oak Road Langhorne PA 19047 United States;X-APPLE-RADIUS=500;X-TITLE=2475C Big Oak Road:geo:-73.989891,40.71839
END:VEVENT
BEGIN:VEVENT
DTSTART;TZID=America/New_York:20220527T160000
DTEND;TZID=America/New_York:20220527T210000
DTSTAMP:20260423T103448
CREATED:20220311T165719Z
LAST-MODIFIED:20220311T165751Z
UID:10000243-1653667200-1653685200@aristaeusbrewing.com
SUMMARY:Food Truck: Lunchboxxx
DESCRIPTION:
URL:https://aristaeusbrewing.com/event/food-truck-lunchboxxx-20/
LOCATION:Aristaeus Craft Brewing Co.\, 2475C Big Oak Road\, Langhorne\, PA\, 19047\, United States
CATEGORIES:Food Truck
ATTACH;FMTTYPE=image/jpeg:https://aristaeusbrewing.com/wp-content/uploads/2021/09/lunchboxxx-at-aristaeus-brewing-ec-2.jpg
GEO:40.71839;-73.989891
X-APPLE-STRUCTURED-LOCATION;VALUE=URI;X-ADDRESS=Aristaeus Craft Brewing Co. 2475C Big Oak Road Langhorne PA 19047 United States;X-APPLE-RADIUS=500;X-TITLE=2475C Big Oak Road:geo:-73.989891,40.71839
END:VEVENT
BEGIN:VEVENT
DTSTART;TZID=America/New_York:20220526T160000
DTEND;TZID=America/New_York:20220526T210000
DTSTAMP:20260423T103448
CREATED:20220311T170023Z
LAST-MODIFIED:20220311T170023Z
UID:10000247-1653580800-1653598800@aristaeusbrewing.com
SUMMARY:Food Truck: Menagerie Foods
DESCRIPTION:
URL:https://aristaeusbrewing.com/event/food-truck-menagerie-foods-2/
LOCATION:Aristaeus Craft Brewing Co.\, 2475C Big Oak Road\, Langhorne\, PA\, 19047\, United States
CATEGORIES:Food Truck
ATTACH;FMTTYPE=image/jpeg:https://aristaeusbrewing.com/wp-content/uploads/2021/12/Menagerie-Foods-at-aristaeus-craft-brewing-co.jpg
GEO:40.71839;-73.989891
X-APPLE-STRUCTURED-LOCATION;VALUE=URI;X-ADDRESS=Aristaeus Craft Brewing Co. 2475C Big Oak Road Langhorne PA 19047 United States;X-APPLE-RADIUS=500;X-TITLE=2475C Big Oak Road:geo:-73.989891,40.71839
END:VEVENT
BEGIN:VEVENT
DTSTART;TZID=America/New_York:20220525T160000
DTEND;TZID=America/New_York:20220525T210000
DTSTAMP:20260423T103448
CREATED:20220311T165251Z
LAST-MODIFIED:20220311T165251Z
UID:10000239-1653494400-1653512400@aristaeusbrewing.com
SUMMARY:Food Truck: El Sabor del Bajío
DESCRIPTION:
URL:https://aristaeusbrewing.com/event/food-truck-el-sabor-del-bajio-25/
LOCATION:Aristaeus Craft Brewing Co.\, 2475C Big Oak Road\, Langhorne\, PA\, 19047\, United States
CATEGORIES:Food Truck
ATTACH;FMTTYPE=image/jpeg:https://aristaeusbrewing.com/wp-content/uploads/2021/10/el-sabor-at-aristaeus-brewing-r.jpg
GEO:40.71839;-73.989891
X-APPLE-STRUCTURED-LOCATION;VALUE=URI;X-ADDRESS=Aristaeus Craft Brewing Co. 2475C Big Oak Road Langhorne PA 19047 United States;X-APPLE-RADIUS=500;X-TITLE=2475C Big Oak Road:geo:-73.989891,40.71839
END:VEVENT
BEGIN:VEVENT
DTSTART;TZID=America/New_York:20220522T140000
DTEND;TZID=America/New_York:20220522T170000
DTSTAMP:20260423T103448
CREATED:20220301T193926Z
LAST-MODIFIED:20220518T003843Z
UID:10000098-1653228000-1653238800@aristaeusbrewing.com
SUMMARY:Music: Soulshine Acoustic
DESCRIPTION:
URL:https://aristaeusbrewing.com/event/music-bill-monach-3/
LOCATION:Aristaeus Craft Brewing Co.\, 2475C Big Oak Road\, Langhorne\, PA\, 19047\, United States
CATEGORIES:Music
ATTACH;FMTTYPE=image/jpeg:https://aristaeusbrewing.com/wp-content/uploads/2022/02/bill-monach-at-aristaeus-brewing.jpg
GEO:40.71839;-73.989891
X-APPLE-STRUCTURED-LOCATION;VALUE=URI;X-ADDRESS=Aristaeus Craft Brewing Co. 2475C Big Oak Road Langhorne PA 19047 United States;X-APPLE-RADIUS=500;X-TITLE=2475C Big Oak Road:geo:-73.989891,40.71839
END:VEVENT
BEGIN:VEVENT
DTSTART;TZID=America/New_York:20220522T120000
DTEND;TZID=America/New_York:20220522T170000
DTSTAMP:20260423T103448
CREATED:20220518T003922Z
LAST-MODIFIED:20220518T003922Z
UID:10000160-1653220800-1653238800@aristaeusbrewing.com
SUMMARY:Food Truck: A Different Vibe
DESCRIPTION:
URL:https://aristaeusbrewing.com/event/food-truck-a-different-vibe/
LOCATION:Aristaeus Craft Brewing Co.\, 2475C Big Oak Road\, Langhorne\, PA\, 19047\, United States
CATEGORIES:Food Truck
ATTACH;FMTTYPE=image/jpeg:https://aristaeusbrewing.com/wp-content/uploads/2022/05/a-different-vibe-at-aristaeus-craft-bewing-co.jpg
GEO:40.71839;-73.989891
X-APPLE-STRUCTURED-LOCATION;VALUE=URI;X-ADDRESS=Aristaeus Craft Brewing Co. 2475C Big Oak Road Langhorne PA 19047 United States;X-APPLE-RADIUS=500;X-TITLE=2475C Big Oak Road:geo:-73.989891,40.71839
END:VEVENT
BEGIN:VEVENT
DTSTART;TZID=America/New_York:20220521T150000
DTEND;TZID=America/New_York:20220521T180000
DTSTAMP:20260423T103448
CREATED:20220301T222704Z
LAST-MODIFIED:20220301T222704Z
UID:10000234-1653145200-1653156000@aristaeusbrewing.com
SUMMARY:Music: Jeiris Cook
DESCRIPTION:
URL:https://aristaeusbrewing.com/event/music-jeiris-cook/
LOCATION:Aristaeus Craft Brewing Co.\, 2475C Big Oak Road\, Langhorne\, PA\, 19047\, United States
CATEGORIES:Music
GEO:40.71839;-73.989891
X-APPLE-STRUCTURED-LOCATION;VALUE=URI;X-ADDRESS=Aristaeus Craft Brewing Co. 2475C Big Oak Road Langhorne PA 19047 United States;X-APPLE-RADIUS=500;X-TITLE=2475C Big Oak Road:geo:-73.989891,40.71839
END:VEVENT
BEGIN:VEVENT
DTSTART;TZID=America/New_York:20220521T140000
DTEND;TZID=America/New_York:20220521T210000
DTSTAMP:20260423T103448
CREATED:20220311T170456Z
LAST-MODIFIED:20220311T170456Z
UID:10000255-1653141600-1653166800@aristaeusbrewing.com
SUMMARY:Food Truck: Jay's Steak and Hoagies
DESCRIPTION:
URL:https://aristaeusbrewing.com/event/food-truck-jays-steak-and-hoagies-2/
LOCATION:Aristaeus Craft Brewing Co.\, 2475C Big Oak Road\, Langhorne\, PA\, 19047\, United States
CATEGORIES:Food Truck
ATTACH;FMTTYPE=image/jpeg:https://aristaeusbrewing.com/wp-content/uploads/2022/03/jays-joint-at-aristaeus-brewing.jpg
GEO:40.71839;-73.989891
X-APPLE-STRUCTURED-LOCATION;VALUE=URI;X-ADDRESS=Aristaeus Craft Brewing Co. 2475C Big Oak Road Langhorne PA 19047 United States;X-APPLE-RADIUS=500;X-TITLE=2475C Big Oak Road:geo:-73.989891,40.71839
END:VEVENT
BEGIN:VEVENT
DTSTART;TZID=America/New_York:20220520T190000
DTEND;TZID=America/New_York:20220520T220000
DTSTAMP:20260423T103448
CREATED:20220509T161652Z
LAST-MODIFIED:20220509T161832Z
UID:10000158-1653073200-1653084000@aristaeusbrewing.com
SUMMARY:Music: Low Totem
DESCRIPTION:
URL:https://aristaeusbrewing.com/event/music-low-totem-2/
LOCATION:Aristaeus Craft Brewing Co.\, 2475C Big Oak Road\, Langhorne\, PA\, 19047\, United States
CATEGORIES:Music
GEO:40.71839;-73.989891
X-APPLE-STRUCTURED-LOCATION;VALUE=URI;X-ADDRESS=Aristaeus Craft Brewing Co. 2475C Big Oak Road Langhorne PA 19047 United States;X-APPLE-RADIUS=500;X-TITLE=2475C Big Oak Road:geo:-73.989891,40.71839
END:VEVENT
BEGIN:VEVENT
DTSTART;TZID=America/New_York:20220520T170000
DTEND;TZID=America/New_York:20220520T210000
DTSTAMP:20260423T103448
CREATED:20220311T170520Z
LAST-MODIFIED:20220516T133635Z
UID:10000257-1653066000-1653080400@aristaeusbrewing.com
SUMMARY:The Vegan Table
DESCRIPTION:
URL:https://aristaeusbrewing.com/event/vegan-table-520/
LOCATION:Aristaeus Craft Brewing Co.\, 2475C Big Oak Road\, Langhorne\, PA\, 19047\, United States
CATEGORIES:Food Truck
ATTACH;FMTTYPE=image/jpeg:https://aristaeusbrewing.com/wp-content/uploads/2022/04/the-vegan-table-at-aristaeus-brewing.jpg
GEO:40.71839;-73.989891
X-APPLE-STRUCTURED-LOCATION;VALUE=URI;X-ADDRESS=Aristaeus Craft Brewing Co. 2475C Big Oak Road Langhorne PA 19047 United States;X-APPLE-RADIUS=500;X-TITLE=2475C Big Oak Road:geo:-73.989891,40.71839
END:VEVENT
BEGIN:VEVENT
DTSTART;TZID=America/New_York:20220519T170000
DTEND;TZID=America/New_York:20220519T210000
DTSTAMP:20260423T103448
CREATED:20220311T170328Z
LAST-MODIFIED:20220311T170328Z
UID:10000253-1652979600-1652994000@aristaeusbrewing.com
SUMMARY:Food Truck: Thai Jai Dee
DESCRIPTION:
URL:https://aristaeusbrewing.com/event/food-truck-thai-jai-dee-3/
LOCATION:Aristaeus Craft Brewing Co.\, 2475C Big Oak Road\, Langhorne\, PA\, 19047\, United States
CATEGORIES:Food Truck
ATTACH;FMTTYPE=image/jpeg:https://aristaeusbrewing.com/wp-content/uploads/2021/12/thai-jaid-dee-at-aristaeus-craft-brewing-co.jpg
GEO:40.71839;-73.989891
X-APPLE-STRUCTURED-LOCATION;VALUE=URI;X-ADDRESS=Aristaeus Craft Brewing Co. 2475C Big Oak Road Langhorne PA 19047 United States;X-APPLE-RADIUS=500;X-TITLE=2475C Big Oak Road:geo:-73.989891,40.71839
END:VEVENT
BEGIN:VEVENT
DTSTART;TZID=America/New_York:20220518T160000
DTEND;TZID=America/New_York:20220518T210000
DTSTAMP:20260423T103448
CREATED:20220311T165224Z
LAST-MODIFIED:20220311T165224Z
UID:10000238-1652889600-1652907600@aristaeusbrewing.com
SUMMARY:Food Truck: El Sabor del Bajío
DESCRIPTION:
URL:https://aristaeusbrewing.com/event/food-truck-el-sabor-del-bajio-24/
LOCATION:Aristaeus Craft Brewing Co.\, 2475C Big Oak Road\, Langhorne\, PA\, 19047\, United States
CATEGORIES:Food Truck
ATTACH;FMTTYPE=image/jpeg:https://aristaeusbrewing.com/wp-content/uploads/2021/10/el-sabor-at-aristaeus-brewing-r.jpg
GEO:40.71839;-73.989891
X-APPLE-STRUCTURED-LOCATION;VALUE=URI;X-ADDRESS=Aristaeus Craft Brewing Co. 2475C Big Oak Road Langhorne PA 19047 United States;X-APPLE-RADIUS=500;X-TITLE=2475C Big Oak Road:geo:-73.989891,40.71839
END:VEVENT
BEGIN:VEVENT
DTSTART;TZID=America/New_York:20220515T140000
DTEND;TZID=America/New_York:20220515T170000
DTSTAMP:20260423T103448
CREATED:20220509T161541Z
LAST-MODIFIED:20220509T161839Z
UID:10000156-1652623200-1652634000@aristaeusbrewing.com
SUMMARY:Music: Faraway Guys
DESCRIPTION:
URL:https://aristaeusbrewing.com/event/music-faraway-guys-2/
LOCATION:Aristaeus Craft Brewing Co.\, 2475C Big Oak Road\, Langhorne\, PA\, 19047\, United States
CATEGORIES:Music
ATTACH;FMTTYPE=image/jpeg:https://aristaeusbrewing.com/wp-content/uploads/2022/03/faraway-guys-at-aristaeus-brewing.jpg
GEO:40.71839;-73.989891
X-APPLE-STRUCTURED-LOCATION;VALUE=URI;X-ADDRESS=Aristaeus Craft Brewing Co. 2475C Big Oak Road Langhorne PA 19047 United States;X-APPLE-RADIUS=500;X-TITLE=2475C Big Oak Road:geo:-73.989891,40.71839
END:VEVENT
BEGIN:VEVENT
DTSTART;TZID=America/New_York:20220515T120000
DTEND;TZID=America/New_York:20220515T170000
DTSTAMP:20260423T103448
CREATED:20220311T170741Z
LAST-MODIFIED:20220311T170741Z
UID:10000261-1652616000-1652634000@aristaeusbrewing.com
SUMMARY:Food Truck: Surf and Turf
DESCRIPTION:
URL:https://aristaeusbrewing.com/event/food-truck-surf-and-turf-3/
LOCATION:Aristaeus Craft Brewing Co.\, 2475C Big Oak Road\, Langhorne\, PA\, 19047\, United States
CATEGORIES:Food Truck
ATTACH;FMTTYPE=image/jpeg:https://aristaeusbrewing.com/wp-content/uploads/2021/09/surf-and-turf-at-aristaeus-brewing-r.jpg
GEO:40.71839;-73.989891
X-APPLE-STRUCTURED-LOCATION;VALUE=URI;X-ADDRESS=Aristaeus Craft Brewing Co. 2475C Big Oak Road Langhorne PA 19047 United States;X-APPLE-RADIUS=500;X-TITLE=2475C Big Oak Road:geo:-73.989891,40.71839
END:VEVENT
BEGIN:VEVENT
DTSTART;TZID=America/New_York:20220514T150000
DTEND;TZID=America/New_York:20220514T180000
DTSTAMP:20260423T103448
CREATED:20220328T163722Z
LAST-MODIFIED:20220509T161808Z
UID:10000146-1652540400-1652551200@aristaeusbrewing.com
SUMMARY:Music: Jonathn Ashe
DESCRIPTION:
URL:https://aristaeusbrewing.com/event/music-jonathn-ashe-3/
LOCATION:Aristaeus Craft Brewing Co.\, 2475C Big Oak Road\, Langhorne\, PA\, 19047\, United States
CATEGORIES:Music
ATTACH;FMTTYPE=image/jpeg:https://aristaeusbrewing.com/wp-content/uploads/2022/03/jonathn-ashe-at-aristaeus-brewing.jpg
GEO:40.71839;-73.989891
X-APPLE-STRUCTURED-LOCATION;VALUE=URI;X-ADDRESS=Aristaeus Craft Brewing Co. 2475C Big Oak Road Langhorne PA 19047 United States;X-APPLE-RADIUS=500;X-TITLE=2475C Big Oak Road:geo:-73.989891,40.71839
END:VEVENT
BEGIN:VEVENT
DTSTART;TZID=America/New_York:20220514T140000
DTEND;TZID=America/New_York:20220514T210000
DTSTAMP:20260423T103448
CREATED:20220311T170237Z
LAST-MODIFIED:20220311T170237Z
UID:10000249-1652536800-1652562000@aristaeusbrewing.com
SUMMARY:Food Truck: Maui Lu Hawaiian BBQ
DESCRIPTION:
URL:https://aristaeusbrewing.com/event/food-truck-maui-lu-hawaiian-bbq-6/
LOCATION:Aristaeus Craft Brewing Co.\, 2475C Big Oak Road\, Langhorne\, PA\, 19047\, United States
CATEGORIES:Food Truck
ATTACH;FMTTYPE=image/jpeg:https://aristaeusbrewing.com/wp-content/uploads/2021/09/maui-lu-at-aristaeus-brewing-rev.jpg
GEO:40.71839;-73.989891
X-APPLE-STRUCTURED-LOCATION;VALUE=URI;X-ADDRESS=Aristaeus Craft Brewing Co. 2475C Big Oak Road Langhorne PA 19047 United States;X-APPLE-RADIUS=500;X-TITLE=2475C Big Oak Road:geo:-73.989891,40.71839
END:VEVENT
BEGIN:VEVENT
DTSTART;TZID=America/New_York:20220513T190000
DTEND;TZID=America/New_York:20220513T220000
DTSTAMP:20260423T103448
CREATED:20220509T160711Z
LAST-MODIFIED:20220509T161802Z
UID:10000154-1652468400-1652479200@aristaeusbrewing.com
SUMMARY:Music: Ryan Sab
DESCRIPTION:
URL:https://aristaeusbrewing.com/event/music-ryan-sab-2/
LOCATION:Aristaeus Craft Brewing Co.\, 2475C Big Oak Road\, Langhorne\, PA\, 19047\, United States
CATEGORIES:Music
ATTACH;FMTTYPE=image/jpeg:https://aristaeusbrewing.com/wp-content/uploads/2022/03/ryan-sab-at-aristaeus-brewing.jpg
GEO:40.71839;-73.989891
X-APPLE-STRUCTURED-LOCATION;VALUE=URI;X-ADDRESS=Aristaeus Craft Brewing Co. 2475C Big Oak Road Langhorne PA 19047 United States;X-APPLE-RADIUS=500;X-TITLE=2475C Big Oak Road:geo:-73.989891,40.71839
END:VEVENT
BEGIN:VEVENT
DTSTART;TZID=America/New_York:20220513T160000
DTEND;TZID=America/New_York:20220513T210000
DTSTAMP:20260423T103448
CREATED:20220311T165652Z
LAST-MODIFIED:20220311T165749Z
UID:10000242-1652457600-1652475600@aristaeusbrewing.com
SUMMARY:Food Truck: Lunchboxxx
DESCRIPTION:
URL:https://aristaeusbrewing.com/event/food-truck-lunchboxxx-19/
LOCATION:Aristaeus Craft Brewing Co.\, 2475C Big Oak Road\, Langhorne\, PA\, 19047\, United States
CATEGORIES:Food Truck
ATTACH;FMTTYPE=image/jpeg:https://aristaeusbrewing.com/wp-content/uploads/2021/09/lunchboxxx-at-aristaeus-brewing-ec-1.jpg
GEO:40.71839;-73.989891
X-APPLE-STRUCTURED-LOCATION;VALUE=URI;X-ADDRESS=Aristaeus Craft Brewing Co. 2475C Big Oak Road Langhorne PA 19047 United States;X-APPLE-RADIUS=500;X-TITLE=2475C Big Oak Road:geo:-73.989891,40.71839
END:VEVENT
BEGIN:VEVENT
DTSTART;TZID=America/New_York:20220512T160000
DTEND;TZID=America/New_York:20220512T210000
DTSTAMP:20260423T103448
CREATED:20220311T170020Z
LAST-MODIFIED:20220311T170020Z
UID:10000245-1652371200-1652389200@aristaeusbrewing.com
SUMMARY:Food Truck: Menagerie Foods
DESCRIPTION:
URL:https://aristaeusbrewing.com/event/food-truck-menagerie-foods/
LOCATION:Aristaeus Craft Brewing Co.\, 2475C Big Oak Road\, Langhorne\, PA\, 19047\, United States
CATEGORIES:Food Truck
ATTACH;FMTTYPE=image/jpeg:https://aristaeusbrewing.com/wp-content/uploads/2021/12/Menagerie-Foods-at-aristaeus-craft-brewing-co.jpg
GEO:40.71839;-73.989891
X-APPLE-STRUCTURED-LOCATION;VALUE=URI;X-ADDRESS=Aristaeus Craft Brewing Co. 2475C Big Oak Road Langhorne PA 19047 United States;X-APPLE-RADIUS=500;X-TITLE=2475C Big Oak Road:geo:-73.989891,40.71839
END:VEVENT
BEGIN:VEVENT
DTSTART;TZID=America/New_York:20220511T160000
DTEND;TZID=America/New_York:20220511T200000
DTSTAMP:20260423T103448
CREATED:20220311T165902Z
LAST-MODIFIED:20220311T165902Z
UID:10000244-1652284800-1652299200@aristaeusbrewing.com
SUMMARY:Food Truck: Jay's Steak and Hoagies
DESCRIPTION:
URL:https://aristaeusbrewing.com/event/food-truck-jays-steak-and-hoagies/
LOCATION:Aristaeus Craft Brewing Co.\, 2475C Big Oak Road\, Langhorne\, PA\, 19047\, United States
CATEGORIES:Food Truck
ATTACH;FMTTYPE=image/jpeg:https://aristaeusbrewing.com/wp-content/uploads/2022/03/jays-joint-at-aristaeus-brewing.jpg
GEO:40.71839;-73.989891
X-APPLE-STRUCTURED-LOCATION;VALUE=URI;X-ADDRESS=Aristaeus Craft Brewing Co. 2475C Big Oak Road Langhorne PA 19047 United States;X-APPLE-RADIUS=500;X-TITLE=2475C Big Oak Road:geo:-73.989891,40.71839
END:VEVENT
BEGIN:VEVENT
DTSTART;TZID=America/New_York:20220508T140000
DTEND;TZID=America/New_York:20220508T170000
DTSTAMP:20260423T103448
CREATED:20220328T164114Z
LAST-MODIFIED:20220328T164114Z
UID:10000278-1652018400-1652029200@aristaeusbrewing.com
SUMMARY:Music: Brian Elliot
DESCRIPTION:
URL:https://aristaeusbrewing.com/event/music-brian-elliot/
LOCATION:Aristaeus Craft Brewing Co.\, 2475C Big Oak Road\, Langhorne\, PA\, 19047\, United States
CATEGORIES:Music
ATTACH;FMTTYPE=image/jpeg:https://aristaeusbrewing.com/wp-content/uploads/2022/03/brian-elliot-at-aristaeus-brewing.jpg
GEO:40.71839;-73.989891
X-APPLE-STRUCTURED-LOCATION;VALUE=URI;X-ADDRESS=Aristaeus Craft Brewing Co. 2475C Big Oak Road Langhorne PA 19047 United States;X-APPLE-RADIUS=500;X-TITLE=2475C Big Oak Road:geo:-73.989891,40.71839
END:VEVENT
BEGIN:VEVENT
DTSTART;TZID=America/New_York:20220507T140000
DTEND;TZID=America/New_York:20220507T210000
DTSTAMP:20260423T103448
CREATED:20220311T165650Z
LAST-MODIFIED:20220506T125219Z
UID:10000241-1651932000-1651957200@aristaeusbrewing.com
SUMMARY:Food Truck: Jay's Joint
DESCRIPTION:
URL:https://aristaeusbrewing.com/event/food-truck-jays-joint-5-7/
LOCATION:Aristaeus Craft Brewing Co.\, 2475C Big Oak Road\, Langhorne\, PA\, 19047\, United States
CATEGORIES:Food Truck
ATTACH;FMTTYPE=image/jpeg:https://aristaeusbrewing.com/wp-content/uploads/2022/03/jays-joint-at-aristaeus-brewing.jpg
GEO:40.71839;-73.989891
X-APPLE-STRUCTURED-LOCATION;VALUE=URI;X-ADDRESS=Aristaeus Craft Brewing Co. 2475C Big Oak Road Langhorne PA 19047 United States;X-APPLE-RADIUS=500;X-TITLE=2475C Big Oak Road:geo:-73.989891,40.71839
END:VEVENT
BEGIN:VEVENT
DTSTART;TZID=America/New_York:20220507T140000
DTEND;TZID=America/New_York:20220507T170000
DTSTAMP:20260423T103448
CREATED:20220328T163612Z
LAST-MODIFIED:20220328T163612Z
UID:10000144-1651932000-1651942800@aristaeusbrewing.com
SUMMARY:Music: Beth Arnold Gilbert
DESCRIPTION:
URL:https://aristaeusbrewing.com/event/music-beth-arnold-gilbert-2/
LOCATION:Aristaeus Craft Brewing Co.\, 2475C Big Oak Road\, Langhorne\, PA\, 19047\, United States
CATEGORIES:Music
ATTACH;FMTTYPE=image/jpeg:https://aristaeusbrewing.com/wp-content/uploads/2022/02/beth-arnold-gilbert-at-aristaeus-brewing.jpg
GEO:40.71839;-73.989891
X-APPLE-STRUCTURED-LOCATION;VALUE=URI;X-ADDRESS=Aristaeus Craft Brewing Co. 2475C Big Oak Road Langhorne PA 19047 United States;X-APPLE-RADIUS=500;X-TITLE=2475C Big Oak Road:geo:-73.989891,40.71839
END:VEVENT
END:VCALENDAR