BEGIN:VCALENDAR
VERSION:2.0
PRODID:-//Aristaeus Craft Brewing Co. - ECPv6.15.20//NONSGML v1.0//EN
CALSCALE:GREGORIAN
METHOD:PUBLISH
X-ORIGINAL-URL:https://aristaeusbrewing.com
X-WR-CALDESC:Events for Aristaeus Craft Brewing Co.
REFRESH-INTERVAL;VALUE=DURATION:PT1H
X-Robots-Tag:noindex
X-PUBLISHED-TTL:PT1H
BEGIN:VTIMEZONE
TZID:America/New_York
BEGIN:DAYLIGHT
TZOFFSETFROM:-0500
TZOFFSETTO:-0400
TZNAME:EDT
DTSTART:20240310T070000
END:DAYLIGHT
BEGIN:STANDARD
TZOFFSETFROM:-0400
TZOFFSETTO:-0500
TZNAME:EST
DTSTART:20241103T060000
END:STANDARD
BEGIN:DAYLIGHT
TZOFFSETFROM:-0500
TZOFFSETTO:-0400
TZNAME:EDT
DTSTART:20250309T070000
END:DAYLIGHT
BEGIN:STANDARD
TZOFFSETFROM:-0400
TZOFFSETTO:-0500
TZNAME:EST
DTSTART:20251102T060000
END:STANDARD
BEGIN:DAYLIGHT
TZOFFSETFROM:-0500
TZOFFSETTO:-0400
TZNAME:EDT
DTSTART:20260308T070000
END:DAYLIGHT
BEGIN:STANDARD
TZOFFSETFROM:-0400
TZOFFSETTO:-0500
TZNAME:EST
DTSTART:20261101T060000
END:STANDARD
END:VTIMEZONE
BEGIN:VEVENT
DTSTART;TZID=America/New_York:20250327T190000
DTEND;TZID=America/New_York:20250327T210000
DTSTAMP:20260425T081714
CREATED:20250103T143700Z
LAST-MODIFIED:20251223T175030Z
UID:10001289-1743102000-1743109200@aristaeusbrewing.com
SUMMARY:Trivia Night
DESCRIPTION:Weekly trivia competition with Quizmaster Brian.
URL:https://aristaeusbrewing.com/event/trivia-night-10/2025-03-27/
LOCATION:Aristaeus Craft Brewing Co.\, 2475C Big Oak Road\, Langhorne\, PA\, 19047\, United States
CATEGORIES:Events
ATTACH;FMTTYPE=image/jpeg:https://aristaeusbrewing.com/wp-content/uploads/2025/01/aristaeus-creaft-brewing-co-trivia-night1.jpg
GEO:40.71839;-73.989891
X-APPLE-STRUCTURED-LOCATION;VALUE=URI;X-ADDRESS=Aristaeus Craft Brewing Co. 2475C Big Oak Road Langhorne PA 19047 United States;X-APPLE-RADIUS=500;X-TITLE=2475C Big Oak Road:geo:-73.989891,40.71839
END:VEVENT
BEGIN:VEVENT
DTSTART;TZID=America/New_York:20250328T160000
DTEND;TZID=America/New_York:20250328T210000
DTSTAMP:20260425T081714
CREATED:20250110T164229Z
LAST-MODIFIED:20250110T164229Z
UID:10001332-1743177600-1743195600@aristaeusbrewing.com
SUMMARY:Food Truck: Spuddy Buddy Fry Factory
DESCRIPTION:
URL:https://aristaeusbrewing.com/event/food-truck-spuddy-buddy-fry-factory-9/
LOCATION:Aristaeus Craft Brewing Co.\, 2475C Big Oak Road\, Langhorne\, PA\, 19047\, United States
CATEGORIES:Food Truck
ATTACH;FMTTYPE=image/jpeg:https://aristaeusbrewing.com/wp-content/uploads/2024/05/spuddy-buddy-fry-factory-at-aristaeus-brewing.jpg
GEO:40.71839;-73.989891
X-APPLE-STRUCTURED-LOCATION;VALUE=URI;X-ADDRESS=Aristaeus Craft Brewing Co. 2475C Big Oak Road Langhorne PA 19047 United States;X-APPLE-RADIUS=500;X-TITLE=2475C Big Oak Road:geo:-73.989891,40.71839
END:VEVENT
BEGIN:VEVENT
DTSTART;TZID=America/New_York:20250329T130000
DTEND;TZID=America/New_York:20250329T210000
DTSTAMP:20260425T081714
CREATED:20250110T164144Z
LAST-MODIFIED:20250110T164144Z
UID:10001337-1743253200-1743282000@aristaeusbrewing.com
SUMMARY:Food Truck: Sweet Breezy BBQ
DESCRIPTION:
URL:https://aristaeusbrewing.com/event/food-truck-sweet-breezy-bbq-8/
LOCATION:Aristaeus Craft Brewing Co.\, 2475C Big Oak Road\, Langhorne\, PA\, 19047\, United States
CATEGORIES:Food Truck
ATTACH;FMTTYPE=image/jpeg:https://aristaeusbrewing.com/wp-content/uploads/2024/11/sweet-breezy-bbq-at-aristaeus-brewing.jpg
GEO:40.71839;-73.989891
X-APPLE-STRUCTURED-LOCATION;VALUE=URI;X-ADDRESS=Aristaeus Craft Brewing Co. 2475C Big Oak Road Langhorne PA 19047 United States;X-APPLE-RADIUS=500;X-TITLE=2475C Big Oak Road:geo:-73.989891,40.71839
END:VEVENT
BEGIN:VEVENT
DTSTART;TZID=America/New_York:20250330T120000
DTEND;TZID=America/New_York:20250330T170000
DTSTAMP:20260425T081714
CREATED:20250110T164204Z
LAST-MODIFIED:20250110T164204Z
UID:10001335-1743336000-1743354000@aristaeusbrewing.com
SUMMARY:Food Truck: Daddy's Kitchen
DESCRIPTION:
URL:https://aristaeusbrewing.com/event/food-truck-daddys-kitchen-55/
LOCATION:Aristaeus Craft Brewing Co.\, 2475C Big Oak Road\, Langhorne\, PA\, 19047\, United States
CATEGORIES:Food Truck
ATTACH;FMTTYPE=image/jpeg:https://aristaeusbrewing.com/wp-content/uploads/2022/12/daddys-kitchen-aristaeus-brewing.jpg
GEO:40.71839;-73.989891
X-APPLE-STRUCTURED-LOCATION;VALUE=URI;X-ADDRESS=Aristaeus Craft Brewing Co. 2475C Big Oak Road Langhorne PA 19047 United States;X-APPLE-RADIUS=500;X-TITLE=2475C Big Oak Road:geo:-73.989891,40.71839
END:VEVENT
BEGIN:VEVENT
DTSTART;TZID=America/New_York:20250402T160000
DTEND;TZID=America/New_York:20250402T200000
DTSTAMP:20260425T081714
CREATED:20250307T163751Z
LAST-MODIFIED:20250307T163751Z
UID:10001393-1743609600-1743624000@aristaeusbrewing.com
SUMMARY:Food Truck: Carlucci's
DESCRIPTION:
URL:https://aristaeusbrewing.com/event/food-truck-carluccis-4/
LOCATION:Aristaeus Craft Brewing Co.\, 2475C Big Oak Road\, Langhorne\, PA\, 19047\, United States
CATEGORIES:Food Truck
ATTACH;FMTTYPE=image/jpeg:https://aristaeusbrewing.com/wp-content/uploads/2025/03/carluccis-at-aristaeus-brewing.jpg
GEO:40.71839;-73.989891
X-APPLE-STRUCTURED-LOCATION;VALUE=URI;X-ADDRESS=Aristaeus Craft Brewing Co. 2475C Big Oak Road Langhorne PA 19047 United States;X-APPLE-RADIUS=500;X-TITLE=2475C Big Oak Road:geo:-73.989891,40.71839
END:VEVENT
BEGIN:VEVENT
DTSTART;TZID=America/New_York:20250402T170000
DTEND;TZID=America/New_York:20250402T220000
DTSTAMP:20260425T081714
CREATED:20250307T163951Z
LAST-MODIFIED:20250307T163951Z
UID:10001397-1743613200-1743631200@aristaeusbrewing.com
SUMMARY:Board Game Night
DESCRIPTION:A night of drop-in-tables and fun social games! Bring your own games\, or play some of these: \n\nCards Against Humanity\nSettlers of Catan\nTelestrations\nSplendor\nPandemic\nMarch of the Ants\nTicket To Ride\nAnd More!
URL:https://aristaeusbrewing.com/event/board-game-night-3/
LOCATION:Aristaeus Craft Brewing Co.\, 2475C Big Oak Road\, Langhorne\, PA\, 19047\, United States
CATEGORIES:Events
ATTACH;FMTTYPE=image/jpeg:https://aristaeusbrewing.com/wp-content/uploads/2025/02/2025-03-Board-Game-Night-Event-Header.jpg
GEO:40.71839;-73.989891
X-APPLE-STRUCTURED-LOCATION;VALUE=URI;X-ADDRESS=Aristaeus Craft Brewing Co. 2475C Big Oak Road Langhorne PA 19047 United States;X-APPLE-RADIUS=500;X-TITLE=2475C Big Oak Road:geo:-73.989891,40.71839
END:VEVENT
BEGIN:VEVENT
DTSTART;TZID=America/New_York:20250403T163000
DTEND;TZID=America/New_York:20250403T210000
DTSTAMP:20260425T081714
CREATED:20250210T211135Z
LAST-MODIFIED:20250210T211135Z
UID:10001365-1743697800-1743714000@aristaeusbrewing.com
SUMMARY:Food Truck: Lunchboxxx
DESCRIPTION:
URL:https://aristaeusbrewing.com/event/food-truck-lunchboxxx-67/
LOCATION:Aristaeus Craft Brewing Co.\, 2475C Big Oak Road\, Langhorne\, PA\, 19047\, United States
CATEGORIES:Food Truck
ATTACH;FMTTYPE=image/jpeg:https://aristaeusbrewing.com/wp-content/uploads/2024/05/lunchboxxx-at-aristaeus-brewing-2.jpg
GEO:40.71839;-73.989891
X-APPLE-STRUCTURED-LOCATION;VALUE=URI;X-ADDRESS=Aristaeus Craft Brewing Co. 2475C Big Oak Road Langhorne PA 19047 United States;X-APPLE-RADIUS=500;X-TITLE=2475C Big Oak Road:geo:-73.989891,40.71839
END:VEVENT
BEGIN:VEVENT
DTSTART;TZID=America/New_York:20250403T190000
DTEND;TZID=America/New_York:20250403T210000
DTSTAMP:20260425T081714
CREATED:20250103T143700Z
LAST-MODIFIED:20251223T175030Z
UID:10001290-1743706800-1743714000@aristaeusbrewing.com
SUMMARY:Trivia Night
DESCRIPTION:Weekly trivia competition with Quizmaster Brian.
URL:https://aristaeusbrewing.com/event/trivia-night-10/2025-04-03/
LOCATION:Aristaeus Craft Brewing Co.\, 2475C Big Oak Road\, Langhorne\, PA\, 19047\, United States
CATEGORIES:Events
ATTACH;FMTTYPE=image/jpeg:https://aristaeusbrewing.com/wp-content/uploads/2025/01/aristaeus-creaft-brewing-co-trivia-night1.jpg
GEO:40.71839;-73.989891
X-APPLE-STRUCTURED-LOCATION;VALUE=URI;X-ADDRESS=Aristaeus Craft Brewing Co. 2475C Big Oak Road Langhorne PA 19047 United States;X-APPLE-RADIUS=500;X-TITLE=2475C Big Oak Road:geo:-73.989891,40.71839
END:VEVENT
BEGIN:VEVENT
DTSTART;TZID=America/New_York:20250404T160000
DTEND;TZID=America/New_York:20250404T210000
DTSTAMP:20260425T081714
CREATED:20250307T164219Z
LAST-MODIFIED:20250307T164219Z
UID:10001398-1743782400-1743800400@aristaeusbrewing.com
SUMMARY:Food Truck: Puss 'N Boots
DESCRIPTION:
URL:https://aristaeusbrewing.com/event/food-truck-puss-n-boots/
LOCATION:Aristaeus Craft Brewing Co.\, 2475C Big Oak Road\, Langhorne\, PA\, 19047\, United States
CATEGORIES:Food Truck
GEO:40.71839;-73.989891
X-APPLE-STRUCTURED-LOCATION;VALUE=URI;X-ADDRESS=Aristaeus Craft Brewing Co. 2475C Big Oak Road Langhorne PA 19047 United States;X-APPLE-RADIUS=500;X-TITLE=2475C Big Oak Road:geo:-73.989891,40.71839
END:VEVENT
BEGIN:VEVENT
DTSTART;TZID=America/New_York:20250405T130000
DTEND;TZID=America/New_York:20250405T210000
DTSTAMP:20260425T081714
CREATED:20250210T212728Z
LAST-MODIFIED:20250210T212728Z
UID:10001368-1743858000-1743886800@aristaeusbrewing.com
SUMMARY:Food Truck: Joe's Crafted Cravings
DESCRIPTION:
URL:https://aristaeusbrewing.com/event/food-truck-joes-crafted-cravings/
LOCATION:Aristaeus Craft Brewing Co.\, 2475C Big Oak Road\, Langhorne\, PA\, 19047\, United States
CATEGORIES:Food Truck
ATTACH;FMTTYPE=image/jpeg:https://aristaeusbrewing.com/wp-content/uploads/2025/02/joes-crafted-cravings-aristaeus-craft-brewing-co.jpg
GEO:40.71839;-73.989891
X-APPLE-STRUCTURED-LOCATION;VALUE=URI;X-ADDRESS=Aristaeus Craft Brewing Co. 2475C Big Oak Road Langhorne PA 19047 United States;X-APPLE-RADIUS=500;X-TITLE=2475C Big Oak Road:geo:-73.989891,40.71839
END:VEVENT
BEGIN:VEVENT
DTSTART;TZID=America/New_York:20250405T190000
DTEND;TZID=America/New_York:20250405T220000
DTSTAMP:20260425T081714
CREATED:20250210T211547Z
LAST-MODIFIED:20250210T211547Z
UID:10001367-1743879600-1743890400@aristaeusbrewing.com
SUMMARY:Music: Joe Heilman Blues Rock
DESCRIPTION:
URL:https://aristaeusbrewing.com/event/music-joe-heilman-blues-rock-2/
LOCATION:Aristaeus Craft Brewing Co.\, 2475C Big Oak Road\, Langhorne\, PA\, 19047\, United States
CATEGORIES:Music
ATTACH;FMTTYPE=image/jpeg:https://aristaeusbrewing.com/wp-content/uploads/2025/02/joe-heilman-aristaeus-craft-brewing.jpg
GEO:40.71839;-73.989891
X-APPLE-STRUCTURED-LOCATION;VALUE=URI;X-ADDRESS=Aristaeus Craft Brewing Co. 2475C Big Oak Road Langhorne PA 19047 United States;X-APPLE-RADIUS=500;X-TITLE=2475C Big Oak Road:geo:-73.989891,40.71839
END:VEVENT
BEGIN:VEVENT
DTSTART;TZID=America/New_York:20250406T130000
DTEND;TZID=America/New_York:20250406T180000
DTSTAMP:20260425T081714
CREATED:20250210T210922Z
LAST-MODIFIED:20250331T203242Z
UID:10001362-1743944400-1743962400@aristaeusbrewing.com
SUMMARY:Food Truck: United Crepes of America
DESCRIPTION:
URL:https://aristaeusbrewing.com/event/food-truck-united-crepes-of-america-5/
LOCATION:Aristaeus Craft Brewing Co.\, 2475C Big Oak Road\, Langhorne\, PA\, 19047\, United States
CATEGORIES:Food Truck
ATTACH;FMTTYPE=image/jpeg:https://aristaeusbrewing.com/wp-content/uploads/2022/05/united-crepes-america-at-aristaeus-craft-brewing-co.jpg
GEO:40.71839;-73.989891
X-APPLE-STRUCTURED-LOCATION;VALUE=URI;X-ADDRESS=Aristaeus Craft Brewing Co. 2475C Big Oak Road Langhorne PA 19047 United States;X-APPLE-RADIUS=500;X-TITLE=2475C Big Oak Road:geo:-73.989891,40.71839
END:VEVENT
BEGIN:VEVENT
DTSTART;TZID=America/New_York:20250409T160000
DTEND;TZID=America/New_York:20250409T200000
DTSTAMP:20260425T081714
CREATED:20250307T163758Z
LAST-MODIFIED:20250307T163758Z
UID:10001394-1744214400-1744228800@aristaeusbrewing.com
SUMMARY:Food Truck: Carlucci's
DESCRIPTION:
URL:https://aristaeusbrewing.com/event/food-truck-carluccis-5/
LOCATION:Aristaeus Craft Brewing Co.\, 2475C Big Oak Road\, Langhorne\, PA\, 19047\, United States
CATEGORIES:Food Truck
ATTACH;FMTTYPE=image/jpeg:https://aristaeusbrewing.com/wp-content/uploads/2025/03/carluccis-at-aristaeus-brewing.jpg
GEO:40.71839;-73.989891
X-APPLE-STRUCTURED-LOCATION;VALUE=URI;X-ADDRESS=Aristaeus Craft Brewing Co. 2475C Big Oak Road Langhorne PA 19047 United States;X-APPLE-RADIUS=500;X-TITLE=2475C Big Oak Road:geo:-73.989891,40.71839
END:VEVENT
BEGIN:VEVENT
DTSTART;TZID=America/New_York:20250409T180000
DTEND;TZID=America/New_York:20250409T210000
DTSTAMP:20260425T081714
CREATED:20250204T231426Z
LAST-MODIFIED:20250204T231544Z
UID:10001360-1744221600-1744232400@aristaeusbrewing.com
SUMMARY:Cooking Class with Table 1459
DESCRIPTION:Menu: \n\n\nHomemade garlic herb flat bread\n\nLobster ravioli\, pesto beurre blanc\n\nPanna cotta\, mixed berries\n\n\nTime: 6 PM – 7 PM Meet and Greet / 7 – 9 PM Culinary Instruction \nLimited spots available – registration is open ($75/person)
URL:https://aristaeusbrewing.com/event/cooking-class-with-table-1459-3/
LOCATION:Aristaeus Craft Brewing Co.\, 2475C Big Oak Road\, Langhorne\, PA\, 19047\, United States
CATEGORIES:Events
ATTACH;FMTTYPE=image/jpeg:https://aristaeusbrewing.com/wp-content/uploads/2025/02/aristaeus-craft-brewing-co-lobster-ravioli-cooking-class.jpg
GEO:40.71839;-73.989891
X-APPLE-STRUCTURED-LOCATION;VALUE=URI;X-ADDRESS=Aristaeus Craft Brewing Co. 2475C Big Oak Road Langhorne PA 19047 United States;X-APPLE-RADIUS=500;X-TITLE=2475C Big Oak Road:geo:-73.989891,40.71839
END:VEVENT
BEGIN:VEVENT
DTSTART;TZID=America/New_York:20250410T160000
DTEND;TZID=America/New_York:20250410T210000
DTSTAMP:20260425T081714
CREATED:20250210T212806Z
LAST-MODIFIED:20250210T212806Z
UID:10001369-1744300800-1744318800@aristaeusbrewing.com
SUMMARY:Food Truck: Joe's Crafted Cravings
DESCRIPTION:
URL:https://aristaeusbrewing.com/event/food-truck-joes-crafted-cravings-2/
LOCATION:Aristaeus Craft Brewing Co.\, 2475C Big Oak Road\, Langhorne\, PA\, 19047\, United States
CATEGORIES:Food Truck
ATTACH;FMTTYPE=image/jpeg:https://aristaeusbrewing.com/wp-content/uploads/2025/02/joes-crafted-cravings-aristaeus-craft-brewing-co.jpg
GEO:40.71839;-73.989891
X-APPLE-STRUCTURED-LOCATION;VALUE=URI;X-ADDRESS=Aristaeus Craft Brewing Co. 2475C Big Oak Road Langhorne PA 19047 United States;X-APPLE-RADIUS=500;X-TITLE=2475C Big Oak Road:geo:-73.989891,40.71839
END:VEVENT
BEGIN:VEVENT
DTSTART;TZID=America/New_York:20250410T190000
DTEND;TZID=America/New_York:20250410T210000
DTSTAMP:20260425T081714
CREATED:20250103T143700Z
LAST-MODIFIED:20251223T175030Z
UID:10001291-1744311600-1744318800@aristaeusbrewing.com
SUMMARY:Trivia Night
DESCRIPTION:Weekly trivia competition with Quizmaster Brian.
URL:https://aristaeusbrewing.com/event/trivia-night-10/2025-04-10/
LOCATION:Aristaeus Craft Brewing Co.\, 2475C Big Oak Road\, Langhorne\, PA\, 19047\, United States
CATEGORIES:Events
ATTACH;FMTTYPE=image/jpeg:https://aristaeusbrewing.com/wp-content/uploads/2025/01/aristaeus-creaft-brewing-co-trivia-night1.jpg
GEO:40.71839;-73.989891
X-APPLE-STRUCTURED-LOCATION;VALUE=URI;X-ADDRESS=Aristaeus Craft Brewing Co. 2475C Big Oak Road Langhorne PA 19047 United States;X-APPLE-RADIUS=500;X-TITLE=2475C Big Oak Road:geo:-73.989891,40.71839
END:VEVENT
BEGIN:VEVENT
DTSTART;TZID=America/New_York:20250411T163000
DTEND;TZID=America/New_York:20250411T210000
DTSTAMP:20260425T081714
CREATED:20250210T210940Z
LAST-MODIFIED:20250210T210940Z
UID:10001363-1744389000-1744405200@aristaeusbrewing.com
SUMMARY:Food Truck: Thai It Up
DESCRIPTION:
URL:https://aristaeusbrewing.com/event/food-truck-thai-it-up-55/
LOCATION:Aristaeus Craft Brewing Co.\, 2475C Big Oak Road\, Langhorne\, PA\, 19047\, United States
CATEGORIES:Food Truck
ATTACH;FMTTYPE=image/jpeg:https://aristaeusbrewing.com/wp-content/uploads/2022/06/thai-it-up-aristaeus-craft-brewing-co.jpg
GEO:40.71839;-73.989891
X-APPLE-STRUCTURED-LOCATION;VALUE=URI;X-ADDRESS=Aristaeus Craft Brewing Co. 2475C Big Oak Road Langhorne PA 19047 United States;X-APPLE-RADIUS=500;X-TITLE=2475C Big Oak Road:geo:-73.989891,40.71839
END:VEVENT
BEGIN:VEVENT
DTSTART;TZID=America/New_York:20250411T190000
DTEND;TZID=America/New_York:20250411T220000
DTSTAMP:20260425T081714
CREATED:20250307T164323Z
LAST-MODIFIED:20250307T164323Z
UID:10001400-1744398000-1744408800@aristaeusbrewing.com
SUMMARY:Music: Beth Arnold Gilbert
DESCRIPTION:
URL:https://aristaeusbrewing.com/event/music-beth-arnold-gilbert-9/
LOCATION:Aristaeus Craft Brewing Co.\, 2475C Big Oak Road\, Langhorne\, PA\, 19047\, United States
CATEGORIES:Music
ATTACH;FMTTYPE=image/jpeg:https://aristaeusbrewing.com/wp-content/uploads/2022/02/beth-arnold-gilbert-at-aristaeus-brewing.jpg
GEO:40.71839;-73.989891
X-APPLE-STRUCTURED-LOCATION;VALUE=URI;X-ADDRESS=Aristaeus Craft Brewing Co. 2475C Big Oak Road Langhorne PA 19047 United States;X-APPLE-RADIUS=500;X-TITLE=2475C Big Oak Road:geo:-73.989891,40.71839
END:VEVENT
BEGIN:VEVENT
DTSTART;TZID=America/New_York:20250412T130000
DTEND;TZID=America/New_York:20250412T210000
DTSTAMP:20260425T081714
CREATED:20250210T212844Z
LAST-MODIFIED:20250210T212844Z
UID:10001370-1744462800-1744491600@aristaeusbrewing.com
SUMMARY:Food Truck: Sweet Breezy BBQ
DESCRIPTION:
URL:https://aristaeusbrewing.com/event/food-truck-sweet-breezy-bbq-9/
LOCATION:Aristaeus Craft Brewing Co.\, 2475C Big Oak Road\, Langhorne\, PA\, 19047\, United States
CATEGORIES:Food Truck
ATTACH;FMTTYPE=image/jpeg:https://aristaeusbrewing.com/wp-content/uploads/2024/11/sweet-breezy-bbq-at-aristaeus-brewing.jpg
GEO:40.71839;-73.989891
X-APPLE-STRUCTURED-LOCATION;VALUE=URI;X-ADDRESS=Aristaeus Craft Brewing Co. 2475C Big Oak Road Langhorne PA 19047 United States;X-APPLE-RADIUS=500;X-TITLE=2475C Big Oak Road:geo:-73.989891,40.71839
END:VEVENT
BEGIN:VEVENT
DTSTART;TZID=America/New_York:20250413T130000
DTEND;TZID=America/New_York:20250413T180000
DTSTAMP:20260425T081714
CREATED:20250307T164359Z
LAST-MODIFIED:20250331T203253Z
UID:10001401-1744549200-1744567200@aristaeusbrewing.com
SUMMARY:El Sabor del Bajio
DESCRIPTION:
URL:https://aristaeusbrewing.com/event/el-sabor-del-bajio-6/
LOCATION:Aristaeus Craft Brewing Co.\, 2475C Big Oak Road\, Langhorne\, PA\, 19047\, United States
CATEGORIES:Food Truck
ATTACH;FMTTYPE=image/jpeg:https://aristaeusbrewing.com/wp-content/uploads/2021/09/el-sabor-at-aristaeus-brewing-ec-1.jpg
GEO:40.71839;-73.989891
X-APPLE-STRUCTURED-LOCATION;VALUE=URI;X-ADDRESS=Aristaeus Craft Brewing Co. 2475C Big Oak Road Langhorne PA 19047 United States;X-APPLE-RADIUS=500;X-TITLE=2475C Big Oak Road:geo:-73.989891,40.71839
END:VEVENT
BEGIN:VEVENT
DTSTART;TZID=America/New_York:20250416T160000
DTEND;TZID=America/New_York:20250416T210000
DTSTAMP:20260425T081714
CREATED:20250307T164530Z
LAST-MODIFIED:20250307T164530Z
UID:10001403-1744819200-1744837200@aristaeusbrewing.com
SUMMARY:Food Truck: Spuddy Buddy Fry Factory
DESCRIPTION:
URL:https://aristaeusbrewing.com/event/food-truck-spuddy-buddy-fry-factory-8/
LOCATION:Aristaeus Craft Brewing Co.\, 2475C Big Oak Road\, Langhorne\, PA\, 19047\, United States
CATEGORIES:Food Truck
ATTACH;FMTTYPE=image/jpeg:https://aristaeusbrewing.com/wp-content/uploads/2024/05/spuddy-buddy-fry-factory-at-aristaeus-brewing.jpg
GEO:40.71839;-73.989891
X-APPLE-STRUCTURED-LOCATION;VALUE=URI;X-ADDRESS=Aristaeus Craft Brewing Co. 2475C Big Oak Road Langhorne PA 19047 United States;X-APPLE-RADIUS=500;X-TITLE=2475C Big Oak Road:geo:-73.989891,40.71839
END:VEVENT
BEGIN:VEVENT
DTSTART;TZID=America/New_York:20250416T180000
DTEND;TZID=America/New_York:20250416T220000
DTSTAMP:20260425T081714
CREATED:20250307T164522Z
LAST-MODIFIED:20250307T164522Z
UID:10001402-1744826400-1744840800@aristaeusbrewing.com
SUMMARY:Vinyl Listening Party and Pop-Up
DESCRIPTION:Drink craft brews and dig thru crates for lost treasures while listening to record rarities from our personal collection. \nTake a trip down memory lane with us! Join us for a fun vinyl listening party on Wednesday\, April 16!\nBring a vinyl to spin\, or pick something from our stash!\nIf you know\, you know! These are always a good time.\nMoonrocket Vinyl brings hundreds of records for you to choose from\, or you can bring your own to spin.\nThe event kicks off at 6pm. Moonrocket Vinyl also offers a pop up sale with some $2 value records so everyone can take something home with them.\nThere will be door prizes and giveaways just for showing up.Come hang out with us \n 
URL:https://aristaeusbrewing.com/event/vinyl-listening-party-and-pop-up-5/
LOCATION:Aristaeus Craft Brewing Co.\, 2475C Big Oak Road\, Langhorne\, PA\, 19047\, United States
CATEGORIES:Events
ATTACH;FMTTYPE=image/jpeg:https://aristaeusbrewing.com/wp-content/uploads/2024/06/447956071_871099818367146_7991625828836503615_n.jpg
GEO:40.71839;-73.989891
X-APPLE-STRUCTURED-LOCATION;VALUE=URI;X-ADDRESS=Aristaeus Craft Brewing Co. 2475C Big Oak Road Langhorne PA 19047 United States;X-APPLE-RADIUS=500;X-TITLE=2475C Big Oak Road:geo:-73.989891,40.71839
END:VEVENT
BEGIN:VEVENT
DTSTART;TZID=America/New_York:20250417T160000
DTEND;TZID=America/New_York:20250417T210000
DTSTAMP:20260425T081714
CREATED:20250210T212929Z
LAST-MODIFIED:20250210T212929Z
UID:10001371-1744905600-1744923600@aristaeusbrewing.com
SUMMARY:Food Truck: Daddy's Kitchen
DESCRIPTION:
URL:https://aristaeusbrewing.com/event/food-truck-daddys-kitchen-57/
LOCATION:Aristaeus Craft Brewing Co.\, 2475C Big Oak Road\, Langhorne\, PA\, 19047\, United States
CATEGORIES:Food Truck
ATTACH;FMTTYPE=image/jpeg:https://aristaeusbrewing.com/wp-content/uploads/2022/12/daddys-kitchen-aristaeus-brewing.jpg
GEO:40.71839;-73.989891
X-APPLE-STRUCTURED-LOCATION;VALUE=URI;X-ADDRESS=Aristaeus Craft Brewing Co. 2475C Big Oak Road Langhorne PA 19047 United States;X-APPLE-RADIUS=500;X-TITLE=2475C Big Oak Road:geo:-73.989891,40.71839
END:VEVENT
BEGIN:VEVENT
DTSTART;TZID=America/New_York:20250417T190000
DTEND;TZID=America/New_York:20250417T210000
DTSTAMP:20260425T081714
CREATED:20250103T143700Z
LAST-MODIFIED:20251223T175030Z
UID:10001292-1744916400-1744923600@aristaeusbrewing.com
SUMMARY:Trivia Night
DESCRIPTION:Weekly trivia competition with Quizmaster Brian.
URL:https://aristaeusbrewing.com/event/trivia-night-10/2025-04-17/
LOCATION:Aristaeus Craft Brewing Co.\, 2475C Big Oak Road\, Langhorne\, PA\, 19047\, United States
CATEGORIES:Events
ATTACH;FMTTYPE=image/jpeg:https://aristaeusbrewing.com/wp-content/uploads/2025/01/aristaeus-creaft-brewing-co-trivia-night1.jpg
GEO:40.71839;-73.989891
X-APPLE-STRUCTURED-LOCATION;VALUE=URI;X-ADDRESS=Aristaeus Craft Brewing Co. 2475C Big Oak Road Langhorne PA 19047 United States;X-APPLE-RADIUS=500;X-TITLE=2475C Big Oak Road:geo:-73.989891,40.71839
END:VEVENT
BEGIN:VEVENT
DTSTART;TZID=America/New_York:20250418T160000
DTEND;TZID=America/New_York:20250418T210000
DTSTAMP:20260425T081714
CREATED:20250210T212947Z
LAST-MODIFIED:20250210T212947Z
UID:10001372-1744992000-1745010000@aristaeusbrewing.com
SUMMARY:Food Truck: Taco the Town Kitchen
DESCRIPTION:
URL:https://aristaeusbrewing.com/event/food-truck-taco-the-town-kitchen-40/
LOCATION:Aristaeus Craft Brewing Co.\, 2475C Big Oak Road\, Langhorne\, PA\, 19047\, United States
CATEGORIES:Food Truck
ATTACH;FMTTYPE=image/jpeg:https://aristaeusbrewing.com/wp-content/uploads/2024/05/taco-the-town-kitchen-at-aristaeus-1.jpg
GEO:40.71839;-73.989891
X-APPLE-STRUCTURED-LOCATION;VALUE=URI;X-ADDRESS=Aristaeus Craft Brewing Co. 2475C Big Oak Road Langhorne PA 19047 United States;X-APPLE-RADIUS=500;X-TITLE=2475C Big Oak Road:geo:-73.989891,40.71839
END:VEVENT
BEGIN:VEVENT
DTSTART;TZID=America/New_York:20250419T130000
DTEND;TZID=America/New_York:20250419T200000
DTSTAMP:20260425T081714
CREATED:20250307T164234Z
LAST-MODIFIED:20250414T212128Z
UID:10001399-1745067600-1745092800@aristaeusbrewing.com
SUMMARY:Food Truck: Tokio Sushi
DESCRIPTION:
URL:https://aristaeusbrewing.com/event/food-truck-tokio-sushi/
LOCATION:Aristaeus Craft Brewing Co.\, 2475C Big Oak Road\, Langhorne\, PA\, 19047\, United States
CATEGORIES:Food Truck
GEO:40.71839;-73.989891
X-APPLE-STRUCTURED-LOCATION;VALUE=URI;X-ADDRESS=Aristaeus Craft Brewing Co. 2475C Big Oak Road Langhorne PA 19047 United States;X-APPLE-RADIUS=500;X-TITLE=2475C Big Oak Road:geo:-73.989891,40.71839
END:VEVENT
BEGIN:VEVENT
DTSTART;TZID=America/New_York:20250423T160000
DTEND;TZID=America/New_York:20250423T200000
DTSTAMP:20260425T081714
CREATED:20250307T163804Z
LAST-MODIFIED:20250307T163804Z
UID:10001395-1745424000-1745438400@aristaeusbrewing.com
SUMMARY:Food Truck: Carlucci's
DESCRIPTION:
URL:https://aristaeusbrewing.com/event/food-truck-carluccis-6/
LOCATION:Aristaeus Craft Brewing Co.\, 2475C Big Oak Road\, Langhorne\, PA\, 19047\, United States
CATEGORIES:Food Truck
ATTACH;FMTTYPE=image/jpeg:https://aristaeusbrewing.com/wp-content/uploads/2025/03/carluccis-at-aristaeus-brewing.jpg
GEO:40.71839;-73.989891
X-APPLE-STRUCTURED-LOCATION;VALUE=URI;X-ADDRESS=Aristaeus Craft Brewing Co. 2475C Big Oak Road Langhorne PA 19047 United States;X-APPLE-RADIUS=500;X-TITLE=2475C Big Oak Road:geo:-73.989891,40.71839
END:VEVENT
BEGIN:VEVENT
DTSTART;TZID=America/New_York:20250423T160000
DTEND;TZID=America/New_York:20250423T220000
DTSTAMP:20260425T081714
CREATED:20250416T192052Z
LAST-MODIFIED:20250416T192052Z
UID:10001428-1745424000-1745445600@aristaeusbrewing.com
SUMMARY:Sparkle & Shine: Crissy's Birthday Bash!
DESCRIPTION:Celebrate Crissy’s birthday with us! 🥳 She’ll be behind the bar all night pouring beers and serving up drinks with her sparkly personality and glittery hair! ✨ \nTo make the night even more magical: \n🌟 Philly Fairy Hair will be here from 6-8 PM to add some sparkle to your tresses (pricing available on-site)!\n💎 Simply Connected will showcase permanent jewelry for purchase from 5-8PM to add a different kind of sparkle!\n🕯️ Spring Candle-Making Workshop with Hand the Light in the taproom (pre-registration required for this workshop).\n🍔 Food Truck: Carlucci’s Food Truck will be serving up delicious eats all evening. \nCome for the drinks\, stay for the sparkles\, and let’s make Crissy’s birthday unforgettable! 🎂✨ \nIMPORTANT: THIS IS A 21+ EVENT (no kids). \nEvent Details on Facebook. \n  \n 
URL:https://aristaeusbrewing.com/event/sparkle-shine-crissys-birthday-bash/
LOCATION:Aristaeus Craft Brewing Co.\, 2475C Big Oak Road\, Langhorne\, PA\, 19047\, United States
CATEGORIES:Events
ATTACH;FMTTYPE=image/jpeg:https://aristaeusbrewing.com/wp-content/uploads/2025/04/2025-04-Crissy-BDay.jpg
GEO:40.71839;-73.989891
X-APPLE-STRUCTURED-LOCATION;VALUE=URI;X-ADDRESS=Aristaeus Craft Brewing Co. 2475C Big Oak Road Langhorne PA 19047 United States;X-APPLE-RADIUS=500;X-TITLE=2475C Big Oak Road:geo:-73.989891,40.71839
END:VEVENT
BEGIN:VEVENT
DTSTART;TZID=America/New_York:20250423T180000
DTEND;TZID=America/New_York:20250423T200000
DTSTAMP:20260425T081714
CREATED:20250416T191711Z
LAST-MODIFIED:20250416T193704Z
UID:10001427-1745431200-1745438400@aristaeusbrewing.com
SUMMARY:Crafts & Pints Candle-Making
DESCRIPTION:Join us at Aristaeus Craft Brewing Taproom for a fun and relaxing evening of candle-making\, tasty beer\, and good company. Whether you’re bringing friends or flying solo\, this event is all about unwinding and getting creative! \nTickets Available Now!\nCost: $39/per person plus Eventbrite fees \nThis event is 21+ only \nWhat’s Included: \n\nAll materials and guidance to make two soy candles per person (there is no one-candle option. Each ticket includes two candles per person.)\nA rotating variety of jar styles and scents (subject to availability)\nAccess to delicious craft beers available for purchase at the taproom\nHands-on guidance in a fun\, relaxed environment\n\nWhy You’ll Love It: \n\nChill brewery setting meets hands-on creativity\nPerfect for a night out with friends\, a date\, or a solo treat\nLeave with two beautifully crafted candles to keep or gift\n\nReserve Your Spot: Spaces are limited\, so don’t miss out on this fun\, spring-inspired evening of crafting and community! Get tickets today!
URL:https://aristaeusbrewing.com/event/crafts-pints-candle-making/
LOCATION:Aristaeus Craft Brewing Co.\, 2475C Big Oak Road\, Langhorne\, PA\, 19047\, United States
CATEGORIES:Events
ATTACH;FMTTYPE=image/jpeg:https://aristaeusbrewing.com/wp-content/uploads/2025/02/candle-workshop.jpg
GEO:40.71839;-73.989891
X-APPLE-STRUCTURED-LOCATION;VALUE=URI;X-ADDRESS=Aristaeus Craft Brewing Co. 2475C Big Oak Road Langhorne PA 19047 United States;X-APPLE-RADIUS=500;X-TITLE=2475C Big Oak Road:geo:-73.989891,40.71839
END:VEVENT
BEGIN:VEVENT
DTSTART;TZID=America/New_York:20250424T160000
DTEND;TZID=America/New_York:20250424T210000
DTSTAMP:20260425T081714
CREATED:20250210T213031Z
LAST-MODIFIED:20250210T213031Z
UID:10001373-1745510400-1745528400@aristaeusbrewing.com
SUMMARY:Food Truck: Sweet Breezy BBQ
DESCRIPTION:
URL:https://aristaeusbrewing.com/event/food-truck-sweet-breezy-bbq-10/
LOCATION:Aristaeus Craft Brewing Co.\, 2475C Big Oak Road\, Langhorne\, PA\, 19047\, United States
CATEGORIES:Food Truck
ATTACH;FMTTYPE=image/jpeg:https://aristaeusbrewing.com/wp-content/uploads/2024/11/sweet-breezy-bbq-at-aristaeus-brewing.jpg
GEO:40.71839;-73.989891
X-APPLE-STRUCTURED-LOCATION;VALUE=URI;X-ADDRESS=Aristaeus Craft Brewing Co. 2475C Big Oak Road Langhorne PA 19047 United States;X-APPLE-RADIUS=500;X-TITLE=2475C Big Oak Road:geo:-73.989891,40.71839
END:VEVENT
END:VCALENDAR