BEGIN:VCALENDAR
VERSION:2.0
PRODID:-//Aristaeus Craft Brewing Co. - ECPv6.15.20//NONSGML v1.0//EN
CALSCALE:GREGORIAN
METHOD:PUBLISH
X-WR-CALNAME:Aristaeus Craft Brewing Co.
X-ORIGINAL-URL:https://aristaeusbrewing.com
X-WR-CALDESC:Events for Aristaeus Craft Brewing Co.
REFRESH-INTERVAL;VALUE=DURATION:PT1H
X-Robots-Tag:noindex
X-PUBLISHED-TTL:PT1H
BEGIN:VTIMEZONE
TZID:America/New_York
BEGIN:DAYLIGHT
TZOFFSETFROM:-0500
TZOFFSETTO:-0400
TZNAME:EDT
DTSTART:20230312T070000
END:DAYLIGHT
BEGIN:STANDARD
TZOFFSETFROM:-0400
TZOFFSETTO:-0500
TZNAME:EST
DTSTART:20231105T060000
END:STANDARD
BEGIN:DAYLIGHT
TZOFFSETFROM:-0500
TZOFFSETTO:-0400
TZNAME:EDT
DTSTART:20240310T070000
END:DAYLIGHT
BEGIN:STANDARD
TZOFFSETFROM:-0400
TZOFFSETTO:-0500
TZNAME:EST
DTSTART:20241103T060000
END:STANDARD
BEGIN:DAYLIGHT
TZOFFSETFROM:-0500
TZOFFSETTO:-0400
TZNAME:EDT
DTSTART:20250309T070000
END:DAYLIGHT
BEGIN:STANDARD
TZOFFSETFROM:-0400
TZOFFSETTO:-0500
TZNAME:EST
DTSTART:20251102T060000
END:STANDARD
END:VTIMEZONE
BEGIN:VEVENT
DTSTART;TZID=America/New_York:20240601T130000
DTEND;TZID=America/New_York:20240601T210000
DTSTAMP:20260420T214819
CREATED:20240509T190013Z
LAST-MODIFIED:20240509T190013Z
UID:10000952-1717246800-1717275600@aristaeusbrewing.com
SUMMARY:Food Truck: El Sabor del Bajio
DESCRIPTION:
URL:https://aristaeusbrewing.com/event/food-truck-el-sabor-del-bajio-74/
LOCATION:Aristaeus Craft Brewing Co.\, 2475C Big Oak Road\, Langhorne\, PA\, 19047\, United States
CATEGORIES:Food Truck
ATTACH;FMTTYPE=image/jpeg:https://aristaeusbrewing.com/wp-content/uploads/2021/09/el-sabor-at-aristaeus-brewing-ec-1.jpg
GEO:40.71839;-73.989891
X-APPLE-STRUCTURED-LOCATION;VALUE=URI;X-ADDRESS=Aristaeus Craft Brewing Co. 2475C Big Oak Road Langhorne PA 19047 United States;X-APPLE-RADIUS=500;X-TITLE=2475C Big Oak Road:geo:-73.989891,40.71839
END:VEVENT
BEGIN:VEVENT
DTSTART;TZID=America/New_York:20240602T130000
DTEND;TZID=America/New_York:20240602T190000
DTSTAMP:20260420T214819
CREATED:20240529T133958Z
LAST-MODIFIED:20240529T133958Z
UID:10001011-1717333200-1717354800@aristaeusbrewing.com
SUMMARY:Food: Giovanni's Dillicious Pickles
DESCRIPTION:
URL:https://aristaeusbrewing.com/event/food-giovannis-dillicious-pickles/
LOCATION:Aristaeus Craft Brewing Co.\, 2475C Big Oak Road\, Langhorne\, PA\, 19047\, United States
CATEGORIES:Food Truck
ATTACH;FMTTYPE=image/jpeg:https://aristaeusbrewing.com/wp-content/uploads/2024/05/giovannis-dillicious-pickles-at-aristaeus-brewing.jpg
GEO:40.71839;-73.989891
X-APPLE-STRUCTURED-LOCATION;VALUE=URI;X-ADDRESS=Aristaeus Craft Brewing Co. 2475C Big Oak Road Langhorne PA 19047 United States;X-APPLE-RADIUS=500;X-TITLE=2475C Big Oak Road:geo:-73.989891,40.71839
END:VEVENT
BEGIN:VEVENT
DTSTART;TZID=America/New_York:20240605T160000
DTEND;TZID=America/New_York:20240605T210000
DTSTAMP:20260420T214819
CREATED:20240509T190040Z
LAST-MODIFIED:20240529T135824Z
UID:10000953-1717603200-1717621200@aristaeusbrewing.com
SUMMARY:Food Truck: Taco the Town Kitchen
DESCRIPTION:
URL:https://aristaeusbrewing.com/event/food-truck-taco-the-town-kitchen-17/
LOCATION:Aristaeus Craft Brewing Co.\, 2475C Big Oak Road\, Langhorne\, PA\, 19047\, United States
CATEGORIES:Food Truck
ATTACH;FMTTYPE=image/jpeg:https://aristaeusbrewing.com/wp-content/uploads/2024/05/taco-the-town-kitchen-at-aristaeus-1.jpg
GEO:40.71839;-73.989891
X-APPLE-STRUCTURED-LOCATION;VALUE=URI;X-ADDRESS=Aristaeus Craft Brewing Co. 2475C Big Oak Road Langhorne PA 19047 United States;X-APPLE-RADIUS=500;X-TITLE=2475C Big Oak Road:geo:-73.989891,40.71839
END:VEVENT
BEGIN:VEVENT
DTSTART;TZID=America/New_York:20240606T160000
DTEND;TZID=America/New_York:20240606T210000
DTSTAMP:20260420T214819
CREATED:20240509T190114Z
LAST-MODIFIED:20240509T190114Z
UID:10000954-1717689600-1717707600@aristaeusbrewing.com
SUMMARY:Food Truck: Lunchboxxx
DESCRIPTION:
URL:https://aristaeusbrewing.com/event/food-truck-lunchboxxx-54/
LOCATION:Aristaeus Craft Brewing Co.\, 2475C Big Oak Road\, Langhorne\, PA\, 19047\, United States
CATEGORIES:Food Truck
ATTACH;FMTTYPE=image/jpeg:https://aristaeusbrewing.com/wp-content/uploads/2024/02/lunchboxxx-at-aristaeus-brewing-2.jpg
GEO:40.71839;-73.989891
X-APPLE-STRUCTURED-LOCATION;VALUE=URI;X-ADDRESS=Aristaeus Craft Brewing Co. 2475C Big Oak Road Langhorne PA 19047 United States;X-APPLE-RADIUS=500;X-TITLE=2475C Big Oak Road:geo:-73.989891,40.71839
END:VEVENT
BEGIN:VEVENT
DTSTART;TZID=America/New_York:20240606T190000
DTEND;TZID=America/New_York:20240606T210000
DTSTAMP:20260420T214819
CREATED:20230426T130943Z
LAST-MODIFIED:20231228T195839Z
UID:10000636-1717700400-1717707600@aristaeusbrewing.com
SUMMARY:Trivia Night
DESCRIPTION:Weekly trivia competition with Quizmaster Brian.
URL:https://aristaeusbrewing.com/event/trivia-night-9/2024-06-06/
LOCATION:Aristaeus Craft Brewing Co.\, 2475C Big Oak Road\, Langhorne\, PA\, 19047\, United States
CATEGORIES:Events
GEO:40.71839;-73.989891
X-APPLE-STRUCTURED-LOCATION;VALUE=URI;X-ADDRESS=Aristaeus Craft Brewing Co. 2475C Big Oak Road Langhorne PA 19047 United States;X-APPLE-RADIUS=500;X-TITLE=2475C Big Oak Road:geo:-73.989891,40.71839
END:VEVENT
BEGIN:VEVENT
DTSTART;TZID=America/New_York:20240606T190000
DTEND;TZID=America/New_York:20240606T210000
DTSTAMP:20260420T214819
CREATED:20250103T143700Z
LAST-MODIFIED:20251223T175030Z
UID:10001247-1717700400-1717707600@aristaeusbrewing.com
SUMMARY:Trivia Night
DESCRIPTION:Weekly trivia competition with Quizmaster Brian.
URL:https://aristaeusbrewing.com/event/trivia-night-10/2024-06-06/
LOCATION:Aristaeus Craft Brewing Co.\, 2475C Big Oak Road\, Langhorne\, PA\, 19047\, United States
CATEGORIES:Events
ATTACH;FMTTYPE=image/jpeg:https://aristaeusbrewing.com/wp-content/uploads/2025/01/aristaeus-creaft-brewing-co-trivia-night1.jpg
GEO:40.71839;-73.989891
X-APPLE-STRUCTURED-LOCATION;VALUE=URI;X-ADDRESS=Aristaeus Craft Brewing Co. 2475C Big Oak Road Langhorne PA 19047 United States;X-APPLE-RADIUS=500;X-TITLE=2475C Big Oak Road:geo:-73.989891,40.71839
END:VEVENT
BEGIN:VEVENT
DTSTART;TZID=America/New_York:20240607T160000
DTEND;TZID=America/New_York:20240607T210000
DTSTAMP:20260420T214819
CREATED:20240509T190139Z
LAST-MODIFIED:20240529T135850Z
UID:10000955-1717776000-1717794000@aristaeusbrewing.com
SUMMARY:Food Truck: King Gyro
DESCRIPTION:
URL:https://aristaeusbrewing.com/event/food-truck-king-gyro-9/
LOCATION:Aristaeus Craft Brewing Co.\, 2475C Big Oak Road\, Langhorne\, PA\, 19047\, United States
CATEGORIES:Food Truck
ATTACH;FMTTYPE=image/jpeg:https://aristaeusbrewing.com/wp-content/uploads/2024/05/king-gyro-aristaeus-brewing.jpg
GEO:40.71839;-73.989891
X-APPLE-STRUCTURED-LOCATION;VALUE=URI;X-ADDRESS=Aristaeus Craft Brewing Co. 2475C Big Oak Road Langhorne PA 19047 United States;X-APPLE-RADIUS=500;X-TITLE=2475C Big Oak Road:geo:-73.989891,40.71839
END:VEVENT
BEGIN:VEVENT
DTSTART;TZID=America/New_York:20240607T190000
DTEND;TZID=America/New_York:20240607T220000
DTSTAMP:20260420T214819
CREATED:20240509T190203Z
LAST-MODIFIED:20240603T220457Z
UID:10000956-1717786800-1717797600@aristaeusbrewing.com
SUMMARY:Music: The J Duo
DESCRIPTION:
URL:https://aristaeusbrewing.com/event/music-the-j-duo-2/
LOCATION:Aristaeus Craft Brewing Co.\, 2475C Big Oak Road\, Langhorne\, PA\, 19047\, United States
CATEGORIES:Music
GEO:40.71839;-73.989891
X-APPLE-STRUCTURED-LOCATION;VALUE=URI;X-ADDRESS=Aristaeus Craft Brewing Co. 2475C Big Oak Road Langhorne PA 19047 United States;X-APPLE-RADIUS=500;X-TITLE=2475C Big Oak Road:geo:-73.989891,40.71839
END:VEVENT
BEGIN:VEVENT
DTSTART;TZID=America/New_York:20240608T130000
DTEND;TZID=America/New_York:20240608T200000
DTSTAMP:20260420T214819
CREATED:20240509T190251Z
LAST-MODIFIED:20240509T190251Z
UID:10000957-1717851600-1717876800@aristaeusbrewing.com
SUMMARY:Food Truck: Babalouie BBQ
DESCRIPTION:
URL:https://aristaeusbrewing.com/event/food-truck-babalouie-bbq-2/
LOCATION:Aristaeus Craft Brewing Co.\, 2475C Big Oak Road\, Langhorne\, PA\, 19047\, United States
CATEGORIES:Food Truck
ATTACH;FMTTYPE=image/jpeg:https://aristaeusbrewing.com/wp-content/uploads/2021/12/Babalouie-at-aristaeus-craft-brewing-co.jpg
GEO:40.71839;-73.989891
X-APPLE-STRUCTURED-LOCATION;VALUE=URI;X-ADDRESS=Aristaeus Craft Brewing Co. 2475C Big Oak Road Langhorne PA 19047 United States;X-APPLE-RADIUS=500;X-TITLE=2475C Big Oak Road:geo:-73.989891,40.71839
END:VEVENT
BEGIN:VEVENT
DTSTART;TZID=America/New_York:20240609T100000
DTEND;TZID=America/New_York:20240609T130000
DTSTAMP:20260420T214819
CREATED:20240509T191016Z
LAST-MODIFIED:20240528T144140Z
UID:10000961-1717927200-1717938000@aristaeusbrewing.com
SUMMARY:Horsham Farmers Market
DESCRIPTION:
URL:https://aristaeusbrewing.com/event/horsham-farmers-market/
LOCATION:Horsham Farmers Market\, 1025 Horsham Road\, Horsham\, PA\, United States
CATEGORIES:Off-Site Events
ATTACH;FMTTYPE=image/jpeg:https://aristaeusbrewing.com/wp-content/uploads/2024/05/aristaeus-at-horsham-farmers-market.jpg
END:VEVENT
BEGIN:VEVENT
DTSTART;TZID=America/New_York:20240609T130000
DTEND;TZID=America/New_York:20240609T190000
DTSTAMP:20260420T214819
CREATED:20240529T134020Z
LAST-MODIFIED:20240529T134020Z
UID:10001012-1717938000-1717959600@aristaeusbrewing.com
SUMMARY:Food: Giovanni's Dillicious Pickles
DESCRIPTION:
URL:https://aristaeusbrewing.com/event/food-giovannis-dillicious-pickles-2/
LOCATION:Aristaeus Craft Brewing Co.\, 2475C Big Oak Road\, Langhorne\, PA\, 19047\, United States
CATEGORIES:Food Truck
ATTACH;FMTTYPE=image/jpeg:https://aristaeusbrewing.com/wp-content/uploads/2024/05/giovannis-dillicious-pickles-at-aristaeus-brewing.jpg
GEO:40.71839;-73.989891
X-APPLE-STRUCTURED-LOCATION;VALUE=URI;X-ADDRESS=Aristaeus Craft Brewing Co. 2475C Big Oak Road Langhorne PA 19047 United States;X-APPLE-RADIUS=500;X-TITLE=2475C Big Oak Road:geo:-73.989891,40.71839
END:VEVENT
BEGIN:VEVENT
DTSTART;TZID=America/New_York:20240612T160000
DTEND;TZID=America/New_York:20240612T203000
DTSTAMP:20260420T214819
CREATED:20240509T191420Z
LAST-MODIFIED:20240509T191420Z
UID:10000966-1718208000-1718224200@aristaeusbrewing.com
SUMMARY:Food Truck: Thai It Up
DESCRIPTION:
URL:https://aristaeusbrewing.com/event/food-truck-thai-it-up-41/
LOCATION:Aristaeus Craft Brewing Co.\, 2475C Big Oak Road\, Langhorne\, PA\, 19047\, United States
CATEGORIES:Food Truck
ATTACH;FMTTYPE=image/jpeg:https://aristaeusbrewing.com/wp-content/uploads/2022/06/thai-it-up-aristaeus-craft-brewing-co.jpg
GEO:40.71839;-73.989891
X-APPLE-STRUCTURED-LOCATION;VALUE=URI;X-ADDRESS=Aristaeus Craft Brewing Co. 2475C Big Oak Road Langhorne PA 19047 United States;X-APPLE-RADIUS=500;X-TITLE=2475C Big Oak Road:geo:-73.989891,40.71839
END:VEVENT
BEGIN:VEVENT
DTSTART;TZID=America/New_York:20240613T170000
DTEND;TZID=America/New_York:20240613T200000
DTSTAMP:20260420T214819
CREATED:20240509T191505Z
LAST-MODIFIED:20240509T191505Z
UID:10000967-1718298000-1718308800@aristaeusbrewing.com
SUMMARY:Food Truck: The Flying Deutschman
DESCRIPTION:
URL:https://aristaeusbrewing.com/event/food-truck-the-flying-deutschman-10/
LOCATION:Aristaeus Craft Brewing Co.\, 2475C Big Oak Road\, Langhorne\, PA\, 19047\, United States
CATEGORIES:Food Truck
ATTACH;FMTTYPE=image/jpeg:https://aristaeusbrewing.com/wp-content/uploads/2022/04/the-flying-deutschman-at-aristaeus-craft-brewing-co.jpg
GEO:40.71839;-73.989891
X-APPLE-STRUCTURED-LOCATION;VALUE=URI;X-ADDRESS=Aristaeus Craft Brewing Co. 2475C Big Oak Road Langhorne PA 19047 United States;X-APPLE-RADIUS=500;X-TITLE=2475C Big Oak Road:geo:-73.989891,40.71839
END:VEVENT
BEGIN:VEVENT
DTSTART;TZID=America/New_York:20240613T190000
DTEND;TZID=America/New_York:20240613T210000
DTSTAMP:20260420T214819
CREATED:20230426T130943Z
LAST-MODIFIED:20231228T195839Z
UID:10000637-1718305200-1718312400@aristaeusbrewing.com
SUMMARY:Trivia Night
DESCRIPTION:Weekly trivia competition with Quizmaster Brian.
URL:https://aristaeusbrewing.com/event/trivia-night-9/2024-06-13/
LOCATION:Aristaeus Craft Brewing Co.\, 2475C Big Oak Road\, Langhorne\, PA\, 19047\, United States
CATEGORIES:Events
GEO:40.71839;-73.989891
X-APPLE-STRUCTURED-LOCATION;VALUE=URI;X-ADDRESS=Aristaeus Craft Brewing Co. 2475C Big Oak Road Langhorne PA 19047 United States;X-APPLE-RADIUS=500;X-TITLE=2475C Big Oak Road:geo:-73.989891,40.71839
END:VEVENT
BEGIN:VEVENT
DTSTART;TZID=America/New_York:20240613T190000
DTEND;TZID=America/New_York:20240613T210000
DTSTAMP:20260420T214819
CREATED:20250103T143700Z
LAST-MODIFIED:20251223T175030Z
UID:10001248-1718305200-1718312400@aristaeusbrewing.com
SUMMARY:Trivia Night
DESCRIPTION:Weekly trivia competition with Quizmaster Brian.
URL:https://aristaeusbrewing.com/event/trivia-night-10/2024-06-13/
LOCATION:Aristaeus Craft Brewing Co.\, 2475C Big Oak Road\, Langhorne\, PA\, 19047\, United States
CATEGORIES:Events
ATTACH;FMTTYPE=image/jpeg:https://aristaeusbrewing.com/wp-content/uploads/2025/01/aristaeus-creaft-brewing-co-trivia-night1.jpg
GEO:40.71839;-73.989891
X-APPLE-STRUCTURED-LOCATION;VALUE=URI;X-ADDRESS=Aristaeus Craft Brewing Co. 2475C Big Oak Road Langhorne PA 19047 United States;X-APPLE-RADIUS=500;X-TITLE=2475C Big Oak Road:geo:-73.989891,40.71839
END:VEVENT
BEGIN:VEVENT
DTSTART;TZID=America/New_York:20240614T160000
DTEND;TZID=America/New_York:20240614T210000
DTSTAMP:20260420T214819
CREATED:20240610T153102Z
LAST-MODIFIED:20240610T153102Z
UID:10001029-1718380800-1718398800@aristaeusbrewing.com
SUMMARY:Food Truck: Taco the Town Kitchen
DESCRIPTION:
URL:https://aristaeusbrewing.com/event/food-truck-taco-the-town-kitchen-22/
LOCATION:Aristaeus Craft Brewing Co.\, 2475C Big Oak Road\, Langhorne\, PA\, 19047\, United States
CATEGORIES:Food Truck
ATTACH;FMTTYPE=image/jpeg:https://aristaeusbrewing.com/wp-content/uploads/2024/05/taco-the-town-kitchen-at-aristaeus-1.jpg
GEO:40.71839;-73.989891
X-APPLE-STRUCTURED-LOCATION;VALUE=URI;X-ADDRESS=Aristaeus Craft Brewing Co. 2475C Big Oak Road Langhorne PA 19047 United States;X-APPLE-RADIUS=500;X-TITLE=2475C Big Oak Road:geo:-73.989891,40.71839
END:VEVENT
BEGIN:VEVENT
DTSTART;TZID=America/New_York:20240615T090000
DTEND;TZID=America/New_York:20240615T120000
DTSTAMP:20260420T214819
CREATED:20240509T191123Z
LAST-MODIFIED:20240528T144110Z
UID:10000963-1718442000-1718452800@aristaeusbrewing.com
SUMMARY:Wrightstown Farmers Market
DESCRIPTION:
URL:https://aristaeusbrewing.com/event/wrightstown-farmers-market-14/
LOCATION:Middletown Grange\, 576 Penns Park Road\, Newtown\, PA\, 18940\, United States
CATEGORIES:Off-Site Events
ATTACH;FMTTYPE=image/jpeg:https://aristaeusbrewing.com/wp-content/uploads/2024/05/aristaeus-at-wrightstown-farmers-market.jpg
END:VEVENT
BEGIN:VEVENT
DTSTART;TZID=America/New_York:20240615T130000
DTEND;TZID=America/New_York:20240615T210000
DTSTAMP:20260420T214819
CREATED:20240509T191738Z
LAST-MODIFIED:20240509T191738Z
UID:10000970-1718456400-1718485200@aristaeusbrewing.com
SUMMARY:Food Truck: Daddy's Kitchen
DESCRIPTION:
URL:https://aristaeusbrewing.com/event/food-truck-daddys-kitchen-37/
LOCATION:Aristaeus Craft Brewing Co.\, 2475C Big Oak Road\, Langhorne\, PA\, 19047\, United States
CATEGORIES:Food Truck
ATTACH;FMTTYPE=image/jpeg:https://aristaeusbrewing.com/wp-content/uploads/2022/12/daddys-kitchen-aristaeus-brewing.jpg
GEO:40.71839;-73.989891
X-APPLE-STRUCTURED-LOCATION;VALUE=URI;X-ADDRESS=Aristaeus Craft Brewing Co. 2475C Big Oak Road Langhorne PA 19047 United States;X-APPLE-RADIUS=500;X-TITLE=2475C Big Oak Road:geo:-73.989891,40.71839
END:VEVENT
BEGIN:VEVENT
DTSTART;TZID=America/New_York:20240615T150000
DTEND;TZID=America/New_York:20240615T190000
DTSTAMP:20260420T214819
CREATED:20240509T190723Z
LAST-MODIFIED:20240510T131348Z
UID:10000959-1718463600-1718478000@aristaeusbrewing.com
SUMMARY:Aristaeus at Langhorne Borough Annual Car Show
DESCRIPTION:
URL:https://aristaeusbrewing.com/event/aristaeus-at-langhorne-borough-annual-car-show/
LOCATION:Langhorne Borough\, 115 W Richardson Ave.\, Langhorne\, PA\, 19047\, United States
CATEGORIES:Off-Site Events
END:VEVENT
BEGIN:VEVENT
DTSTART;TZID=America/New_York:20240615T190000
DTEND;TZID=America/New_York:20240615T220000
DTSTAMP:20260420T214820
CREATED:20240509T191807Z
LAST-MODIFIED:20240509T191807Z
UID:10000971-1718478000-1718488800@aristaeusbrewing.com
SUMMARY:Music: Far Away Guys
DESCRIPTION:
URL:https://aristaeusbrewing.com/event/music-far-away-guys-4/
LOCATION:Aristaeus Craft Brewing Co.\, 2475C Big Oak Road\, Langhorne\, PA\, 19047\, United States
CATEGORIES:Music
ATTACH;FMTTYPE=image/jpeg:https://aristaeusbrewing.com/wp-content/uploads/2022/03/faraway-guys-at-aristaeus-brewing.jpg
GEO:40.71839;-73.989891
X-APPLE-STRUCTURED-LOCATION;VALUE=URI;X-ADDRESS=Aristaeus Craft Brewing Co. 2475C Big Oak Road Langhorne PA 19047 United States;X-APPLE-RADIUS=500;X-TITLE=2475C Big Oak Road:geo:-73.989891,40.71839
END:VEVENT
BEGIN:VEVENT
DTSTART;TZID=America/New_York:20240616T150000
DTEND;TZID=America/New_York:20240616T180000
DTSTAMP:20260420T214820
CREATED:20240528T205251Z
LAST-MODIFIED:20240528T205251Z
UID:10001010-1718550000-1718560800@aristaeusbrewing.com
SUMMARY:Music: Jonathn Ashe
DESCRIPTION:
URL:https://aristaeusbrewing.com/event/music-jonathn-ashe-15/
LOCATION:Aristaeus Craft Brewing Co.\, 2475C Big Oak Road\, Langhorne\, PA\, 19047\, United States
CATEGORIES:Music
ATTACH;FMTTYPE=image/jpeg:https://aristaeusbrewing.com/wp-content/uploads/2022/03/jonathn-ashe-at-aristaeus-brewing.jpg
GEO:40.71839;-73.989891
X-APPLE-STRUCTURED-LOCATION;VALUE=URI;X-ADDRESS=Aristaeus Craft Brewing Co. 2475C Big Oak Road Langhorne PA 19047 United States;X-APPLE-RADIUS=500;X-TITLE=2475C Big Oak Road:geo:-73.989891,40.71839
END:VEVENT
BEGIN:VEVENT
DTSTART;TZID=America/New_York:20240619T163000
DTEND;TZID=America/New_York:20240619T203000
DTSTAMP:20260420T214820
CREATED:20240618T180313Z
LAST-MODIFIED:20240618T180313Z
UID:10001061-1718814600-1718829000@aristaeusbrewing.com
SUMMARY:Food Truck: Thai It Up
DESCRIPTION:
URL:https://aristaeusbrewing.com/event/food-truck-thai-it-up-47/
LOCATION:Aristaeus Craft Brewing Co.\, 2475C Big Oak Road\, Langhorne\, PA\, 19047\, United States
CATEGORIES:Food Truck
ATTACH;FMTTYPE=image/jpeg:https://aristaeusbrewing.com/wp-content/uploads/2022/06/thai-it-up-aristaeus-craft-brewing-co.jpg
GEO:40.71839;-73.989891
X-APPLE-STRUCTURED-LOCATION;VALUE=URI;X-ADDRESS=Aristaeus Craft Brewing Co. 2475C Big Oak Road Langhorne PA 19047 United States;X-APPLE-RADIUS=500;X-TITLE=2475C Big Oak Road:geo:-73.989891,40.71839
END:VEVENT
BEGIN:VEVENT
DTSTART;TZID=America/New_York:20240619T180000
DTEND;TZID=America/New_York:20240619T200000
DTSTAMP:20260420T214820
CREATED:20240607T200634Z
LAST-MODIFIED:20240607T200634Z
UID:10001028-1718820000-1718827200@aristaeusbrewing.com
SUMMARY:Vinyl Listening Party and Pop-Up
DESCRIPTION:Grab a craft beer and dig through our bins while listening to some classic records! \nMoonrocket Records is hosting a vinyl listening party at Aristaeus Brewing. Enjoy craft beers and classic vinyl. Learn about the records you’re hearing and search the value bin for sentimental treasures. Records will be for sale as well as your favorite Aristaeus brews! Let’s boogie! \n6pm\, NO COVER! \nEvent Details on Facebook
URL:https://aristaeusbrewing.com/event/vinyl-listening-party-and-pop-up-2/
LOCATION:Aristaeus Craft Brewing Co.\, 2475C Big Oak Road\, Langhorne\, PA\, 19047\, United States
CATEGORIES:Events
ATTACH;FMTTYPE=image/jpeg:https://aristaeusbrewing.com/wp-content/uploads/2024/06/447956071_871099818367146_7991625828836503615_n.jpg
GEO:40.71839;-73.989891
X-APPLE-STRUCTURED-LOCATION;VALUE=URI;X-ADDRESS=Aristaeus Craft Brewing Co. 2475C Big Oak Road Langhorne PA 19047 United States;X-APPLE-RADIUS=500;X-TITLE=2475C Big Oak Road:geo:-73.989891,40.71839
END:VEVENT
BEGIN:VEVENT
DTSTART;TZID=America/New_York:20240619T180000
DTEND;TZID=America/New_York:20240619T210000
DTSTAMP:20260420T214820
CREATED:20240603T183027Z
LAST-MODIFIED:20240607T195047Z
UID:10001014-1718820000-1718830800@aristaeusbrewing.com
SUMMARY:Cornhole League at Charlann Farms
DESCRIPTION:Come out to Charlann Farms on Wednesday nights from June 19 through August 7 (except 7/3) to watch the summer cornhole league sponsored by Aristaeus Craft Brewing Co. and enjoy ice cold beers!
URL:https://aristaeusbrewing.com/event/cornhole-league-at-charlann-farms/
LOCATION:Charlann Farms\, 586 Stony Hill Road\, Yardley\, PA\, 19067\, United States
CATEGORIES:Off-Site Events
END:VEVENT
BEGIN:VEVENT
DTSTART;TZID=America/New_York:20240620T160000
DTEND;TZID=America/New_York:20240620T210000
DTSTAMP:20260420T214820
CREATED:20240509T191913Z
LAST-MODIFIED:20240529T135931Z
UID:10000973-1718899200-1718917200@aristaeusbrewing.com
SUMMARY:Food Truck: Spuddy Buddy Fry Factory
DESCRIPTION:
URL:https://aristaeusbrewing.com/event/food-truck-spuddy-buddy-fry-factory/
LOCATION:Aristaeus Craft Brewing Co.\, 2475C Big Oak Road\, Langhorne\, PA\, 19047\, United States
CATEGORIES:Food Truck
ATTACH;FMTTYPE=image/jpeg:https://aristaeusbrewing.com/wp-content/uploads/2024/05/spuddy-buddy-fry-factory-at-aristaeus-brewing.jpg
GEO:40.71839;-73.989891
X-APPLE-STRUCTURED-LOCATION;VALUE=URI;X-ADDRESS=Aristaeus Craft Brewing Co. 2475C Big Oak Road Langhorne PA 19047 United States;X-APPLE-RADIUS=500;X-TITLE=2475C Big Oak Road:geo:-73.989891,40.71839
END:VEVENT
BEGIN:VEVENT
DTSTART;TZID=America/New_York:20240620T190000
DTEND;TZID=America/New_York:20240620T210000
DTSTAMP:20260420T214820
CREATED:20230426T130943Z
LAST-MODIFIED:20231228T195839Z
UID:10000638-1718910000-1718917200@aristaeusbrewing.com
SUMMARY:Trivia Night
DESCRIPTION:Weekly trivia competition with Quizmaster Brian.
URL:https://aristaeusbrewing.com/event/trivia-night-9/2024-06-20/
LOCATION:Aristaeus Craft Brewing Co.\, 2475C Big Oak Road\, Langhorne\, PA\, 19047\, United States
CATEGORIES:Events
GEO:40.71839;-73.989891
X-APPLE-STRUCTURED-LOCATION;VALUE=URI;X-ADDRESS=Aristaeus Craft Brewing Co. 2475C Big Oak Road Langhorne PA 19047 United States;X-APPLE-RADIUS=500;X-TITLE=2475C Big Oak Road:geo:-73.989891,40.71839
END:VEVENT
BEGIN:VEVENT
DTSTART;TZID=America/New_York:20240620T190000
DTEND;TZID=America/New_York:20240620T210000
DTSTAMP:20260420T214820
CREATED:20250103T143700Z
LAST-MODIFIED:20251223T175030Z
UID:10001249-1718910000-1718917200@aristaeusbrewing.com
SUMMARY:Trivia Night
DESCRIPTION:Weekly trivia competition with Quizmaster Brian.
URL:https://aristaeusbrewing.com/event/trivia-night-10/2024-06-20/
LOCATION:Aristaeus Craft Brewing Co.\, 2475C Big Oak Road\, Langhorne\, PA\, 19047\, United States
CATEGORIES:Events
ATTACH;FMTTYPE=image/jpeg:https://aristaeusbrewing.com/wp-content/uploads/2025/01/aristaeus-creaft-brewing-co-trivia-night1.jpg
GEO:40.71839;-73.989891
X-APPLE-STRUCTURED-LOCATION;VALUE=URI;X-ADDRESS=Aristaeus Craft Brewing Co. 2475C Big Oak Road Langhorne PA 19047 United States;X-APPLE-RADIUS=500;X-TITLE=2475C Big Oak Road:geo:-73.989891,40.71839
END:VEVENT
BEGIN:VEVENT
DTSTART;TZID=America/New_York:20240621T160000
DTEND;TZID=America/New_York:20240621T210000
DTSTAMP:20260420T214820
CREATED:20240509T192006Z
LAST-MODIFIED:20240529T135941Z
UID:10000974-1718985600-1719003600@aristaeusbrewing.com
SUMMARY:Food Truck: Brooklyn's Famous Pizza
DESCRIPTION:
URL:https://aristaeusbrewing.com/event/food-truck-brooklyns-famous-pizza-8/
LOCATION:Aristaeus Craft Brewing Co.\, 2475C Big Oak Road\, Langhorne\, PA\, 19047\, United States
CATEGORIES:Food Truck
ATTACH;FMTTYPE=image/jpeg:https://aristaeusbrewing.com/wp-content/uploads/2024/04/food-truck-brooklyns-famous-pizza.jpg
GEO:40.71839;-73.989891
X-APPLE-STRUCTURED-LOCATION;VALUE=URI;X-ADDRESS=Aristaeus Craft Brewing Co. 2475C Big Oak Road Langhorne PA 19047 United States;X-APPLE-RADIUS=500;X-TITLE=2475C Big Oak Road:geo:-73.989891,40.71839
END:VEVENT
BEGIN:VEVENT
DTSTART;TZID=America/New_York:20240621T190000
DTEND;TZID=America/New_York:20240621T220000
DTSTAMP:20260420T214820
CREATED:20240509T192022Z
LAST-MODIFIED:20240509T192022Z
UID:10000975-1718996400-1719007200@aristaeusbrewing.com
SUMMARY:Music: Bill Thomas
DESCRIPTION:
URL:https://aristaeusbrewing.com/event/music-bill-thomas-19/
LOCATION:Aristaeus Craft Brewing Co.\, 2475C Big Oak Road\, Langhorne\, PA\, 19047\, United States
CATEGORIES:Music
GEO:40.71839;-73.989891
X-APPLE-STRUCTURED-LOCATION;VALUE=URI;X-ADDRESS=Aristaeus Craft Brewing Co. 2475C Big Oak Road Langhorne PA 19047 United States;X-APPLE-RADIUS=500;X-TITLE=2475C Big Oak Road:geo:-73.989891,40.71839
END:VEVENT
BEGIN:VEVENT
DTSTART;TZID=America/New_York:20240622T130000
DTEND;TZID=America/New_York:20240622T230000
DTSTAMP:20260420T214820
CREATED:20240509T192118Z
LAST-MODIFIED:20240621T233650Z
UID:10000976-1719061200-1719097200@aristaeusbrewing.com
SUMMARY:Aristaeus 3rd Anniversary Celebration
DESCRIPTION:Join the Event on Facebook! \n🥳 Time to Party! Join us as we celebrate our 3rd anniversary on Saturday 6/22! \n😋 Food: we’ll have 2 trucks for the party – Wings on Wheels AND Bad Mother Shuckers! Giovanni’s Dillicious Pickles will also be here with pickle samples and jars available for purchase. \n🎼 Music: a fantastic lineup of artists performing outside on the patio! Justin Love (2-3pm)\, Wailbone (4-5pm)\, Beth Arnold Gilbert (6-7pm)\, and Low Totem (8-10pm) \n🍺 Beer: We will be serving 23 of our most delicious hand crafted beers on draft and in cans all day long. Check the lineup here! \n🥃 Cocktails/Wine: Plenty of wine\, whiskey and cocktail options – including frozen pina coladas and orange dream slushies – to choose from. \n🎟 Tickets: NO TICKETS NEEDED! Stay for the whole event\, drop in for a bit\, or come and go as you please all day! \n☀️ The party is OUTSIDE! We’ll have tents for shade\, misting fans for cooling off\, and plenty of water stations for hydration. The indoor taproom is closed (except for the restrooms) and there will be no bar or indoor table service. \n🍻 Ordering: The best and fastest way to order is to pick a table and open your tab via the QR code. You can order whenever and wherever you want\, and we will deliver your drinks to you. Want to change tables? No problem\, scan the code at the new table when you order and your drinks will follow you there. No tabs can be opened at the bar. If you prefer to order and pay with cash instead of using the QR code\, please go to the end of the bar (look for the big “ORDER HERE” sign on the wall) to order and pay. \n🚗🚌 Parking: **NO PARKING OR DROP-OFFS AT THE BREWERY!**\nWe are partnering with Styer Orchard again to borrow their field for parking. Head there and follow the signs\, then hop on the shuttle bus for a quick ride to the brewery! \n\nYou MUST park in the designated field at Styer Orchard and then use the shuttle to get to the brewery. The shuttle will run for the entire duration of the party.\nIf you arrive at the brewery in your own vehicle\, the staff at the entrance to the parking lot will remind you that the lot is closed and direct you to Styer’s.\nIf you arrive at the brewery in an Uber/Lyft\, the staff will direct your driver down the street to Styer’s for your drop off. And\, we’ll give you half off your first 2 drinks when you show us the receipt in the app.\nIf you arrive at the brewery and try to name drop (“but the owner said I could park here…”)\, the staff will direct you to park at Styer’s.\nIf you require a handicap parking space and have your official placard\, staff will direct you to one of the limited handicap parking spaces we have available at the brewery.\n\nClosing the parking lot is the only way to accommodate everyone who wants to celebrate with us. Please respect this and park at Styer’s
URL:https://aristaeusbrewing.com/event/aristaeus-3rd-anniversary-celebration/
LOCATION:Aristaeus Craft Brewing Co.\, 2475C Big Oak Road\, Langhorne\, PA\, 19047\, United States
CATEGORIES:Events
ATTACH;FMTTYPE=image/jpeg:https://aristaeusbrewing.com/wp-content/uploads/2024/05/2024-collage-website-scaled.jpg
GEO:40.71839;-73.989891
X-APPLE-STRUCTURED-LOCATION;VALUE=URI;X-ADDRESS=Aristaeus Craft Brewing Co. 2475C Big Oak Road Langhorne PA 19047 United States;X-APPLE-RADIUS=500;X-TITLE=2475C Big Oak Road:geo:-73.989891,40.71839
END:VEVENT
END:VCALENDAR