BEGIN:VCALENDAR
VERSION:2.0
PRODID:-//Aristaeus Craft Brewing Co. - ECPv6.15.20//NONSGML v1.0//EN
CALSCALE:GREGORIAN
METHOD:PUBLISH
X-ORIGINAL-URL:https://aristaeusbrewing.com
X-WR-CALDESC:Events for Aristaeus Craft Brewing Co.
REFRESH-INTERVAL;VALUE=DURATION:PT1H
X-Robots-Tag:noindex
X-PUBLISHED-TTL:PT1H
BEGIN:VTIMEZONE
TZID:America/New_York
BEGIN:DAYLIGHT
TZOFFSETFROM:-0500
TZOFFSETTO:-0400
TZNAME:EDT
DTSTART:20240310T070000
END:DAYLIGHT
BEGIN:STANDARD
TZOFFSETFROM:-0400
TZOFFSETTO:-0500
TZNAME:EST
DTSTART:20241103T060000
END:STANDARD
BEGIN:DAYLIGHT
TZOFFSETFROM:-0500
TZOFFSETTO:-0400
TZNAME:EDT
DTSTART:20250309T070000
END:DAYLIGHT
BEGIN:STANDARD
TZOFFSETFROM:-0400
TZOFFSETTO:-0500
TZNAME:EST
DTSTART:20251102T060000
END:STANDARD
BEGIN:DAYLIGHT
TZOFFSETFROM:-0500
TZOFFSETTO:-0400
TZNAME:EDT
DTSTART:20260308T070000
END:DAYLIGHT
BEGIN:STANDARD
TZOFFSETFROM:-0400
TZOFFSETTO:-0500
TZNAME:EST
DTSTART:20261101T060000
END:STANDARD
BEGIN:DAYLIGHT
TZOFFSETFROM:-0500
TZOFFSETTO:-0400
TZNAME:EDT
DTSTART:20270314T070000
END:DAYLIGHT
BEGIN:STANDARD
TZOFFSETFROM:-0400
TZOFFSETTO:-0500
TZNAME:EST
DTSTART:20271107T060000
END:STANDARD
END:VTIMEZONE
BEGIN:VEVENT
DTSTART;TZID=America/New_York:20251205T180000
DTEND;TZID=America/New_York:20251205T210000
DTSTAMP:20260423T064808
CREATED:20251022T223426Z
LAST-MODIFIED:20251022T223426Z
UID:10001654-1764957600-1764968400@aristaeusbrewing.com
SUMMARY:Aristaeus at Dickens Night
DESCRIPTION:
URL:https://aristaeusbrewing.com/event/aristaeus-at-dickens-night-2/
LOCATION:Langhorne Borough\, 115 W Richardson Ave.\, Langhorne\, PA\, 19047\, United States
CATEGORIES:Off-Site Events
END:VEVENT
BEGIN:VEVENT
DTSTART;TZID=America/New_York:20251206T160000
DTEND;TZID=America/New_York:20251206T210000
DTSTAMP:20260423T064808
CREATED:20251022T223808Z
LAST-MODIFIED:20251022T223808Z
UID:10001656-1765036800-1765054800@aristaeusbrewing.com
SUMMARY:Hatboro Sip and Shop
DESCRIPTION:Check out the event details on Facebook.
URL:https://aristaeusbrewing.com/event/hatboro-sip-and-shop-2/
LOCATION:Pennypack Community Center and Park\, 130 Spring Ave\, Hatboro\, PA\, 19040\, United States
CATEGORIES:Off-Site Events
END:VEVENT
BEGIN:VEVENT
DTSTART;TZID=America/New_York:20251211T173000
DTEND;TZID=America/New_York:20251211T203000
DTSTAMP:20260423T064808
CREATED:20251022T223523Z
LAST-MODIFIED:20251022T223523Z
UID:10001655-1765474200-1765485000@aristaeusbrewing.com
SUMMARY:Aristaeus at Middletown Township Holiday Open House
DESCRIPTION:
URL:https://aristaeusbrewing.com/event/aristaeus-at-middletown-township-holiday-open-house-3/
LOCATION:Middletown Township Municipal Building\, 5 Municipal Way\, Langhorne\, PA\, 19047\, United States
CATEGORIES:Off-Site Events
END:VEVENT
BEGIN:VEVENT
DTSTART;TZID=America/New_York:20260124T113000
DTEND;TZID=America/New_York:20260124T210000
DTSTAMP:20260423T064808
CREATED:20260119T185228Z
LAST-MODIFIED:20260119T185259Z
UID:10001761-1769254200-1769288400@aristaeusbrewing.com
SUMMARY:Philly Chocolate\, Wine & Whiskey Festival
DESCRIPTION:We’ll be selling a BRAND NEW beer at the Philly Chocolate\, Wine & Whiskey Festival. \nGet tickets: https://www.eventbrite.com/e/philly-chocolate-wine-whiskey-festival-2026-tickets-1288242751749
URL:https://aristaeusbrewing.com/event/philly-chocolate-wine-whiskey-festival/
LOCATION:PA
CATEGORIES:Events,Off-Site Events
ATTACH;FMTTYPE=image/jpeg:https://aristaeusbrewing.com/wp-content/uploads/2026/01/2026-01-choc-wine-whiskey.jpg
END:VEVENT
BEGIN:VEVENT
DTSTART;TZID=America/New_York:20260502T090000
DTEND;TZID=America/New_York:20260502T120000
DTSTAMP:20260423T064808
CREATED:20260408T222741Z
LAST-MODIFIED:20260408T222741Z
UID:10001824-1777712400-1777723200@aristaeusbrewing.com
SUMMARY:Wrightstown Farmers Market
DESCRIPTION:
URL:https://aristaeusbrewing.com/event/wrightstown-farmers-market-40/
LOCATION:Middletown Grange\, 576 Penns Park Road\, Newtown\, PA\, 18940\, United States
CATEGORIES:Off-Site Events
ATTACH;FMTTYPE=image/jpeg:https://aristaeusbrewing.com/wp-content/uploads/2024/05/aristaeus-at-wrightstown-farmers-market.jpg
END:VEVENT
BEGIN:VEVENT
DTSTART;TZID=America/New_York:20260517T100000
DTEND;TZID=America/New_York:20260517T130000
DTSTAMP:20260423T064808
CREATED:20260408T222730Z
LAST-MODIFIED:20260408T222730Z
UID:10001825-1779012000-1779022800@aristaeusbrewing.com
SUMMARY:Horsham Farmers Market
DESCRIPTION:
URL:https://aristaeusbrewing.com/event/horsham-farmers-market-32/
LOCATION:Horsham Farmers Market\, 1025 Horsham Road\, Horsham\, PA\, United States
CATEGORIES:Off-Site Events
ATTACH;FMTTYPE=image/jpeg:https://aristaeusbrewing.com/wp-content/uploads/2024/05/aristaeus-at-horsham-farmers-market.jpg
END:VEVENT
BEGIN:VEVENT
DTSTART;TZID=America/New_York:20260530T110000
DTEND;TZID=America/New_York:20260530T160000
DTSTAMP:20260423T064808
CREATED:20260408T224022Z
LAST-MODIFIED:20260408T224052Z
UID:10001830-1780138800-1780156800@aristaeusbrewing.com
SUMMARY:Aristaeus at Conwell Egan Food Truck Festival
DESCRIPTION:Event Details on Facebook
URL:https://aristaeusbrewing.com/event/aristaeus-at-conwell-egan-food-truck-festival-3/
LOCATION:Conwell Egan Catholic High School\, 611 Wistar Rd\, Fairless Hills\, PA\, 19030
CATEGORIES:Off-Site Events
ATTACH;FMTTYPE=image/jpeg:https://aristaeusbrewing.com/wp-content/uploads/2026/04/cec-food-truck.jpg
END:VEVENT
END:VCALENDAR