BEGIN:VCALENDAR
VERSION:2.0
PRODID:-//Aristaeus Craft Brewing Co. - ECPv6.15.20//NONSGML v1.0//EN
CALSCALE:GREGORIAN
METHOD:PUBLISH
X-ORIGINAL-URL:https://aristaeusbrewing.com
X-WR-CALDESC:Events for Aristaeus Craft Brewing Co.
REFRESH-INTERVAL;VALUE=DURATION:PT1H
X-Robots-Tag:noindex
X-PUBLISHED-TTL:PT1H
BEGIN:VTIMEZONE
TZID:America/New_York
BEGIN:DAYLIGHT
TZOFFSETFROM:-0500
TZOFFSETTO:-0400
TZNAME:EDT
DTSTART:20230312T070000
END:DAYLIGHT
BEGIN:STANDARD
TZOFFSETFROM:-0400
TZOFFSETTO:-0500
TZNAME:EST
DTSTART:20231105T060000
END:STANDARD
BEGIN:DAYLIGHT
TZOFFSETFROM:-0500
TZOFFSETTO:-0400
TZNAME:EDT
DTSTART:20240310T070000
END:DAYLIGHT
BEGIN:STANDARD
TZOFFSETFROM:-0400
TZOFFSETTO:-0500
TZNAME:EST
DTSTART:20241103T060000
END:STANDARD
BEGIN:DAYLIGHT
TZOFFSETFROM:-0500
TZOFFSETTO:-0400
TZNAME:EDT
DTSTART:20250309T070000
END:DAYLIGHT
BEGIN:STANDARD
TZOFFSETFROM:-0400
TZOFFSETTO:-0500
TZNAME:EST
DTSTART:20251102T060000
END:STANDARD
BEGIN:DAYLIGHT
TZOFFSETFROM:-0500
TZOFFSETTO:-0400
TZNAME:EDT
DTSTART:20260308T070000
END:DAYLIGHT
BEGIN:STANDARD
TZOFFSETFROM:-0400
TZOFFSETTO:-0500
TZNAME:EST
DTSTART:20261101T060000
END:STANDARD
END:VTIMEZONE
BEGIN:VEVENT
DTSTART;TZID=America/New_York:20240922T100000
DTEND;TZID=America/New_York:20240922T130000
DTSTAMP:20260424T035703
CREATED:20240711T193535Z
LAST-MODIFIED:20240711T193535Z
UID:10001084-1726999200-1727010000@aristaeusbrewing.com
SUMMARY:Horsham Farmers Market
DESCRIPTION:
URL:https://aristaeusbrewing.com/event/horsham-farmers-market-8/
LOCATION:Aristaeus Craft Brewing Co.\, 2475C Big Oak Road\, Langhorne\, PA\, 19047\, United States
CATEGORIES:Off-Site Events
ATTACH;FMTTYPE=image/jpeg:https://aristaeusbrewing.com/wp-content/uploads/2024/05/aristaeus-at-horsham-farmers-market.jpg
GEO:40.71839;-73.989891
X-APPLE-STRUCTURED-LOCATION;VALUE=URI;X-ADDRESS=Aristaeus Craft Brewing Co. 2475C Big Oak Road Langhorne PA 19047 United States;X-APPLE-RADIUS=500;X-TITLE=2475C Big Oak Road:geo:-73.989891,40.71839
END:VEVENT
BEGIN:VEVENT
DTSTART;TZID=America/New_York:20240928T120000
DTEND;TZID=America/New_York:20240928T170000
DTSTAMP:20260424T035703
CREATED:20240920T144744Z
LAST-MODIFIED:20240920T144744Z
UID:10001133-1727524800-1727542800@aristaeusbrewing.com
SUMMARY:Groovin' at the Gates
DESCRIPTION:Join us for a day of fun and festivities at Groovin’ at the Gates – a community event you won’t want to miss! We’ll be pouring pints of beer in the Beer Garden! \nEvent details on Facebook.
URL:https://aristaeusbrewing.com/event/groovin-at-the-gates/
LOCATION:Forsythia Crossing Park\, Levittown\, PA\, United States
CATEGORIES:Off-Site Events
ATTACH;FMTTYPE=image/jpeg:https://aristaeusbrewing.com/wp-content/uploads/2024/09/groovin-at-the-gates.jpg
END:VEVENT
BEGIN:VEVENT
DTSTART;TZID=America/New_York:20240929T100000
DTEND;TZID=America/New_York:20240929T170000
DTSTAMP:20260424T035703
CREATED:20240920T145138Z
LAST-MODIFIED:20240920T145302Z
UID:10001134-1727604000-1727629200@aristaeusbrewing.com
SUMMARY:Charlann Farms Fall Festival
DESCRIPTION:We’ll be pouring pints of beer at the Charlann Farms Fall Festival! \nEvent details on Facebook.
URL:https://aristaeusbrewing.com/event/charlann-farms-fall-festival/
LOCATION:Charlann Farms\, 586 Stony Hill Road\, Yardley\, PA\, 19067\, United States
CATEGORIES:Off-Site Events
END:VEVENT
BEGIN:VEVENT
DTSTART;TZID=America/New_York:20241004T190000
DTEND;TZID=America/New_York:20241004T220000
DTSTAMP:20260424T035704
CREATED:20240920T150222Z
LAST-MODIFIED:20240920T150222Z
UID:10001136-1728068400-1728079200@aristaeusbrewing.com
SUMMARY:No Hope After Dark
DESCRIPTION:Step into a realm of fun and thrilling activities this year with a spectacularly revamped Halloween excursion\, “No Hope After Dark.” \nThe train will depart from New Hope to the festival at the unknown\, where you will venture through our brand-new haunted maze\, where live actors lurk around every twisted turn. But fear not! The night isn’t solely about screams and shivers. Many nights beckon with food trucks offering a delicious escape from the fright and live music casting enchanting tunes under the moonlit sky\, bringing a lively respite for the brave at heart. \nSo\, what are you waiting for? Let the eerie allure of “No Hope After Dark” summon you to a festival bustling with ghastly glee and whimsical fright. It’s a hauntingly delightful invitation to a Halloween festival like none other! Grab your bravest companions\, and unearth the ghostly fun awaiting every mysterious twist and haunting turn. Your journey into the delightful unknown is but a ticket away! \nBUY TICKETS NOW
URL:https://aristaeusbrewing.com/event/no-hope-after-dark/2024-10-04/
LOCATION:New Hope Train Station\, 32 West Bridge Street\, New Hope\, PA\, 18938\, United States
CATEGORIES:Off-Site Events
ATTACH;FMTTYPE=image/jpeg:https://aristaeusbrewing.com/wp-content/uploads/2024/09/no-hope-after-dark.jpg
END:VEVENT
BEGIN:VEVENT
DTSTART;TZID=America/New_York:20241005T090000
DTEND;TZID=America/New_York:20241005T120000
DTSTAMP:20260424T035704
CREATED:20240823T162424Z
LAST-MODIFIED:20240823T163041Z
UID:10001109-1728118800-1728129600@aristaeusbrewing.com
SUMMARY:Wrightstown Farmers Market
DESCRIPTION:
URL:https://aristaeusbrewing.com/event/wrightstown-farmers-market-22/
LOCATION:Middletown Grange\, 576 Penns Park Road\, Newtown\, PA\, 18940\, United States
CATEGORIES:Off-Site Events
ATTACH;FMTTYPE=image/jpeg:https://aristaeusbrewing.com/wp-content/uploads/2024/05/aristaeus-at-wrightstown-farmers-market.jpg
END:VEVENT
BEGIN:VEVENT
DTSTART;TZID=America/New_York:20241005T120000
DTEND;TZID=America/New_York:20241005T160000
DTSTAMP:20260424T035704
CREATED:20240920T150609Z
LAST-MODIFIED:20240920T150609Z
UID:10001142-1728129600-1728144000@aristaeusbrewing.com
SUMMARY:Parkland Fest
DESCRIPTION:Aristaeus will be pouring beers in the Beer Garden at the 8th Annual ParklandFest Community Day! \nEvent Details on Facebook
URL:https://aristaeusbrewing.com/event/parkland-fest/
LOCATION:Firefighters Park\, 712 Poplar St\, Langhorne\, 19047\, United States
CATEGORIES:Off-Site Events
ATTACH;FMTTYPE=image/png:https://aristaeusbrewing.com/wp-content/uploads/2024/09/parklandfest.png
END:VEVENT
BEGIN:VEVENT
DTSTART;TZID=America/New_York:20241006T100000
DTEND;TZID=America/New_York:20241006T130000
DTSTAMP:20260424T035704
CREATED:20240823T162536Z
LAST-MODIFIED:20240823T163033Z
UID:10001111-1728208800-1728219600@aristaeusbrewing.com
SUMMARY:Horsham Farmers Market
DESCRIPTION:
URL:https://aristaeusbrewing.com/event/horsham-farmers-market-9/
LOCATION:Horsham Farmers Market\, 1025 Horsham Road\, Horsham\, PA\, United States
CATEGORIES:Off-Site Events
ATTACH;FMTTYPE=image/jpeg:https://aristaeusbrewing.com/wp-content/uploads/2024/05/aristaeus-at-horsham-farmers-market.jpg
END:VEVENT
BEGIN:VEVENT
DTSTART;TZID=America/New_York:20241011T190000
DTEND;TZID=America/New_York:20241011T220000
DTSTAMP:20260424T035704
CREATED:20240920T150222Z
LAST-MODIFIED:20240920T150222Z
UID:10001137-1728673200-1728684000@aristaeusbrewing.com
SUMMARY:No Hope After Dark
DESCRIPTION:Step into a realm of fun and thrilling activities this year with a spectacularly revamped Halloween excursion\, “No Hope After Dark.” \nThe train will depart from New Hope to the festival at the unknown\, where you will venture through our brand-new haunted maze\, where live actors lurk around every twisted turn. But fear not! The night isn’t solely about screams and shivers. Many nights beckon with food trucks offering a delicious escape from the fright and live music casting enchanting tunes under the moonlit sky\, bringing a lively respite for the brave at heart. \nSo\, what are you waiting for? Let the eerie allure of “No Hope After Dark” summon you to a festival bustling with ghastly glee and whimsical fright. It’s a hauntingly delightful invitation to a Halloween festival like none other! Grab your bravest companions\, and unearth the ghostly fun awaiting every mysterious twist and haunting turn. Your journey into the delightful unknown is but a ticket away! \nBUY TICKETS NOW
URL:https://aristaeusbrewing.com/event/no-hope-after-dark/2024-10-11/
LOCATION:New Hope Train Station\, 32 West Bridge Street\, New Hope\, PA\, 18938\, United States
CATEGORIES:Off-Site Events
ATTACH;FMTTYPE=image/jpeg:https://aristaeusbrewing.com/wp-content/uploads/2024/09/no-hope-after-dark.jpg
END:VEVENT
BEGIN:VEVENT
DTSTART;TZID=America/New_York:20241012T190000
DTEND;TZID=America/New_York:20241012T230000
DTSTAMP:20260424T035704
CREATED:20240920T150222Z
LAST-MODIFIED:20240920T150222Z
UID:10001138-1728759600-1728774000@aristaeusbrewing.com
SUMMARY:No Hope After Dark
DESCRIPTION:Step into a realm of fun and thrilling activities this year with a spectacularly revamped Halloween excursion\, “No Hope After Dark.” \nThe train will depart from New Hope to the festival at the unknown\, where you will venture through our brand-new haunted maze\, where live actors lurk around every twisted turn. But fear not! The night isn’t solely about screams and shivers. Many nights beckon with food trucks offering a delicious escape from the fright and live music casting enchanting tunes under the moonlit sky\, bringing a lively respite for the brave at heart. \nSo\, what are you waiting for? Let the eerie allure of “No Hope After Dark” summon you to a festival bustling with ghastly glee and whimsical fright. It’s a hauntingly delightful invitation to a Halloween festival like none other! Grab your bravest companions\, and unearth the ghostly fun awaiting every mysterious twist and haunting turn. Your journey into the delightful unknown is but a ticket away! \nBUY TICKETS NOW
URL:https://aristaeusbrewing.com/event/no-hope-after-dark/2024-10-12/
LOCATION:New Hope Train Station\, 32 West Bridge Street\, New Hope\, PA\, 18938\, United States
CATEGORIES:Off-Site Events
ATTACH;FMTTYPE=image/jpeg:https://aristaeusbrewing.com/wp-content/uploads/2024/09/no-hope-after-dark.jpg
END:VEVENT
BEGIN:VEVENT
DTSTART;TZID=America/New_York:20241013T100000
DTEND;TZID=America/New_York:20241013T170000
DTSTAMP:20260424T035704
CREATED:20240920T145223Z
LAST-MODIFIED:20240920T145223Z
UID:10001135-1728813600-1728838800@aristaeusbrewing.com
SUMMARY:Charlann Farms Fall Festival
DESCRIPTION:We’ll be pouring pints of beer at the Charlann Farms Fall Festival! \nEvent details on Facebook.
URL:https://aristaeusbrewing.com/event/charlann-farms-fall-festival-2/
LOCATION:Charlann Farms\, 586 Stony Hill Road\, Yardley\, PA\, 19067\, United States
CATEGORIES:Off-Site Events
END:VEVENT
BEGIN:VEVENT
DTSTART;TZID=America/New_York:20241019T090000
DTEND;TZID=America/New_York:20241019T120000
DTSTAMP:20260424T035704
CREATED:20240823T163009Z
LAST-MODIFIED:20240823T163009Z
UID:10001117-1729328400-1729339200@aristaeusbrewing.com
SUMMARY:Wrightstown Farmers Market
DESCRIPTION:
URL:https://aristaeusbrewing.com/event/wrightstown-farmers-market-23/
LOCATION:Middletown Grange\, 576 Penns Park Road\, Newtown\, PA\, 18940\, United States
CATEGORIES:Off-Site Events
ATTACH;FMTTYPE=image/jpeg:https://aristaeusbrewing.com/wp-content/uploads/2024/05/aristaeus-at-wrightstown-farmers-market.jpg
END:VEVENT
BEGIN:VEVENT
DTSTART;TZID=America/New_York:20241019T130000
DTEND;TZID=America/New_York:20241019T180000
DTSTAMP:20260424T035704
CREATED:20240920T151017Z
LAST-MODIFIED:20240920T151017Z
UID:10001145-1729342800-1729360800@aristaeusbrewing.com
SUMMARY:Hoppy Halloween at Broken Goblet
DESCRIPTION:Event details on Facebook
URL:https://aristaeusbrewing.com/event/hoppy-halloween-at-broken-goblet/
LOCATION:Broken Goblet\, 2500 State Road\, Bensalem\, PA\, 19020\, United States
CATEGORIES:Off-Site Events
ATTACH;FMTTYPE=image/jpeg:https://aristaeusbrewing.com/wp-content/uploads/2024/09/hoppy-halloween.jpg
END:VEVENT
BEGIN:VEVENT
DTSTART;TZID=America/New_York:20241019T190000
DTEND;TZID=America/New_York:20241019T230000
DTSTAMP:20260424T035704
CREATED:20240920T150222Z
LAST-MODIFIED:20240920T150222Z
UID:10001139-1729364400-1729378800@aristaeusbrewing.com
SUMMARY:No Hope After Dark
DESCRIPTION:Step into a realm of fun and thrilling activities this year with a spectacularly revamped Halloween excursion\, “No Hope After Dark.” \nThe train will depart from New Hope to the festival at the unknown\, where you will venture through our brand-new haunted maze\, where live actors lurk around every twisted turn. But fear not! The night isn’t solely about screams and shivers. Many nights beckon with food trucks offering a delicious escape from the fright and live music casting enchanting tunes under the moonlit sky\, bringing a lively respite for the brave at heart. \nSo\, what are you waiting for? Let the eerie allure of “No Hope After Dark” summon you to a festival bustling with ghastly glee and whimsical fright. It’s a hauntingly delightful invitation to a Halloween festival like none other! Grab your bravest companions\, and unearth the ghostly fun awaiting every mysterious twist and haunting turn. Your journey into the delightful unknown is but a ticket away! \nBUY TICKETS NOW
URL:https://aristaeusbrewing.com/event/no-hope-after-dark/2024-10-19/
LOCATION:New Hope Train Station\, 32 West Bridge Street\, New Hope\, PA\, 18938\, United States
CATEGORIES:Off-Site Events
ATTACH;FMTTYPE=image/jpeg:https://aristaeusbrewing.com/wp-content/uploads/2024/09/no-hope-after-dark.jpg
END:VEVENT
BEGIN:VEVENT
DTSTART;TZID=America/New_York:20241020T100000
DTEND;TZID=America/New_York:20241020T130000
DTSTAMP:20260424T035704
CREATED:20240823T163118Z
LAST-MODIFIED:20240823T163118Z
UID:10001118-1729418400-1729429200@aristaeusbrewing.com
SUMMARY:Horsham Farmers Market
DESCRIPTION:
URL:https://aristaeusbrewing.com/event/horsham-farmers-market-10/
LOCATION:Horsham Farmers Market\, 1025 Horsham Road\, Horsham\, PA\, United States
CATEGORIES:Off-Site Events
ATTACH;FMTTYPE=image/jpeg:https://aristaeusbrewing.com/wp-content/uploads/2024/05/aristaeus-at-horsham-farmers-market.jpg
END:VEVENT
BEGIN:VEVENT
DTSTART;TZID=America/New_York:20241025T190000
DTEND;TZID=America/New_York:20241025T220000
DTSTAMP:20260424T035704
CREATED:20240920T150222Z
LAST-MODIFIED:20240920T150222Z
UID:10001140-1729882800-1729893600@aristaeusbrewing.com
SUMMARY:No Hope After Dark
DESCRIPTION:Step into a realm of fun and thrilling activities this year with a spectacularly revamped Halloween excursion\, “No Hope After Dark.” \nThe train will depart from New Hope to the festival at the unknown\, where you will venture through our brand-new haunted maze\, where live actors lurk around every twisted turn. But fear not! The night isn’t solely about screams and shivers. Many nights beckon with food trucks offering a delicious escape from the fright and live music casting enchanting tunes under the moonlit sky\, bringing a lively respite for the brave at heart. \nSo\, what are you waiting for? Let the eerie allure of “No Hope After Dark” summon you to a festival bustling with ghastly glee and whimsical fright. It’s a hauntingly delightful invitation to a Halloween festival like none other! Grab your bravest companions\, and unearth the ghostly fun awaiting every mysterious twist and haunting turn. Your journey into the delightful unknown is but a ticket away! \nBUY TICKETS NOW
URL:https://aristaeusbrewing.com/event/no-hope-after-dark/2024-10-25/
LOCATION:New Hope Train Station\, 32 West Bridge Street\, New Hope\, PA\, 18938\, United States
CATEGORIES:Off-Site Events
ATTACH;FMTTYPE=image/jpeg:https://aristaeusbrewing.com/wp-content/uploads/2024/09/no-hope-after-dark.jpg
END:VEVENT
BEGIN:VEVENT
DTSTART;TZID=America/New_York:20241026T100000
DTEND;TZID=America/New_York:20241026T150000
DTSTAMP:20260424T035704
CREATED:20240920T151516Z
LAST-MODIFIED:20240920T151516Z
UID:10001147-1729936800-1729954800@aristaeusbrewing.com
SUMMARY:Langhorne Harvest Day
DESCRIPTION:Olde Langhorne Harvest Day! A Fall Festival for all ages in Langhorne Borough\, PA. Live Music\, food\, crafts\, kid’s activities\, costume parade and more! Harvest Day is brought to you by Langhorne Borough Business Association (LBBA). \nClick here for event details on Facebook
URL:https://aristaeusbrewing.com/event/langhorne-harvest-day/
LOCATION:Langhorne Borough\, 115 W Richardson Ave.\, Langhorne\, PA\, 19047\, United States
CATEGORIES:Off-Site Events
ATTACH;FMTTYPE=image/jpeg:https://aristaeusbrewing.com/wp-content/uploads/2024/09/aristaeus-langhorne-harvest-day.jpg
END:VEVENT
BEGIN:VEVENT
DTSTART;TZID=America/New_York:20241026T140000
DTEND;TZID=America/New_York:20241026T190000
DTSTAMP:20260424T035704
CREATED:20240920T151951Z
LAST-MODIFIED:20240920T151951Z
UID:10001149-1729951200-1729969200@aristaeusbrewing.com
SUMMARY:Rhythm and Hops Festival
DESCRIPTION:Details coming soon!
URL:https://aristaeusbrewing.com/event/rhythm-and-hops-festival/
LOCATION:TBA
CATEGORIES:Off-Site Events
END:VEVENT
BEGIN:VEVENT
DTSTART;TZID=America/New_York:20241031T190000
DTEND;TZID=America/New_York:20241031T220000
DTSTAMP:20260424T035704
CREATED:20240920T150222Z
LAST-MODIFIED:20240920T150222Z
UID:10001141-1730401200-1730412000@aristaeusbrewing.com
SUMMARY:No Hope After Dark
DESCRIPTION:Step into a realm of fun and thrilling activities this year with a spectacularly revamped Halloween excursion\, “No Hope After Dark.” \nThe train will depart from New Hope to the festival at the unknown\, where you will venture through our brand-new haunted maze\, where live actors lurk around every twisted turn. But fear not! The night isn’t solely about screams and shivers. Many nights beckon with food trucks offering a delicious escape from the fright and live music casting enchanting tunes under the moonlit sky\, bringing a lively respite for the brave at heart. \nSo\, what are you waiting for? Let the eerie allure of “No Hope After Dark” summon you to a festival bustling with ghastly glee and whimsical fright. It’s a hauntingly delightful invitation to a Halloween festival like none other! Grab your bravest companions\, and unearth the ghostly fun awaiting every mysterious twist and haunting turn. Your journey into the delightful unknown is but a ticket away! \nBUY TICKETS NOW
URL:https://aristaeusbrewing.com/event/no-hope-after-dark/2024-10-31/
LOCATION:New Hope Train Station\, 32 West Bridge Street\, New Hope\, PA\, 18938\, United States
CATEGORIES:Off-Site Events
ATTACH;FMTTYPE=image/jpeg:https://aristaeusbrewing.com/wp-content/uploads/2024/09/no-hope-after-dark.jpg
END:VEVENT
BEGIN:VEVENT
DTSTART;TZID=America/New_York:20241102T090000
DTEND;TZID=America/New_York:20241102T120000
DTSTAMP:20260424T035704
CREATED:20240920T152543Z
LAST-MODIFIED:20240920T152543Z
UID:10001154-1730538000-1730548800@aristaeusbrewing.com
SUMMARY:Wrightstown Farmers Market
DESCRIPTION:
URL:https://aristaeusbrewing.com/event/wrightstown-farmers-market-20/
LOCATION:Middletown Grange\, 576 Penns Park Road\, Newtown\, PA\, 18940\, United States
CATEGORIES:Off-Site Events
ATTACH;FMTTYPE=image/jpeg:https://aristaeusbrewing.com/wp-content/uploads/2024/05/aristaeus-at-wrightstown-farmers-market.jpg
END:VEVENT
BEGIN:VEVENT
DTSTART;TZID=America/New_York:20241116T090000
DTEND;TZID=America/New_York:20241116T120000
DTSTAMP:20260424T035704
CREATED:20240920T152550Z
LAST-MODIFIED:20240920T152550Z
UID:10001155-1731747600-1731758400@aristaeusbrewing.com
SUMMARY:Wrightstown Farmers Market
DESCRIPTION:
URL:https://aristaeusbrewing.com/event/wrightstown-farmers-market-24/
LOCATION:Middletown Grange\, 576 Penns Park Road\, Newtown\, PA\, 18940\, United States
CATEGORIES:Off-Site Events
ATTACH;FMTTYPE=image/jpeg:https://aristaeusbrewing.com/wp-content/uploads/2024/05/aristaeus-at-wrightstown-farmers-market.jpg
END:VEVENT
BEGIN:VEVENT
DTSTART;TZID=America/New_York:20241206T180000
DTEND;TZID=America/New_York:20241206T210000
DTSTAMP:20260424T035704
CREATED:20241018T153321Z
LAST-MODIFIED:20241018T153321Z
UID:10001188-1733508000-1733518800@aristaeusbrewing.com
SUMMARY:Aristaeus at Dickens Night
DESCRIPTION:
URL:https://aristaeusbrewing.com/event/aristaeus-at-dickens-night/
LOCATION:Langhorne Borough\, 115 W Richardson Ave.\, Langhorne\, PA\, 19047\, United States
CATEGORIES:Off-Site Events
END:VEVENT
BEGIN:VEVENT
DTSTART;TZID=America/New_York:20241207T140000
DTEND;TZID=America/New_York:20241207T180000
DTSTAMP:20260424T035704
CREATED:20241202T212527Z
LAST-MODIFIED:20241202T212527Z
UID:10001197-1733580000-1733594400@aristaeusbrewing.com
SUMMARY:Holiday Lights and Santa Visit at Styer Orchard 
DESCRIPTION:
URL:https://aristaeusbrewing.com/event/holiday-lights-and-santa-visit-at-styer-orchard/
LOCATION:Styer Orchard\, 97 Styers Lane\, Langhorne\, PA\, 19047\, United States
CATEGORIES:Off-Site Events
END:VEVENT
BEGIN:VEVENT
DTSTART;TZID=America/New_York:20241207T180000
DTEND;TZID=America/New_York:20241207T210000
DTSTAMP:20260424T035704
CREATED:20241202T212501Z
LAST-MODIFIED:20241202T212501Z
UID:10001196-1733594400-1733605200@aristaeusbrewing.com
SUMMARY:Hatboro Sip and Shop
DESCRIPTION:Check out the event details on Facebook.
URL:https://aristaeusbrewing.com/event/hatboro-sip-and-shop/
LOCATION:Pennypack Community Center and Park\, 130 Spring Ave\, Hatboro\, PA\, 19040\, United States
CATEGORIES:Off-Site Events
END:VEVENT
BEGIN:VEVENT
DTSTART;TZID=America/New_York:20241212T173000
DTEND;TZID=America/New_York:20241212T203000
DTSTAMP:20260424T035704
CREATED:20241018T153243Z
LAST-MODIFIED:20241018T153513Z
UID:10001187-1734024600-1734035400@aristaeusbrewing.com
SUMMARY:Aristaeus at Middletown Township Holiday Open House
DESCRIPTION:
URL:https://aristaeusbrewing.com/event/aristaeus-at-middletown-township-holiday-open-house-2/
LOCATION:Middletown Township Municipal Building\, 5 Municipal Way\, Langhorne\, PA\, 19047\, United States
CATEGORIES:Off-Site Events
END:VEVENT
BEGIN:VEVENT
DTSTART;TZID=America/New_York:20250502T173000
DTEND;TZID=America/New_York:20250502T203000
DTSTAMP:20260424T035704
CREATED:20250416T192821Z
LAST-MODIFIED:20250416T192821Z
UID:10001430-1746207000-1746217800@aristaeusbrewing.com
SUMMARY:Party in the Park
DESCRIPTION:Party in The Park events feature live music/entertainment\, lawn games\, foam/bubble parties (weather permitting)\, food trucks\, activities\, and more! \nEvent Details on Facebook
URL:https://aristaeusbrewing.com/event/party-in-the-park/
LOCATION:Pennypack Community Center and Park\, 130 Spring Ave\, Hatboro\, PA\, 19040\, United States
CATEGORIES:Off-Site Events
ATTACH;FMTTYPE=image/jpeg:https://aristaeusbrewing.com/wp-content/uploads/2025/04/party-in-the-park.jpg
END:VEVENT
BEGIN:VEVENT
DTSTART;TZID=America/New_York:20250503T090000
DTEND;TZID=America/New_York:20250503T120000
DTSTAMP:20260424T035704
CREATED:20250416T192946Z
LAST-MODIFIED:20250416T192946Z
UID:10001431-1746262800-1746273600@aristaeusbrewing.com
SUMMARY:Wrightstown Farmers Market
DESCRIPTION:
URL:https://aristaeusbrewing.com/event/wrightstown-farmers-market-25/
LOCATION:Middletown Grange\, 576 Penns Park Road\, Newtown\, PA\, 18940\, United States
CATEGORIES:Off-Site Events
ATTACH;FMTTYPE=image/jpeg:https://aristaeusbrewing.com/wp-content/uploads/2024/05/aristaeus-at-wrightstown-farmers-market.jpg
END:VEVENT
BEGIN:VEVENT
DTSTART;TZID=America/New_York:20250517T110000
DTEND;TZID=America/New_York:20250517T160000
DTSTAMP:20260424T035704
CREATED:20250416T193218Z
LAST-MODIFIED:20250416T193218Z
UID:10001433-1747479600-1747497600@aristaeusbrewing.com
SUMMARY:Aristaeus at Conwell Egan Food Truck Festival
DESCRIPTION:Event Details on Facebook
URL:https://aristaeusbrewing.com/event/aristaeus-at-conwell-egan-food-truck-festival-2/
LOCATION:Conwell Egan Catholic High School\, 611 Wistar Rd\, Fairless Hills\, PA\, 19030
CATEGORIES:Off-Site Events
ATTACH;FMTTYPE=image/jpeg:https://aristaeusbrewing.com/wp-content/uploads/2025/04/cec-food-truck-festival.jpg
END:VEVENT
BEGIN:VEVENT
DTSTART;TZID=America/New_York:20250517T160000
DTEND;TZID=America/New_York:20250517T190000
DTSTAMP:20260424T035704
CREATED:20250430T183820Z
LAST-MODIFIED:20250430T183820Z
UID:10001437-1747497600-1747508400@aristaeusbrewing.com
SUMMARY:Twilight in Fallsington
DESCRIPTION:Join Historic Fallsington at the Stagecoach Tavern & help us raise funds for our important work of education and preservation while enjoying some light fare & drinks. \nThis will also be the debut of the Fallsington Four Pack by Aristaeus Craft Brewing Company: Doc Lippincott’s Lager\, Fallsington Fog IPA\, Full Moon Lager\, & Tavern Blonde! \nYou will also have the chance to tour the collections with the Director & buy a chance to win a raffle prize. Here’s also your chance to buy the Fallsington Four Pack before it hits stores\, but you must attend to enjoy the fun! \nTickets: $50/person. \nTo register\, please click here or contact 215.295.6567 / info@historicfallsington.net
URL:https://aristaeusbrewing.com/event/twilight-in-fallsington/
LOCATION:Stagecoach Tavern\, 1 Meetinghouse Sq\, Levittown\, PA\, 19054-2502\, United States
CATEGORIES:Off-Site Events
ATTACH;FMTTYPE=image/jpeg:https://aristaeusbrewing.com/wp-content/uploads/2025/04/fallsington-twilight.jpg
END:VEVENT
BEGIN:VEVENT
DTSTART;TZID=America/New_York:20250518T100000
DTEND;TZID=America/New_York:20250518T130000
DTSTAMP:20260424T035704
CREATED:20250307T170511Z
LAST-MODIFIED:20250307T170511Z
UID:10001426-1747562400-1747573200@aristaeusbrewing.com
SUMMARY:Horsham Farmers Market
DESCRIPTION:
URL:https://aristaeusbrewing.com/event/horsham-farmers-market-11/
LOCATION:Horsham Farmers Market\, 1025 Horsham Road\, Horsham\, PA\, United States
CATEGORIES:Off-Site Events
ATTACH;FMTTYPE=image/jpeg:https://aristaeusbrewing.com/wp-content/uploads/2024/05/aristaeus-at-horsham-farmers-market.jpg
END:VEVENT
BEGIN:VEVENT
DTSTART;TZID=America/New_York:20250524T090000
DTEND;TZID=America/New_York:20250524T120000
DTSTAMP:20260424T035704
CREATED:20250416T193037Z
LAST-MODIFIED:20250416T193037Z
UID:10001432-1748077200-1748088000@aristaeusbrewing.com
SUMMARY:Wrightstown Farmers Market
DESCRIPTION:
URL:https://aristaeusbrewing.com/event/wrightstown-farmers-market-26/
LOCATION:Middletown Grange\, 576 Penns Park Road\, Newtown\, PA\, 18940\, United States
CATEGORIES:Off-Site Events
ATTACH;FMTTYPE=image/jpeg:https://aristaeusbrewing.com/wp-content/uploads/2024/05/aristaeus-at-wrightstown-farmers-market.jpg
END:VEVENT
END:VCALENDAR