BEGIN:VCALENDAR
VERSION:2.0
PRODID:-//Aristaeus Craft Brewing Co. - ECPv6.15.20//NONSGML v1.0//EN
CALSCALE:GREGORIAN
METHOD:PUBLISH
X-ORIGINAL-URL:https://aristaeusbrewing.com
X-WR-CALDESC:Events for Aristaeus Craft Brewing Co.
REFRESH-INTERVAL;VALUE=DURATION:PT1H
X-Robots-Tag:noindex
X-PUBLISHED-TTL:PT1H
BEGIN:VTIMEZONE
TZID:America/New_York
BEGIN:DAYLIGHT
TZOFFSETFROM:-0500
TZOFFSETTO:-0400
TZNAME:EDT
DTSTART:20240310T070000
END:DAYLIGHT
BEGIN:STANDARD
TZOFFSETFROM:-0400
TZOFFSETTO:-0500
TZNAME:EST
DTSTART:20241103T060000
END:STANDARD
BEGIN:DAYLIGHT
TZOFFSETFROM:-0500
TZOFFSETTO:-0400
TZNAME:EDT
DTSTART:20250309T070000
END:DAYLIGHT
BEGIN:STANDARD
TZOFFSETFROM:-0400
TZOFFSETTO:-0500
TZNAME:EST
DTSTART:20251102T060000
END:STANDARD
BEGIN:DAYLIGHT
TZOFFSETFROM:-0500
TZOFFSETTO:-0400
TZNAME:EDT
DTSTART:20260308T070000
END:DAYLIGHT
BEGIN:STANDARD
TZOFFSETFROM:-0400
TZOFFSETTO:-0500
TZNAME:EST
DTSTART:20261101T060000
END:STANDARD
END:VTIMEZONE
BEGIN:VEVENT
DTSTART;TZID=America/New_York:20250704T160000
DTEND;TZID=America/New_York:20250704T210000
DTSTAMP:20260423T050606
CREATED:20250606T200236Z
LAST-MODIFIED:20250606T223146Z
UID:10001485-1751644800-1751662800@aristaeusbrewing.com
SUMMARY:July 4 Celebration at Styer Orchard
DESCRIPTION:TICKETS ON SALE NOW! Click here to get your tickets. \nJoin us and Styer Orchard at the farm for our 2nd annual 4th of July celebration. We will be partying at the farm from 4 to 9. Food\, beer\, music\, games\, ice cream\, and of course fireworks. Last year\, they were nothing short of spectacular! \nTickets are limited to keep this family-friendly and enjoyable. \nRain date July 5th.
URL:https://aristaeusbrewing.com/event/july-4-celebration-at-styer-orchard-2/
LOCATION:Styer Orchard\, 97 Styers Lane\, Langhorne\, PA\, 19047\, United States
CATEGORIES:Off-Site Events
ATTACH;FMTTYPE=image/jpeg:https://aristaeusbrewing.com/wp-content/uploads/2025/06/2025-07-fireworks.jpg
END:VEVENT
BEGIN:VEVENT
DTSTART;TZID=America/New_York:20250706T100000
DTEND;TZID=America/New_York:20250706T130000
DTSTAMP:20260423T050606
CREATED:20250606T194936Z
LAST-MODIFIED:20250606T194936Z
UID:10001498-1751796000-1751806800@aristaeusbrewing.com
SUMMARY:Horsham Farmers Market
DESCRIPTION:
URL:https://aristaeusbrewing.com/event/horsham-farmers-market-15/
LOCATION:Horsham Farmers Market\, 1025 Horsham Road\, Horsham\, PA\, United States
CATEGORIES:Off-Site Events
ATTACH;FMTTYPE=image/jpeg:https://aristaeusbrewing.com/wp-content/uploads/2024/05/aristaeus-at-horsham-farmers-market.jpg
END:VEVENT
BEGIN:VEVENT
DTSTART;TZID=America/New_York:20250711T173000
DTEND;TZID=America/New_York:20250711T203000
DTSTAMP:20260423T050606
CREATED:20250606T195933Z
LAST-MODIFIED:20250606T195933Z
UID:10001491-1752255000-1752265800@aristaeusbrewing.com
SUMMARY:Party in the Park
DESCRIPTION:Party in The Park events feature live music/entertainment\, lawn games\, foam/bubble parties (weather permitting)\, food trucks\, activities\, and more! \n 
URL:https://aristaeusbrewing.com/event/party-in-the-park-3/
LOCATION:Pennypack Community Center and Park\, 130 Spring Ave\, Hatboro\, PA\, 19040\, United States
CATEGORIES:Off-Site Events
ATTACH;FMTTYPE=image/jpeg:https://aristaeusbrewing.com/wp-content/uploads/2025/04/party-in-the-park.jpg
END:VEVENT
BEGIN:VEVENT
DTSTART;TZID=America/New_York:20250712T090000
DTEND;TZID=America/New_York:20250712T120000
DTSTAMP:20260423T050606
CREATED:20250711T215701Z
LAST-MODIFIED:20250711T215701Z
UID:10001559-1752310800-1752321600@aristaeusbrewing.com
SUMMARY:Wrightstown Farmers Market
DESCRIPTION:
URL:https://aristaeusbrewing.com/event/wrightstown-farmers-market-35/
LOCATION:Middletown Grange\, 576 Penns Park Road\, Newtown\, PA\, 18940\, United States
CATEGORIES:Off-Site Events
ATTACH;FMTTYPE=image/jpeg:https://aristaeusbrewing.com/wp-content/uploads/2024/05/aristaeus-at-wrightstown-farmers-market.jpg
END:VEVENT
BEGIN:VEVENT
DTSTART;TZID=America/New_York:20250713T100000
DTEND;TZID=America/New_York:20250713T130000
DTSTAMP:20260423T050606
CREATED:20250606T194941Z
LAST-MODIFIED:20250606T194941Z
UID:10001499-1752400800-1752411600@aristaeusbrewing.com
SUMMARY:Horsham Farmers Market
DESCRIPTION:
URL:https://aristaeusbrewing.com/event/horsham-farmers-market-16/
LOCATION:Horsham Farmers Market\, 1025 Horsham Road\, Horsham\, PA\, United States
CATEGORIES:Off-Site Events
ATTACH;FMTTYPE=image/jpeg:https://aristaeusbrewing.com/wp-content/uploads/2024/05/aristaeus-at-horsham-farmers-market.jpg
END:VEVENT
BEGIN:VEVENT
DTSTART;TZID=America/New_York:20250719T090000
DTEND;TZID=America/New_York:20250719T120000
DTSTAMP:20260423T050606
CREATED:20250606T194927Z
LAST-MODIFIED:20250606T194927Z
UID:10001497-1752915600-1752926400@aristaeusbrewing.com
SUMMARY:Wrightstown Farmers Market
DESCRIPTION:
URL:https://aristaeusbrewing.com/event/wrightstown-farmers-market-29/
LOCATION:Middletown Grange\, 576 Penns Park Road\, Newtown\, PA\, 18940\, United States
CATEGORIES:Off-Site Events
ATTACH;FMTTYPE=image/jpeg:https://aristaeusbrewing.com/wp-content/uploads/2024/05/aristaeus-at-wrightstown-farmers-market.jpg
END:VEVENT
BEGIN:VEVENT
DTSTART;TZID=America/New_York:20250720T100000
DTEND;TZID=America/New_York:20250720T130000
DTSTAMP:20260423T050606
CREATED:20250606T194944Z
LAST-MODIFIED:20250606T194944Z
UID:10001500-1753005600-1753016400@aristaeusbrewing.com
SUMMARY:Horsham Farmers Market
DESCRIPTION:
URL:https://aristaeusbrewing.com/event/horsham-farmers-market-17/
LOCATION:Horsham Farmers Market\, 1025 Horsham Road\, Horsham\, PA\, United States
CATEGORIES:Off-Site Events
ATTACH;FMTTYPE=image/jpeg:https://aristaeusbrewing.com/wp-content/uploads/2024/05/aristaeus-at-horsham-farmers-market.jpg
END:VEVENT
BEGIN:VEVENT
DTSTART;TZID=America/New_York:20250726T090000
DTEND;TZID=America/New_York:20250726T120000
DTSTAMP:20260423T050606
CREATED:20250606T194956Z
LAST-MODIFIED:20250606T194956Z
UID:10001496-1753520400-1753531200@aristaeusbrewing.com
SUMMARY:Wrightstown Farmers Market
DESCRIPTION:
URL:https://aristaeusbrewing.com/event/wrightstown-farmers-market-30/
LOCATION:Middletown Grange\, 576 Penns Park Road\, Newtown\, PA\, 18940\, United States
CATEGORIES:Off-Site Events
ATTACH;FMTTYPE=image/jpeg:https://aristaeusbrewing.com/wp-content/uploads/2024/05/aristaeus-at-wrightstown-farmers-market.jpg
END:VEVENT
BEGIN:VEVENT
DTSTART;TZID=America/New_York:20250727T100000
DTEND;TZID=America/New_York:20250727T130000
DTSTAMP:20260423T050606
CREATED:20250606T194949Z
LAST-MODIFIED:20250606T194949Z
UID:10001501-1753610400-1753621200@aristaeusbrewing.com
SUMMARY:Horsham Farmers Market
DESCRIPTION:
URL:https://aristaeusbrewing.com/event/horsham-farmers-market-18/
LOCATION:Horsham Farmers Market\, 1025 Horsham Road\, Horsham\, PA\, United States
CATEGORIES:Off-Site Events
ATTACH;FMTTYPE=image/jpeg:https://aristaeusbrewing.com/wp-content/uploads/2024/05/aristaeus-at-horsham-farmers-market.jpg
END:VEVENT
END:VCALENDAR