BEGIN:VCALENDAR
VERSION:2.0
PRODID:-//Aristaeus Craft Brewing Co. - ECPv6.15.20//NONSGML v1.0//EN
CALSCALE:GREGORIAN
METHOD:PUBLISH
X-WR-CALNAME:Aristaeus Craft Brewing Co.
X-ORIGINAL-URL:https://aristaeusbrewing.com
X-WR-CALDESC:Events for Aristaeus Craft Brewing Co.
REFRESH-INTERVAL;VALUE=DURATION:PT1H
X-Robots-Tag:noindex
X-PUBLISHED-TTL:PT1H
BEGIN:VTIMEZONE
TZID:America/New_York
BEGIN:DAYLIGHT
TZOFFSETFROM:-0500
TZOFFSETTO:-0400
TZNAME:EDT
DTSTART:20240310T070000
END:DAYLIGHT
BEGIN:STANDARD
TZOFFSETFROM:-0400
TZOFFSETTO:-0500
TZNAME:EST
DTSTART:20241103T060000
END:STANDARD
BEGIN:DAYLIGHT
TZOFFSETFROM:-0500
TZOFFSETTO:-0400
TZNAME:EDT
DTSTART:20250309T070000
END:DAYLIGHT
BEGIN:STANDARD
TZOFFSETFROM:-0400
TZOFFSETTO:-0500
TZNAME:EST
DTSTART:20251102T060000
END:STANDARD
BEGIN:DAYLIGHT
TZOFFSETFROM:-0500
TZOFFSETTO:-0400
TZNAME:EDT
DTSTART:20260308T070000
END:DAYLIGHT
BEGIN:STANDARD
TZOFFSETFROM:-0400
TZOFFSETTO:-0500
TZNAME:EST
DTSTART:20261101T060000
END:STANDARD
END:VTIMEZONE
BEGIN:VEVENT
DTSTART;TZID=America/New_York:20250502T173000
DTEND;TZID=America/New_York:20250502T203000
DTSTAMP:20260423T081843
CREATED:20250416T192821Z
LAST-MODIFIED:20250416T192821Z
UID:10001430-1746207000-1746217800@aristaeusbrewing.com
SUMMARY:Party in the Park
DESCRIPTION:Party in The Park events feature live music/entertainment\, lawn games\, foam/bubble parties (weather permitting)\, food trucks\, activities\, and more! \nEvent Details on Facebook
URL:https://aristaeusbrewing.com/event/party-in-the-park/
LOCATION:Pennypack Community Center and Park\, 130 Spring Ave\, Hatboro\, PA\, 19040\, United States
CATEGORIES:Off-Site Events
ATTACH;FMTTYPE=image/jpeg:https://aristaeusbrewing.com/wp-content/uploads/2025/04/party-in-the-park.jpg
END:VEVENT
BEGIN:VEVENT
DTSTART;TZID=America/New_York:20250503T090000
DTEND;TZID=America/New_York:20250503T120000
DTSTAMP:20260423T081843
CREATED:20250416T192946Z
LAST-MODIFIED:20250416T192946Z
UID:10001431-1746262800-1746273600@aristaeusbrewing.com
SUMMARY:Wrightstown Farmers Market
DESCRIPTION:
URL:https://aristaeusbrewing.com/event/wrightstown-farmers-market-25/
LOCATION:Middletown Grange\, 576 Penns Park Road\, Newtown\, PA\, 18940\, United States
CATEGORIES:Off-Site Events
ATTACH;FMTTYPE=image/jpeg:https://aristaeusbrewing.com/wp-content/uploads/2024/05/aristaeus-at-wrightstown-farmers-market.jpg
END:VEVENT
BEGIN:VEVENT
DTSTART;TZID=America/New_York:20250517T110000
DTEND;TZID=America/New_York:20250517T160000
DTSTAMP:20260423T081843
CREATED:20250416T193218Z
LAST-MODIFIED:20250416T193218Z
UID:10001433-1747479600-1747497600@aristaeusbrewing.com
SUMMARY:Aristaeus at Conwell Egan Food Truck Festival
DESCRIPTION:Event Details on Facebook
URL:https://aristaeusbrewing.com/event/aristaeus-at-conwell-egan-food-truck-festival-2/
LOCATION:Conwell Egan Catholic High School\, 611 Wistar Rd\, Fairless Hills\, PA\, 19030
CATEGORIES:Off-Site Events
ATTACH;FMTTYPE=image/jpeg:https://aristaeusbrewing.com/wp-content/uploads/2025/04/cec-food-truck-festival.jpg
END:VEVENT
BEGIN:VEVENT
DTSTART;TZID=America/New_York:20250517T160000
DTEND;TZID=America/New_York:20250517T190000
DTSTAMP:20260423T081843
CREATED:20250430T183820Z
LAST-MODIFIED:20250430T183820Z
UID:10001437-1747497600-1747508400@aristaeusbrewing.com
SUMMARY:Twilight in Fallsington
DESCRIPTION:Join Historic Fallsington at the Stagecoach Tavern & help us raise funds for our important work of education and preservation while enjoying some light fare & drinks. \nThis will also be the debut of the Fallsington Four Pack by Aristaeus Craft Brewing Company: Doc Lippincott’s Lager\, Fallsington Fog IPA\, Full Moon Lager\, & Tavern Blonde! \nYou will also have the chance to tour the collections with the Director & buy a chance to win a raffle prize. Here’s also your chance to buy the Fallsington Four Pack before it hits stores\, but you must attend to enjoy the fun! \nTickets: $50/person. \nTo register\, please click here or contact 215.295.6567 / info@historicfallsington.net
URL:https://aristaeusbrewing.com/event/twilight-in-fallsington/
LOCATION:Stagecoach Tavern\, 1 Meetinghouse Sq\, Levittown\, PA\, 19054-2502\, United States
CATEGORIES:Off-Site Events
ATTACH;FMTTYPE=image/jpeg:https://aristaeusbrewing.com/wp-content/uploads/2025/04/fallsington-twilight.jpg
END:VEVENT
BEGIN:VEVENT
DTSTART;TZID=America/New_York:20250518T100000
DTEND;TZID=America/New_York:20250518T130000
DTSTAMP:20260423T081843
CREATED:20250307T170511Z
LAST-MODIFIED:20250307T170511Z
UID:10001426-1747562400-1747573200@aristaeusbrewing.com
SUMMARY:Horsham Farmers Market
DESCRIPTION:
URL:https://aristaeusbrewing.com/event/horsham-farmers-market-11/
LOCATION:Horsham Farmers Market\, 1025 Horsham Road\, Horsham\, PA\, United States
CATEGORIES:Off-Site Events
ATTACH;FMTTYPE=image/jpeg:https://aristaeusbrewing.com/wp-content/uploads/2024/05/aristaeus-at-horsham-farmers-market.jpg
END:VEVENT
BEGIN:VEVENT
DTSTART;TZID=America/New_York:20250524T090000
DTEND;TZID=America/New_York:20250524T120000
DTSTAMP:20260423T081843
CREATED:20250416T193037Z
LAST-MODIFIED:20250416T193037Z
UID:10001432-1748077200-1748088000@aristaeusbrewing.com
SUMMARY:Wrightstown Farmers Market
DESCRIPTION:
URL:https://aristaeusbrewing.com/event/wrightstown-farmers-market-26/
LOCATION:Middletown Grange\, 576 Penns Park Road\, Newtown\, PA\, 18940\, United States
CATEGORIES:Off-Site Events
ATTACH;FMTTYPE=image/jpeg:https://aristaeusbrewing.com/wp-content/uploads/2024/05/aristaeus-at-wrightstown-farmers-market.jpg
END:VEVENT
END:VCALENDAR