BEGIN:VCALENDAR
VERSION:2.0
PRODID:-//Aristaeus Craft Brewing Co. - ECPv6.15.20//NONSGML v1.0//EN
CALSCALE:GREGORIAN
METHOD:PUBLISH
X-ORIGINAL-URL:https://aristaeusbrewing.com
X-WR-CALDESC:Events for Aristaeus Craft Brewing Co.
REFRESH-INTERVAL;VALUE=DURATION:PT1H
X-Robots-Tag:noindex
X-PUBLISHED-TTL:PT1H
BEGIN:VTIMEZONE
TZID:America/New_York
BEGIN:DAYLIGHT
TZOFFSETFROM:-0500
TZOFFSETTO:-0400
TZNAME:EDT
DTSTART:20230312T070000
END:DAYLIGHT
BEGIN:STANDARD
TZOFFSETFROM:-0400
TZOFFSETTO:-0500
TZNAME:EST
DTSTART:20231105T060000
END:STANDARD
BEGIN:DAYLIGHT
TZOFFSETFROM:-0500
TZOFFSETTO:-0400
TZNAME:EDT
DTSTART:20240310T070000
END:DAYLIGHT
BEGIN:STANDARD
TZOFFSETFROM:-0400
TZOFFSETTO:-0500
TZNAME:EST
DTSTART:20241103T060000
END:STANDARD
BEGIN:DAYLIGHT
TZOFFSETFROM:-0500
TZOFFSETTO:-0400
TZNAME:EDT
DTSTART:20250309T070000
END:DAYLIGHT
BEGIN:STANDARD
TZOFFSETFROM:-0400
TZOFFSETTO:-0500
TZNAME:EST
DTSTART:20251102T060000
END:STANDARD
END:VTIMEZONE
BEGIN:VEVENT
DTSTART;TZID=America/New_York:20240804T090000
DTEND;TZID=America/New_York:20240804T130000
DTSTAMP:20260423T223527
CREATED:20240614T154750Z
LAST-MODIFIED:20240614T154750Z
UID:10001033-1722762000-1722776400@aristaeusbrewing.com
SUMMARY:Horsham Farmers Market
DESCRIPTION:
URL:https://aristaeusbrewing.com/event/horsham-farmers-market-5/
LOCATION:Horsham Farmers Market\, 1025 Horsham Road\, Horsham\, PA\, United States
CATEGORIES:Off-Site Events
ATTACH;FMTTYPE=image/jpeg:https://aristaeusbrewing.com/wp-content/uploads/2024/05/aristaeus-at-horsham-farmers-market.jpg
END:VEVENT
BEGIN:VEVENT
DTSTART;TZID=America/New_York:20240807T180000
DTEND;TZID=America/New_York:20240807T210000
DTSTAMP:20260423T223527
CREATED:20240626T130850Z
LAST-MODIFIED:20240626T131111Z
UID:10001021-1723053600-1723064400@aristaeusbrewing.com
SUMMARY:Cornhole League at Charlann Farms
DESCRIPTION:Come out to Charlann Farms on Wednesday nights from June 19 through August 14 (except 7/3) to watch the summer cornhole league sponsored by Aristaeus Craft Brewing Co. and enjoy ice cold beers!\n\nJune 26 – cancelled due to weather.
URL:https://aristaeusbrewing.com/event/cornhole-league-at-charlann-farms-2/2024-08-07/
LOCATION:Charlann Farms\, 586 Stony Hill Road\, Yardley\, PA\, 19067\, United States
CATEGORIES:Off-Site Events
END:VEVENT
BEGIN:VEVENT
DTSTART;TZID=America/New_York:20240809T163000
DTEND;TZID=America/New_York:20240809T193000
DTSTAMP:20260423T223527
CREATED:20240614T155010Z
LAST-MODIFIED:20240614T155010Z
UID:10001036-1723221000-1723231800@aristaeusbrewing.com
SUMMARY:Warrington Farmers Market
DESCRIPTION:
URL:https://aristaeusbrewing.com/event/warrington-farmers-market-4/
LOCATION:Upper Nike / Lions Pride Park\, 3129 Bradley Rd\, Warrington\, PA\, 18976\, United States
CATEGORIES:Off-Site Events
ATTACH;FMTTYPE=image/jpeg:https://aristaeusbrewing.com/wp-content/uploads/2024/05/aristaeus-at-warrington-farmers-market.jpg
END:VEVENT
BEGIN:VEVENT
DTSTART;TZID=America/New_York:20240810T090000
DTEND;TZID=America/New_York:20240810T120000
DTSTAMP:20260423T223527
CREATED:20240614T155117Z
LAST-MODIFIED:20240614T155901Z
UID:10001037-1723280400-1723291200@aristaeusbrewing.com
SUMMARY:Wrightstown Farmers Market
DESCRIPTION:
URL:https://aristaeusbrewing.com/event/wrightstown-farmers-market-18/
LOCATION:Middletown Grange\, 576 Penns Park Road\, Newtown\, PA\, 18940\, United States
CATEGORIES:Off-Site Events
ATTACH;FMTTYPE=image/jpeg:https://aristaeusbrewing.com/wp-content/uploads/2024/05/aristaeus-at-wrightstown-farmers-market.jpg
END:VEVENT
BEGIN:VEVENT
DTSTART;TZID=America/New_York:20240813T173000
DTEND;TZID=America/New_York:20240813T203000
DTSTAMP:20260423T223527
CREATED:20240812T164242Z
LAST-MODIFIED:20240812T164242Z
UID:10001105-1723570200-1723581000@aristaeusbrewing.com
SUMMARY:Aristaeus at National Night Out
DESCRIPTION:Join the Middletown Township Police Department for a family-friendly National Night Out!  We will have to-go 4-packs available for purchase (no on-site consumption\, please).
URL:https://aristaeusbrewing.com/event/aristaeus-at-national-night-out/
LOCATION:Middletown Township Municipal Building\, 5 Municipal Way\, Langhorne\, PA\, 19047\, United States
CATEGORIES:Off-Site Events
END:VEVENT
BEGIN:VEVENT
DTSTART;TZID=America/New_York:20240814T180000
DTEND;TZID=America/New_York:20240814T210000
DTSTAMP:20260423T223527
CREATED:20240626T130850Z
LAST-MODIFIED:20240626T131111Z
UID:10001063-1723658400-1723669200@aristaeusbrewing.com
SUMMARY:Cornhole League at Charlann Farms
DESCRIPTION:Come out to Charlann Farms on Wednesday nights from June 19 through August 14 (except 7/3) to watch the summer cornhole league sponsored by Aristaeus Craft Brewing Co. and enjoy ice cold beers!\n\nJune 26 – cancelled due to weather.
URL:https://aristaeusbrewing.com/event/cornhole-league-at-charlann-farms-2/2024-08-14/
LOCATION:Charlann Farms\, 586 Stony Hill Road\, Yardley\, PA\, 19067\, United States
CATEGORIES:Off-Site Events
END:VEVENT
BEGIN:VEVENT
DTSTART;TZID=America/New_York:20240818T090000
DTEND;TZID=America/New_York:20240818T130000
DTSTAMP:20260423T223527
CREATED:20240614T155604Z
LAST-MODIFIED:20240614T155604Z
UID:10001045-1723971600-1723986000@aristaeusbrewing.com
SUMMARY:Horsham Farmers Market
DESCRIPTION:
URL:https://aristaeusbrewing.com/event/horsham-farmers-market-6/
LOCATION:Horsham Farmers Market\, 1025 Horsham Road\, Horsham\, PA\, United States
CATEGORIES:Off-Site Events
ATTACH;FMTTYPE=image/jpeg:https://aristaeusbrewing.com/wp-content/uploads/2024/05/aristaeus-at-horsham-farmers-market.jpg
END:VEVENT
BEGIN:VEVENT
DTSTART;TZID=America/New_York:20240824T090000
DTEND;TZID=America/New_York:20240824T120000
DTSTAMP:20260423T223527
CREATED:20240614T155824Z
LAST-MODIFIED:20240614T155824Z
UID:10001049-1724490000-1724500800@aristaeusbrewing.com
SUMMARY:Wrightstown Farmers Market
DESCRIPTION:
URL:https://aristaeusbrewing.com/event/wrightstown-farmers-market-19/
LOCATION:Middletown Grange\, 576 Penns Park Road\, Newtown\, PA\, 18940\, United States
CATEGORIES:Off-Site Events
ATTACH;FMTTYPE=image/jpeg:https://aristaeusbrewing.com/wp-content/uploads/2024/05/aristaeus-at-wrightstown-farmers-market.jpg
END:VEVENT
BEGIN:VEVENT
DTSTART;TZID=America/New_York:20240824T130000
DTEND;TZID=America/New_York:20240824T170000
DTSTAMP:20260423T223527
CREATED:20240819T155400Z
LAST-MODIFIED:20240819T155400Z
UID:10001106-1724504400-1724518800@aristaeusbrewing.com
SUMMARY:Fonthill Castle Beer Fest
DESCRIPTION:Fonthill Castle Beer Fest \n\n 
URL:https://aristaeusbrewing.com/event/fonthill-castle-beer-fest/
LOCATION:Aristaeus Craft Brewing Co.\, 2475C Big Oak Road\, Langhorne\, PA\, 19047\, United States
CATEGORIES:Off-Site Events
GEO:40.71839;-73.989891
X-APPLE-STRUCTURED-LOCATION;VALUE=URI;X-ADDRESS=Aristaeus Craft Brewing Co. 2475C Big Oak Road Langhorne PA 19047 United States;X-APPLE-RADIUS=500;X-TITLE=2475C Big Oak Road:geo:-73.989891,40.71839
END:VEVENT
END:VCALENDAR